{"text_format":"1","workbook":"xlsx","n_sheets":14,"sheets":["4","5","6","7","8","9","10","11","12","1","2","3","請求書・納品書","査定資料"],"not_rendered":{"charts":0,"images":0,"macros":1,"external_links":0,"defined_names":3,"comments":2,"pivot_tables":0},"unopened":[],"bounds":{"document_bytes":16777216,"sheet_cells":100000,"rows_first":2000,"rows_last":500,"rows_between":2000,"halvings":0,"cell_chars":16384,"cell_head_chars":4096},"cells_cut":0,"cells_raw":0,"read":"whole","date_system":"1900"}

{"sheet":"4","index":0,"n_rows":193,"n_cols":42,"rows_kept":193,"cut":false,"hidden":false,"merged":[]}
[2010,1,2,3,4,5,6,7,8,9,10,11,12,13,14,15,16,17,18,19,20,21,22,23,24,25,26,27,28,29,30,31,"計",{"$f":"A1&\"年\"&MID(CELL(\"filename\",$A$1),FIND(\"]\",CELL(\"filename\",$A$1))+1,31) &\"月\"","v":"2010年4月"}]
["今原太一","出","出","公",null,"出","出","出","出","出","公",null,"出","出","出","出","出",null,null,"出","出","出","出","出",null,null,"出","出","出","公","出",null,null,{"$f":"A2","v":"今原太一"},"日数(日)","勤務時間(h)"," 早退（h）","合計(h)","金額(円)","出","　合計",{"$f":"SUM(AM:AM)/2","v":4288338}]
["残業",1,null,null,null,null,0.5,1.5,null,null,null,null,null,0.5,0.5,0.5,null,null,null,null,1,null,null,null,null,null,null,null,null,null,null,null,{"$f":"SUM(B3:AF3)","v":5.5},"　出勤",{"$f":"COUNTIF(B2:AF2,\"出\")","v":21},{"$f":"AI3*7.8","v":163.79999999999998},{"$f":"AG4","v":1},{"$f":"AJ3-AK3","v":162.79999999999998},{"$f":"ROUNDDOWN(AL3*請求書・納品書!$M$11,)","v":358160},"公","　人数",{"$f":"COUNTA(AH:AH)-COUNTIF(AH:AH,0)-32*4-1","v":10}]
["遅・早(出)",null,null,null,null,null,null,null,null,null,null,null,null,null,null,null,null,null,null,1,null,null,null,null,null,null,null,null,null,null,null,null,{"$f":"SUM(B4:AF4)","v":1},"　残業",null,null,null,{"$f":"AG3","v":5.5},{"$f":"ROUNDDOWN(AL4*請求書・納品書!$M$12,)","v":13574},"欠","　管理費",{"$f":"(AP3-AP9)*19400","v":194000}]
["遅・早(公)",null,null,null,null,null,null,null,null,null,null,null,null,null,null,null,null,null,null,null,null,null,null,null,null,null,null,null,null,1,null,null,{"$f":"SUM(B5:AF5)","v":1},"　公出",{"$f":"COUNTIF(B2:AF2,\"公\")","v":3},{"$f":"AI5*7.8","v":23.4},{"$f":"AG5","v":1},{"$f":"AJ5-AK5","v":22.4},{"$f":"ROUNDDOWN(AL5*請求書・納品書!$M$13,)","v":65788},"有","　小計",{"$f":"AP2+AP4","v":4482338}]
["連続",null,null,null,null,null,null,null,null,null,null,null,null,null,null,null,null,null,null,null,null,null,null,null,null,null,null,null,null,null,null,null,{"$f":"SUM(B6:AF6)","v":0},"　連続",null,null,null,{"$f":"AG6","v":0},{"$f":"AL6*請求書・納品書!$M$14","v":0},"半","　消費税",{"$f":"ROUNDDOWN(AP5*0.05,)","v":224116}]
[null,null,null,null,null,null,null,null,null,null,null,null,null,null,null,null,null,null,null,null,null,null,null,null,null,null,null,null,null,null,null,null,null,null,null,null,null,"合　計",{"$f":"SUM(AM3:AM6)","v":437522},null,"　総合計",{"$f":"AP5+AP6","v":4706454}]
["金井雄太","出","出","公",null,"出","出","出","出","出","公",null,"有","有","出","出","出",null,null,"出","有","出","出","出","公",null,"出","出","出","公","出",null,null,{"$f":"A8","v":"金井雄太"},"日数(日)","勤務時間(h)"," 早退（h）","合計(h)","金額(円)"]
["残業",1,null,null,null,null,0.5,1.5,null,null,null,null,null,null,0.5,0.5,null,null,null,null,null,0.5,null,null,null,null,null,null,null,null,null,null,{"$f":"SUM(B9:AF9)","v":4.5},"　出勤",{"$f":"COUNTIF(B8:AF8,\"出\")","v":18},{"$f":"AI9*7.8","v":140.4},{"$f":"AG10","v":1},{"$f":"AJ9-AK9","v":139.4},{"$f":"ROUNDDOWN(AL9*請求書・納品書!$M$11,)","v":306680},null,"管理費に入れない人数"]
["遅・早(出)",null,null,null,null,null,null,null,null,null,null,null,null,null,null,null,null,null,null,1,null,null,null,null,null,null,null,null,null,null,null,null,{"$f":"SUM(B10:AF10)","v":1},"　残業",null,null,null,{"$f":"AG9","v":4.5},{"$f":"ROUNDDOWN(AL10*請求書・納品書!$M$12,)","v":11106}]
["遅・早(公)",null,null,null,null,null,null,null,null,null,null,null,null,null,null,null,null,null,null,null,null,null,null,null,null,null,null,null,null,1,null,null,{"$f":"SUM(B11:AF11)","v":1},"　公出",{"$f":"COUNTIF(B8:AF8,\"公\")","v":4},{"$f":"AI11*7.8","v":31.2},{"$f":"AG11","v":1},{"$f":"AJ11-AK11","v":30.2},{"$f":"ROUNDDOWN(AL11*請求書・納品書!$M$13,)","v":88697}]
["連続",null,null,null,null,null,null,null,null,null,null,null,null,null,null,null,null,null,null,null,null,null,null,null,null,null,null,null,null,null,null,null,{"$f":"SUM(B12:AF12)","v":0},"　連続",null,null,null,{"$f":"AG12","v":0},{"$f":"AL12*請求書・納品書!$M$14","v":0}]
[null,null,null,null,null,null,null,null,null,null,null,null,null,null,null,null,null,null,null,null,null,null,null,null,null,null,null,null,null,null,null,null,null,null,null,null,null,"合　計",{"$f":"SUM(AM9:AM12)","v":406483}]
["広瀬　誠","出","出","公",null,"出","出","出","出","出","公",null,"出","出","出","出","欠",null,null,"出","有","出","出","出",null,null,"出","出","出","公","出",null,null,{"$f":"A14","v":"広瀬　誠"},"日数(日)","勤務時間(h)"," 早退（h）","合計(h)","金額(円)"]
["残業",1,null,null,null,null,0.5,1.5,null,null,null,null,null,0.5,0.5,0.5,null,null,null,null,null,null,null,null,null,null,null,null,null,null,null,null,{"$f":"SUM(B15:AF15)","v":4.5},"　出勤",{"$f":"COUNTIF(B14:AF14,\"出\")","v":19},{"$f":"AI15*7.8","v":148.19999999999999},{"$f":"AG16","v":1},{"$f":"AJ15-AK15","v":147.19999999999999},{"$f":"ROUNDDOWN(AL15*請求書・納品書!$M$11,)","v":323840}]
["遅・早(出)",null,null,null,null,null,null,null,null,null,null,null,null,null,null,null,null,null,null,1,null,null,null,null,null,null,null,null,null,null,null,null,{"$f":"SUM(B16:AF16)","v":1},"　残業",null,null,null,{"$f":"AG15","v":4.5},{"$f":"ROUNDDOWN(AL16*請求書・納品書!$M$12,)","v":11106}]
["遅・早(公)",null,null,null,null,null,null,null,null,null,null,null,null,null,null,null,null,null,null,null,null,null,null,null,null,null,null,null,null,1,null,null,{"$f":"SUM(B17:AF17)","v":1},"　公出",{"$f":"COUNTIF(B14:AF14,\"公\")","v":3},{"$f":"AI17*7.8","v":23.4},{"$f":"AG17","v":1},{"$f":"AJ17-AK17","v":22.4},{"$f":"ROUNDDOWN(AL17*請求書・納品書!$M$13,)","v":65788}]
["連続",null,null,null,null,null,null,null,1,1,1,null,null,null,null,null,null,null,null,null,null,null,null,null,null,null,null,null,null,null,null,null,{"$f":"SUM(B18:AF18)","v":3},"　連続",null,null,null,{"$f":"AG18","v":3},{"$f":"AL18*請求書・納品書!$M$14","v":1290}]
[null,null,null,null,null,null,null,null,null,null,null,null,null,null,null,null,null,null,null,null,null,null,null,null,null,null,null,null,null,null,null,null,null,null,null,null,null,"合　計",{"$f":"SUM(AM15:AM18)","v":402024}]
["田口勝也","出","出","公",null,"出","出","出","出","出","公",null,"有","出","出","出","有",null,null,"出","出","出","出","出","公",null,"出","出","出","公","出",null,null,{"$f":"A20","v":"田口勝也"},"日数(日)","勤務時間(h)"," 早退（h）","合計(h)","金額(円)"]
["残業",1,null,null,null,null,0.5,1.5,null,null,null,null,null,null,null,null,null,null,null,null,1,null,null,null,null,null,1,1,null,null,null,null,{"$f":"SUM(B21:AF21)","v":6},"　出勤",{"$f":"COUNTIF(B20:AF20,\"出\")","v":19},{"$f":"AI21*7.8","v":148.19999999999999},{"$f":"AG22","v":3},{"$f":"AJ21-AK21","v":145.19999999999999},{"$f":"ROUNDDOWN(AL21*請求書・納品書!$M$11,)","v":319440}]
["遅・早(出)",null,null,null,null,null,null,null,null,null,null,null,null,1,1,null,null,null,null,1,null,null,null,null,null,null,null,null,null,null,null,null,{"$f":"SUM(B22:AF22)","v":3},"　残業",null,null,null,{"$f":"AG21","v":6},{"$f":"ROUNDDOWN(AL22*請求書・納品書!$M$12,)","v":14808}]
["遅・早(公)",null,null,null,null,null,null,null,null,null,null,null,null,null,null,null,null,null,null,null,null,null,null,null,null,null,null,null,null,1,null,null,{"$f":"SUM(B23:AF23)","v":1},"　公出",{"$f":"COUNTIF(B20:AF20,\"公\")","v":4},{"$f":"AI23*7.8","v":31.2},{"$f":"AG23","v":1},{"$f":"AJ23-AK23","v":30.2},{"$f":"ROUNDDOWN(AL23*請求書・納品書!$M$13,)","v":88697}]
["連続",null,null,null,null,null,null,null,null,null,null,null,null,null,null,null,null,null,null,null,null,null,null,null,null,null,null,null,null,null,null,null,{"$f":"SUM(B24:AF24)","v":0},"　連続",null,null,null,{"$f":"AG24","v":0},{"$f":"AL24*請求書・納品書!$M$14","v":0}]
[null,null,null,null,null,null,null,null,null,null,null,null,null,null,null,null,null,null,null,null,null,null,null,null,null,null,null,null,null,null,null,null,null,null,null,null,null,"合　計",{"$f":"SUM(AM21:AM24)","v":422945},null,{"$f":"AM7+AM13+AM19+AM25","v":1668974}]
["相沢優斗","出","出","公",null,"出","出","出","出","出","公",null,"出","出","出","出","出",null,null,"出","出","出","出","出","公",null,"出","出","出","公","出",null,null,{"$f":"A26","v":"相沢優斗"},"日数(日)","勤務時間(h)"," 早退（h）","合計(h)","金額(円)"]
["残業",1,null,null,null,null,0.5,1.5,null,null,null,null,null,null,null,null,null,null,null,null,null,0.5,0.5,0.5,null,null,null,1,null,null,null,null,{"$f":"SUM(B27:AF27)","v":5.5},"　出勤",{"$f":"COUNTIF(B26:AF26,\"出\")","v":21},{"$f":"AI27*7.8","v":163.79999999999998},{"$f":"AG28","v":2},{"$f":"AJ27-AK27","v":161.79999999999998},{"$f":"ROUNDDOWN(AL27*請求書・納品書!$M$11,)","v":355960}]
["遅・早(出)",null,null,null,null,null,null,null,null,null,null,null,null,null,null,null,null,null,null,1,null,null,null,null,null,null,1,null,null,null,null,null,{"$f":"SUM(B28:AF28)","v":2},"　残業",null,null,null,{"$f":"AG27","v":5.5},{"$f":"ROUNDDOWN(AL28*請求書・納品書!$M$12,)","v":13574}]
["遅・早(公)",null,null,null,null,null,null,null,null,null,null,null,null,null,null,null,null,null,null,null,null,null,null,null,null,null,null,null,null,1,null,null,{"$f":"SUM(B29:AF29)","v":1},"　公出",{"$f":"COUNTIF(B26:AF26,\"公\")","v":4},{"$f":"AI29*7.8","v":31.2},{"$f":"AG29","v":1},{"$f":"AJ29-AK29","v":30.2},{"$f":"ROUNDDOWN(AL29*請求書・納品書!$M$13,)","v":88697}]
["連続",null,null,null,null,null,null,null,null,null,null,null,null,null,null,null,null,null,null,null,null,null,null,null,null,null,null,null,null,null,null,null,{"$f":"SUM(B30:AF30)","v":0},"　連続",null,null,null,{"$f":"AG30","v":0},{"$f":"AL30*請求書・納品書!$M$14","v":0}]
[null,null,null,null,null,null,null,null,null,null,null,null,null,null,null,null,null,null,null,null,null,null,null,null,null,null,null,null,null,null,null,null,null,null,null,null,null,"合　計",{"$f":"SUM(AM27:AM30)","v":458231}]
["宇野雄介","出","出","公",null,"出","出","出","出","出","公",null,"出","出","出","出","出",null,null,"出","出","出","出","出",null,null,"出","出","出","公","出",null,null,{"$f":"A32","v":"宇野雄介"},"日数(日)","勤務時間(h)"," 早退（h）","合計(h)","金額(円)"]
["残業",1,null,null,null,null,0.5,1.5,1.5,1.5,null,null,null,0.5,0.5,0.5,null,null,null,0.5,0.5,0.5,null,null,null,null,null,null,null,null,null,null,{"$f":"SUM(B33:AF33)","v":9},"　出勤",{"$f":"COUNTIF(B32:AF32,\"出\")","v":21},{"$f":"AI33*7.8","v":163.79999999999998},{"$f":"AG34","v":1},{"$f":"AJ33-AK33","v":162.79999999999998},{"$f":"ROUNDDOWN(AL33*請求書・納品書!$M$11,)","v":358160}]
["遅・早(出)",null,null,null,null,null,null,null,null,null,null,null,null,null,null,null,null,null,null,1,null,null,null,null,null,null,null,null,null,null,null,null,{"$f":"SUM(B34:AF34)","v":1},"　残業",null,null,null,{"$f":"AG33","v":9},{"$f":"ROUNDDOWN(AL34*請求書・納品書!$M$12,)","v":22212}]
["遅・早(公)",null,null,null,null,null,null,null,null,null,null,null,null,null,null,null,null,null,null,null,null,null,null,null,null,null,null,null,null,1,null,null,{"$f":"SUM(B35:AF35)","v":1},"　公出",{"$f":"COUNTIF(B32:AF32,\"公\")","v":3},{"$f":"AI35*7.8","v":23.4},{"$f":"AG35","v":1},{"$f":"AJ35-AK35","v":22.4},{"$f":"ROUNDDOWN(AL35*請求書・納品書!$M$13,)","v":65788}]
["連続",null,null,null,null,null,null,null,null,null,null,null,null,null,null,null,null,null,null,null,null,null,null,null,null,null,null,null,null,null,null,null,{"$f":"SUM(B36:AF36)","v":0},"　連続",null,null,null,{"$f":"AG36","v":0},{"$f":"AL36*請求書・納品書!$M$14","v":0}]
[null,null,null,null,null,null,null,null,null,null,null,null,null,null,null,null,null,null,null,null,null,null,null,null,null,null,null,null,null,null,null,null,null,null,null,null,null,"合　計",{"$f":"SUM(AM33:AM36)","v":446160}]
["遠藤　博","出","出","公",null,"出","出","出","出","出","公",null,"出","出","出","出","出",null,null,"出","出","出","出","出",null,null,"出","出","出","公","出",null,null,{"$f":"A38","v":"遠藤　博"},"日数(日)","勤務時間(h)"," 早退（h）","合計(h)","金額(円)"]
["残業",null,null,null,null,null,null,null,null,null,null,null,null,0.5,0.5,0.5,null,null,null,null,null,null,null,null,null,null,null,null,null,null,null,null,{"$f":"SUM(B39:AF39)","v":1.5},"　出勤",{"$f":"COUNTIF(B38:AF38,\"出\")","v":21},{"$f":"AI39*7.8","v":163.79999999999998},{"$f":"AG40","v":2},{"$f":"AJ39-AK39","v":161.79999999999998},{"$f":"ROUNDDOWN(AL39*請求書・納品書!$M$11,)","v":355960}]
["遅・早(出)",1,null,null,null,null,null,null,null,null,null,null,null,null,null,null,null,null,null,1,null,null,null,null,null,null,null,null,null,null,null,null,{"$f":"SUM(B40:AF40)","v":2},"　残業",null,null,null,{"$f":"AG39","v":1.5},{"$f":"ROUNDDOWN(AL40*請求書・納品書!$M$12,)","v":3702}]
["遅・早(公)",null,null,null,null,null,null,null,null,null,null,null,null,null,null,null,null,null,null,null,null,null,null,null,null,null,null,null,null,1,null,null,{"$f":"SUM(B41:AF41)","v":1},"　公出",{"$f":"COUNTIF(B38:AF38,\"公\")","v":3},{"$f":"AI41*7.8","v":23.4},{"$f":"AG41","v":1},{"$f":"AJ41-AK41","v":22.4},{"$f":"ROUNDDOWN(AL41*請求書・納品書!$M$13,)","v":65788}]
["連続",1,null,null,null,null,null,null,null,null,null,null,1,1,1,1,1,null,null,null,null,1,1,null,null,null,null,null,null,null,null,null,{"$f":"SUM(B42:AF42)","v":8},"　連続",null,null,null,{"$f":"AG42","v":8},{"$f":"AL42*請求書・納品書!$M$14","v":3440}]
[null,null,null,null,null,null,null,null,null,null,null,null,null,null,null,null,null,null,null,null,null,null,null,null,null,null,null,null,null,null,null,null,null,null,null,null,null,"合　計",{"$f":"SUM(AM39:AM42)","v":428890}]
["大山健史","出","出","公",null,"出","出","出","出","出","公",null,"出","出","出","出","出",null,null,"出","出","出","出","出",null,null,"出","出","出","公","出",null,null,{"$f":"A44","v":"大山健史"},"日数(日)","勤務時間(h)"," 早退（h）","合計(h)","金額(円)"]
["残業",null,null,null,null,null,null,null,null,null,null,null,null,null,null,null,null,null,null,null,null,null,null,null,null,null,null,null,null,null,null,null,{"$f":"SUM(B45:AF45)","v":0},"　出勤",{"$f":"COUNTIF(B44:AF44,\"出\")","v":21},{"$f":"AI45*7.8","v":163.79999999999998},{"$f":"AG46","v":0},{"$f":"AJ45-AK45","v":163.79999999999998},{"$f":"ROUNDDOWN(AL45*請求書・納品書!$M$11,)","v":360360}]
["遅・早(出)",null,null,null,null,null,null,null,null,null,null,null,null,null,null,null,null,null,null,null,null,null,null,null,null,null,null,null,null,null,null,null,{"$f":"SUM(B46:AF46)","v":0},"　残業",null,null,null,{"$f":"AG45","v":0},{"$f":"ROUNDDOWN(AL46*請求書・納品書!$M$12,)","v":0}]
["遅・早(公)",null,null,null,null,null,null,null,null,null,null,null,null,null,null,null,null,null,null,null,null,null,null,null,null,null,null,null,null,null,null,null,{"$f":"SUM(B47:AF47)","v":0},"　公出",{"$f":"COUNTIF(B44:AF44,\"公\")","v":3},{"$f":"AI47*7.8","v":23.4},{"$f":"AG47","v":0},{"$f":"AJ47-AK47","v":23.4},{"$f":"ROUNDDOWN(AL47*請求書・納品書!$M$13,)","v":68725}]
["連続",1,null,null,null,null,1,1,null,null,null,null,null,null,null,null,null,null,null,null,null,null,null,null,null,null,null,null,null,null,null,null,{"$f":"SUM(B48:AF48)","v":3},"　連続",null,null,null,{"$f":"AG48","v":3},{"$f":"AL48*請求書・納品書!$M$14","v":1290}]
[null,null,null,null,null,null,null,null,null,null,null,null,null,null,null,null,null,null,null,null,null,null,null,null,null,null,null,null,null,null,null,null,null,null,null,null,null,"合　計",{"$f":"SUM(AM45:AM48)","v":430375},null,{"$f":"AM31+AM37+AM43+AM49","v":1763656}]
["木村智彦","出","出","公",null,"出","出","出","出","出","公",null,"出","出","出","出","出",null,null,"出","出","出","出","出",null,null,"出","出","出","公","出",null,null,{"$f":"A50","v":"木村智彦"},"日数(日)","勤務時間(h)"," 早退（h）","合計(h)","金額(円)"]
["残業",1,null,null,null,null,0.5,1.5,null,null,null,null,null,0.5,0.5,0.5,null,null,null,null,null,null,null,null,null,null,null,null,null,null,null,null,{"$f":"SUM(B51:AF51)","v":4.5},"　出勤",{"$f":"COUNTIF(B50:AF50,\"出\")","v":21},{"$f":"AI51*7.8","v":163.79999999999998},{"$f":"AG52","v":7},{"$f":"AJ51-AK51","v":156.79999999999998},{"$f":"ROUNDDOWN(AL51*請求書・納品書!$M$11,)","v":344960}]
["遅・早(出)",null,1,null,null,null,null,1,1,1,null,null,null,null,null,null,null,null,null,1,null,null,1,1,null,null,null,null,null,null,null,null,{"$f":"SUM(B52:AF52)","v":7},"　残業",null,null,null,{"$f":"AG51","v":4.5},{"$f":"ROUNDDOWN(AL52*請求書・納品書!$M$12,)","v":11106}]
["遅・早(公)",null,null,null,null,null,null,null,null,null,null,null,null,null,null,null,null,null,null,null,null,null,null,null,null,null,null,null,null,1,null,null,{"$f":"SUM(B53:AF53)","v":1},"　公出",{"$f":"COUNTIF(B50:AF50,\"公\")","v":3},{"$f":"AI53*7.8","v":23.4},{"$f":"AG53","v":1},{"$f":"AJ53-AK53","v":22.4},{"$f":"ROUNDDOWN(AL53*請求書・納品書!$M$13,)","v":65788}]
["連続",null,null,null,null,null,null,null,null,null,null,null,null,null,null,null,null,null,null,null,null,null,null,null,null,null,null,null,null,null,null,null,{"$f":"SUM(B54:AF54)","v":0},"　連続",null,null,null,{"$f":"AG54","v":0},{"$f":"AL54*請求書・納品書!$M$14","v":0}]
[null,null,null,null,null,null,null,null,null,null,null,null,null,null,null,null,null,null,null,null,null,null,null,null,null,null,null,null,null,null,null,null,null,null,null,null,null,"合　計",{"$f":"SUM(AM51:AM54)","v":421854}]
["久米博一","出","出","公",null,"出","出","出","出","出","公",null,"出","出","出","出","出",null,null,"出","出","出","出","出",null,null,"出","出","出","公","出",null,null,{"$f":"A56","v":"久米博一"},"日数(日)","勤務時間(h)"," 早退（h）","合計(h)","金額(円)"]
["残業",null,null,1,null,null,1,1.5,null,0.5,null,null,null,0.5,0.5,0.5,null,null,null,null,null,null,null,null,null,null,null,null,null,null,null,null,{"$f":"SUM(B57:AF57)","v":5.5},"　出勤",{"$f":"COUNTIF(B56:AF56,\"出\")","v":21},{"$f":"AI57*7.8","v":163.79999999999998},{"$f":"AG58","v":2},{"$f":"AJ57-AK57","v":161.79999999999998},{"$f":"ROUNDDOWN(AL57*請求書・納品書!$M$11,)","v":355960}]
["遅・早(出)",null,null,null,null,null,null,null,null,null,null,null,null,null,null,null,null,null,null,1,null,null,1,null,null,null,null,null,null,null,null,null,{"$f":"SUM(B58:AF58)","v":2},"　残業",null,null,null,{"$f":"AG57","v":5.5},{"$f":"ROUNDDOWN(AL58*請求書・納品書!$M$12,)","v":13574}]
["遅・早(公)",null,null,null,null,null,null,null,null,null,0.5,null,null,null,null,null,null,null,null,null,null,null,null,null,null,null,null,null,null,1,null,null,{"$f":"SUM(B59:AF59)","v":1.5},"　公出",{"$f":"COUNTIF(B56:AF56,\"公\")","v":3},{"$f":"AI59*7.8","v":23.4},{"$f":"AG59","v":1.5},{"$f":"AJ59-AK59","v":21.9},{"$f":"ROUNDDOWN(AL59*請求書・納品書!$M$13,)","v":64320}]
["連続",null,null,null,null,null,null,null,null,null,null,null,null,null,null,null,null,null,null,null,null,null,null,null,null,null,null,null,null,null,null,null,{"$f":"SUM(B60:AF60)","v":0},"　連続",null,null,null,{"$f":"AG60","v":0},{"$f":"AL60*請求書・納品書!$M$14","v":0}]
[null,null,null,null,null,null,null,null,null,null,null,null,null,null,null,null,null,null,null,null,null,null,null,null,null,null,null,null,null,null,null,null,null,null,null,null,null,"合　計",{"$f":"SUM(AM57:AM60)","v":433854}]
[null,null,null,null,null,null,null,null,null,null,null,null,null,null,null,null,null,null,null,null,null,null,null,null,null,null,null,null,null,null,null,null,null,{"$f":"A62","v":0},"日数(日)","勤務時間(h)"," 早退（h）","合計(h)","金額(円)"]
["残業",null,null,null,null,null,null,null,null,null,null,null,null,null,null,null,null,null,null,null,null,null,null,null,null,null,null,null,null,null,null,null,{"$f":"SUM(B63:AF63)","v":0},"　出勤",{"$f":"COUNTIF(B62:AF62,\"出\")","v":0},{"$f":"AI63*7.8","v":0},{"$f":"AG64","v":0},{"$f":"AJ63-AK63","v":0},{"$f":"ROUNDDOWN(AL63*請求書・納品書!$M$11,)","v":0}]
["遅・早(出)",null,null,null,null,null,null,null,null,null,null,null,null,null,null,null,null,null,null,null,null,null,null,null,null,null,null,null,null,null,null,null,{"$f":"SUM(B64:AF64)","v":0},"　残業",null,null,null,{"$f":"AG63","v":0},{"$f":"ROUNDDOWN(AL64*請求書・納品書!$M$12,)","v":0}]
["遅・早(公)",null,null,null,null,null,null,null,null,null,null,null,null,null,null,null,null,null,null,null,null,null,null,null,null,null,null,null,null,null,null,null,{"$f":"SUM(B65:AF65)","v":0},"　公出",{"$f":"COUNTIF(B62:AF62,\"公\")","v":0},{"$f":"AI65*7.8","v":0},{"$f":"AG65","v":0},{"$f":"AJ65-AK65","v":0},{"$f":"ROUNDDOWN(AL65*請求書・納品書!$M$13,)","v":0}]
["連続",null,null,null,null,null,null,null,null,null,null,null,null,null,null,null,null,null,null,null,null,null,null,null,null,null,null,null,null,null,null,null,{"$f":"SUM(B66:AF66)","v":0},"　連続",null,null,null,{"$f":"AG66","v":0},{"$f":"AL66*請求書・納品書!$M$14","v":0}]
[null,null,null,null,null,null,null,null,null,null,null,null,null,null,null,null,null,null,null,null,null,null,null,null,null,null,null,null,null,null,null,null,null,null,null,null,null,"合　計",{"$f":"SUM(AM63:AM66)","v":0}]
[null,null,null,null,null,null,null,null,null,null,null,null,null,null,null,null,null,null,null,null,null,null,null,null,null,null,null,null,null,null,null,null,null,{"$f":"A68","v":0},"日数(日)","勤務時間(h)"," 早退（h）","合計(h)","金額(円)"]
["残業",null,null,null,null,null,null,null,null,null,null,null,null,null,null,null,null,null,null,null,null,null,null,null,null,null,null,null,null,null,null,null,{"$f":"SUM(B69:AF69)","v":0},"　出勤",{"$f":"COUNTIF(B68:AF68,\"出\")","v":0},{"$f":"AI69*7.8","v":0},{"$f":"AG70","v":0},{"$f":"AJ69-AK69","v":0},{"$f":"ROUNDDOWN(AL69*請求書・納品書!$M$11,)","v":0}]
["遅・早(出)",null,null,null,null,null,null,null,null,null,null,null,null,null,null,null,null,null,null,null,null,null,null,null,null,null,null,null,null,null,null,null,{"$f":"SUM(B70:AF70)","v":0},"　残業",null,null,null,{"$f":"AG69","v":0},{"$f":"ROUNDDOWN(AL70*請求書・納品書!$M$12,)","v":0}]
["遅・早(公)",null,null,null,null,null,null,null,null,null,null,null,null,null,null,null,null,null,null,null,null,null,null,null,null,null,null,null,null,null,null,null,{"$f":"SUM(B71:AF71)","v":0},"　公出",{"$f":"COUNTIF(B68:AF68,\"公\")","v":0},{"$f":"AI71*7.8","v":0},{"$f":"AG71","v":0},{"$f":"AJ71-AK71","v":0},{"$f":"ROUNDDOWN(AL71*請求書・納品書!$M$13,)","v":0}]
["連続",null,null,null,null,null,null,null,null,null,null,null,null,null,null,null,null,null,null,null,null,null,null,null,null,null,null,null,null,null,null,null,{"$f":"SUM(B72:AF72)","v":0},"　連続",null,null,null,{"$f":"AG72","v":0},{"$f":"AL72*請求書・納品書!$M$14","v":0}]
[null,null,null,null,null,null,null,null,null,null,null,null,null,null,null,null,null,null,null,null,null,null,null,null,null,null,null,null,null,null,null,null,null,null,null,null,null,"合　計",{"$f":"SUM(AM69:AM72)","v":0},null,{"$f":"AM55+AM61+AM67+AM73","v":855708}]
[null,null,null,null,null,null,null,null,null,null,null,null,null,null,null,null,null,null,null,null,null,null,null,null,null,null,null,null,null,null,null,null,null,{"$f":"A74","v":0},"日数(日)","勤務時間(h)"," 早退（h）","合計(h)","金額(円)"]
["残業",null,null,null,null,null,null,null,null,null,null,null,null,null,null,null,null,null,null,null,null,null,null,null,null,null,null,null,null,null,null,null,{"$f":"SUM(B75:AF75)","v":0},"　出勤",{"$f":"COUNTIF(B74:AF74,\"出\")","v":0},{"$f":"AI75*7.8","v":0},{"$f":"AG76","v":0},{"$f":"AJ75-AK75","v":0},{"$f":"ROUNDDOWN(AL75*請求書・納品書!$M$11,)","v":0}]
["遅・早(出)",null,null,null,null,null,null,null,null,null,null,null,null,null,null,null,null,null,null,null,null,null,null,null,null,null,null,null,null,null,null,null,{"$f":"SUM(B76:AF76)","v":0},"　残業",null,null,null,{"$f":"AG75","v":0},{"$f":"ROUNDDOWN(AL76*請求書・納品書!$M$12,)","v":0}]
["遅・早(公)",null,null,null,null,null,null,null,null,null,null,null,null,null,null,null,null,null,null,null,null,null,null,null,null,null,null,null,null,null,null,null,{"$f":"SUM(B77:AF77)","v":0},"　公出",{"$f":"COUNTIF(B74:AF74,\"公\")","v":0},{"$f":"AI77*7.8","v":0},{"$f":"AG77","v":0},{"$f":"AJ77-AK77","v":0},{"$f":"ROUNDDOWN(AL77*請求書・納品書!$M$13,)","v":0}]
["連続",null,null,null,null,null,null,null,null,null,null,null,null,null,null,null,null,null,null,null,null,null,null,null,null,null,null,null,null,null,null,null,{"$f":"SUM(B78:AF78)","v":0},"　連続",null,null,null,{"$f":"AG78","v":0},{"$f":"AL78*請求書・納品書!$M$14","v":0}]
[null,null,null,null,null,null,null,null,null,null,null,null,null,null,null,null,null,null,null,null,null,null,null,null,null,null,null,null,null,null,null,null,null,null,null,null,null,"合　計",{"$f":"SUM(AM75:AM78)","v":0}]
[null,null,null,null,null,null,null,null,null,null,null,null,null,null,null,null,null,null,null,null,null,null,null,null,null,null,null,null,null,null,null,null,null,{"$f":"A80","v":0},"日数(日)","勤務時間(h)"," 早退（h）","合計(h)","金額(円)"]
["残業",null,null,null,null,null,null,null,null,null,null,null,null,null,null,null,null,null,null,null,null,null,null,null,null,null,null,null,null,null,null,null,{"$f":"SUM(B81:AF81)","v":0},"　出勤",{"$f":"COUNTIF(B80:AF80,\"出\")","v":0},{"$f":"AI81*7.8","v":0},{"$f":"AG82","v":0},{"$f":"AJ81-AK81","v":0},{"$f":"ROUNDDOWN(AL81*請求書・納品書!$M$11,)","v":0}]
["遅・早(出)",null,null,null,null,null,null,null,null,null,null,null,null,null,null,null,null,null,null,null,null,null,null,null,null,null,null,null,null,null,null,null,{"$f":"SUM(B82:AF82)","v":0},"　残業",null,null,null,{"$f":"AG81","v":0},{"$f":"ROUNDDOWN(AL82*請求書・納品書!$M$12,)","v":0}]
["遅・早(公)",null,null,null,null,null,null,null,null,null,null,null,null,null,null,null,null,null,null,null,null,null,null,null,null,null,null,null,null,null,null,null,{"$f":"SUM(B83:AF83)","v":0},"　公出",{"$f":"COUNTIF(B80:AF80,\"公\")","v":0},{"$f":"AI83*7.8","v":0},{"$f":"AG83","v":0},{"$f":"AJ83-AK83","v":0},{"$f":"ROUNDDOWN(AL83*請求書・納品書!$M$13,)","v":0}]
["連続",null,null,null,null,null,null,null,null,null,null,null,null,null,null,null,null,null,null,null,null,null,null,null,null,null,null,null,null,null,null,null,{"$f":"SUM(B84:AF84)","v":0},"　連続",null,null,null,{"$f":"AG84","v":0},{"$f":"AL84*請求書・納品書!$M$14","v":0}]
[null,null,null,null,null,null,null,null,null,null,null,null,null,null,null,null,null,null,null,null,null,null,null,null,null,null,null,null,null,null,null,null,null,null,null,null,null,"合　計",{"$f":"SUM(AM81:AM84)","v":0}]
[null,null,null,null,null,null,null,null,null,null,null,null,null,null,null,null,null,null,null,null,null,null,null,null,null,null,null,null,null,null,null,null,null,{"$f":"A86","v":0},"日数(日)","勤務時間(h)"," 早退（h）","合計(h)","金額(円)"]
["残業",null,null,null,null,null,null,null,null,null,null,null,null,null,null,null,null,null,null,null,null,null,null,null,null,null,null,null,null,null,null,null,{"$f":"SUM(B87:AF87)","v":0},"　出勤",{"$f":"COUNTIF(B86:AF86,\"出\")","v":0},{"$f":"AI87*7.8","v":0},{"$f":"AG88","v":0},{"$f":"AJ87-AK87","v":0},{"$f":"ROUNDDOWN(AL87*請求書・納品書!$M$11,)","v":0}]
["遅・早(出)",null,null,null,null,null,null,null,null,null,null,null,null,null,null,null,null,null,null,null,null,null,null,null,null,null,null,null,null,null,null,null,{"$f":"SUM(B88:AF88)","v":0},"　残業",null,null,null,{"$f":"AG87","v":0},{"$f":"ROUNDDOWN(AL88*請求書・納品書!$M$12,)","v":0}]
["遅・早(公)",null,null,null,null,null,null,null,null,null,null,null,null,null,null,null,null,null,null,null,null,null,null,null,null,null,null,null,null,null,null,null,{"$f":"SUM(B89:AF89)","v":0},"　公出",{"$f":"COUNTIF(B86:AF86,\"公\")","v":0},{"$f":"AI89*7.8","v":0},{"$f":"AG89","v":0},{"$f":"AJ89-AK89","v":0},{"$f":"ROUNDDOWN(AL89*請求書・納品書!$M$13,)","v":0}]
["連続",null,null,null,null,null,null,null,null,null,null,null,null,null,null,null,null,null,null,null,null,null,null,null,null,null,null,null,null,null,null,null,{"$f":"SUM(B90:AF90)","v":0},"　連続",null,null,null,{"$f":"AG90","v":0},{"$f":"AL90*請求書・納品書!$M$14","v":0}]
[null,null,null,null,null,null,null,null,null,null,null,null,null,null,null,null,null,null,null,null,null,null,null,null,null,null,null,null,null,null,null,null,null,null,null,null,null,"合　計",{"$f":"SUM(AM87:AM90)","v":0}]
[null,null,null,null,null,null,null,null,null,null,null,null,null,null,null,null,null,null,null,null,null,null,null,null,null,null,null,null,null,null,null,null,null,{"$f":"A92","v":0},"日数(日)","勤務時間(h)"," 早退（h）","合計(h)","金額(円)"]
["残業",null,null,null,null,null,null,null,null,null,null,null,null,null,null,null,null,null,null,null,null,null,null,null,null,null,null,null,null,null,null,null,{"$f":"SUM(B93:AF93)","v":0},"　出勤",{"$f":"COUNTIF(B92:AF92,\"出\")","v":0},{"$f":"AI93*7.8","v":0},{"$f":"AG94","v":0},{"$f":"AJ93-AK93","v":0},{"$f":"ROUNDDOWN(AL93*請求書・納品書!$M$11,)","v":0}]
["遅・早(出)",null,null,null,null,null,null,null,null,null,null,null,null,null,null,null,null,null,null,null,null,null,null,null,null,null,null,null,null,null,null,null,{"$f":"SUM(B94:AF94)","v":0},"　残業",null,null,null,{"$f":"AG93","v":0},{"$f":"ROUNDDOWN(AL94*請求書・納品書!$M$12,)","v":0}]
["遅・早(公)",null,null,null,null,null,null,null,null,null,null,null,null,null,null,null,null,null,null,null,null,null,null,null,null,null,null,null,null,null,null,null,{"$f":"SUM(B95:AF95)","v":0},"　公出",{"$f":"COUNTIF(B92:AF92,\"公\")","v":0},{"$f":"AI95*7.8","v":0},{"$f":"AG95","v":0},{"$f":"AJ95-AK95","v":0},{"$f":"ROUNDDOWN(AL95*請求書・納品書!$M$13,)","v":0}]
["連続",null,null,null,null,null,null,null,null,null,null,null,null,null,null,null,null,null,null,null,null,null,null,null,null,null,null,null,null,null,null,null,{"$f":"SUM(B96:AF96)","v":0},"　連続",null,null,null,{"$f":"AG96","v":0},{"$f":"AL96*請求書・納品書!$M$14","v":0}]
[null,null,null,null,null,null,null,null,null,null,null,null,null,null,null,null,null,null,null,null,null,null,null,null,null,null,null,null,null,null,null,null,null,null,null,null,null,"合　計",{"$f":"SUM(AM93:AM96)","v":0},null,{"$f":"AM79+AM85+AM91+AM97","v":0}]
[null,null,null,null,null,null,null,null,null,null,null,null,null,null,null,null,null,null,null,null,null,null,null,null,null,null,null,null,null,null,null,null,null,{"$f":"A98","v":0},"日数(日)","勤務時間(h)"," 早退（h）","合計(h)","金額(円)"]
["残業",null,null,null,null,null,null,null,null,null,null,null,null,null,null,null,null,null,null,null,null,null,null,null,null,null,null,null,null,null,null,null,{"$f":"SUM(B99:AF99)","v":0},"　出勤",{"$f":"COUNTIF(B98:AF98,\"出\")","v":0},{"$f":"AI99*7.8","v":0},{"$f":"AG100","v":0},{"$f":"AJ99-AK99","v":0},{"$f":"ROUNDDOWN(AL99*請求書・納品書!$M$11,)","v":0}]
["遅・早(出)",null,null,null,null,null,null,null,null,null,null,null,null,null,null,null,null,null,null,null,null,null,null,null,null,null,null,null,null,null,null,null,{"$f":"SUM(B100:AF100)","v":0},"　残業",null,null,null,{"$f":"AG99","v":0},{"$f":"ROUNDDOWN(AL100*請求書・納品書!$M$12,)","v":0}]
["遅・早(公)",null,null,null,null,null,null,null,null,null,null,null,null,null,null,null,null,null,null,null,null,null,null,null,null,null,null,null,null,null,null,null,{"$f":"SUM(B101:AF101)","v":0},"　公出",{"$f":"COUNTIF(B98:AF98,\"公\")","v":0},{"$f":"AI101*7.8","v":0},{"$f":"AG101","v":0},{"$f":"AJ101-AK101","v":0},{"$f":"ROUNDDOWN(AL101*請求書・納品書!$M$13,)","v":0}]
["連続",null,null,null,null,null,null,null,null,null,null,null,null,null,null,null,null,null,null,null,null,null,null,null,null,null,null,null,null,null,null,null,{"$f":"SUM(B102:AF102)","v":0},"　連続",null,null,null,{"$f":"AG102","v":0},{"$f":"AL102*請求書・納品書!$M$14","v":0}]
[null,null,null,null,null,null,null,null,null,null,null,null,null,null,null,null,null,null,null,null,null,null,null,null,null,null,null,null,null,null,null,null,null,null,null,null,null,"合　計",{"$f":"SUM(AM99:AM102)","v":0}]
[null,null,null,null,null,null,null,null,null,null,null,null,null,null,null,null,null,null,null,null,null,null,null,null,null,null,null,null,null,null,null,null,null,{"$f":"A104","v":0},"日数(日)","勤務時間(h)"," 早退（h）","合計(h)","金額(円)"]
["残業",null,null,null,null,null,null,null,null,null,null,null,null,null,null,null,null,null,null,null,null,null,null,null,null,null,null,null,null,null,null,null,{"$f":"SUM(B105:AF105)","v":0},"　出勤",{"$f":"COUNTIF(B104:AF104,\"出\")","v":0},{"$f":"AI105*7.8","v":0},{"$f":"AG106","v":0},{"$f":"AJ105-AK105","v":0},{"$f":"ROUNDDOWN(AL105*請求書・納品書!$M$11,)","v":0}]
["遅・早(出)",null,null,null,null,null,null,null,null,null,null,null,null,null,null,null,null,null,null,null,null,null,null,null,null,null,null,null,null,null,null,null,{"$f":"SUM(B106:AF106)","v":0},"　残業",null,null,null,{"$f":"AG105","v":0},{"$f":"ROUNDDOWN(AL106*請求書・納品書!$M$12,)","v":0}]
["遅・早(公)",null,null,null,null,null,null,null,null,null,null,null,null,null,null,null,null,null,null,null,null,null,null,null,null,null,null,null,null,null,null,null,{"$f":"SUM(B107:AF107)","v":0},"　公出",{"$f":"COUNTIF(B104:AF104,\"公\")","v":0},{"$f":"AI107*7.8","v":0},{"$f":"AG107","v":0},{"$f":"AJ107-AK107","v":0},{"$f":"ROUNDDOWN(AL107*請求書・納品書!$M$13,)","v":0}]
["連続",null,null,null,null,null,null,null,null,null,null,null,null,null,null,null,null,null,null,null,null,null,null,null,null,null,null,null,null,null,null,null,{"$f":"SUM(B108:AF108)","v":0},"　連続",null,null,null,{"$f":"AG108","v":0},{"$f":"AL108*請求書・納品書!$M$14","v":0}]
[null,null,null,null,null,null,null,null,null,null,null,null,null,null,null,null,null,null,null,null,null,null,null,null,null,null,null,null,null,null,null,null,null,null,null,null,null,"合　計",{"$f":"SUM(AM105:AM108)","v":0}]
[null,null,null,null,null,null,null,null,null,null,null,null,null,null,null,null,null,null,null,null,null,null,null,null,null,null,null,null,null,null,null,null,null,{"$f":"A110","v":0},"日数(日)","勤務時間(h)"," 早退（h）","合計(h)","金額(円)"]
["残業",null,null,null,null,null,null,null,null,null,null,null,null,null,null,null,null,null,null,null,null,null,null,null,null,null,null,null,null,null,null,null,{"$f":"SUM(B111:AF111)","v":0},"　出勤",{"$f":"COUNTIF(B110:AF110,\"出\")","v":0},{"$f":"AI111*7.8","v":0},{"$f":"AG112","v":0},{"$f":"AJ111-AK111","v":0},{"$f":"ROUNDDOWN(AL111*請求書・納品書!$M$11,)","v":0}]
["遅・早(出)",null,null,null,null,null,null,null,null,null,null,null,null,null,null,null,null,null,null,null,null,null,null,null,null,null,null,null,null,null,null,null,{"$f":"SUM(B112:AF112)","v":0},"　残業",null,null,null,{"$f":"AG111","v":0},{"$f":"ROUNDDOWN(AL112*請求書・納品書!$M$12,)","v":0}]
["遅・早(公)",null,null,null,null,null,null,null,null,null,null,null,null,null,null,null,null,null,null,null,null,null,null,null,null,null,null,null,null,null,null,null,{"$f":"SUM(B113:AF113)","v":0},"　公出",{"$f":"COUNTIF(B110:AF110,\"公\")","v":0},{"$f":"AI113*7.8","v":0},{"$f":"AG113","v":0},{"$f":"AJ113-AK113","v":0},{"$f":"ROUNDDOWN(AL113*請求書・納品書!$M$13,)","v":0}]
["連続",null,null,null,null,null,null,null,null,null,null,null,null,null,null,null,null,null,null,null,null,null,null,null,null,null,null,null,null,null,null,null,{"$f":"SUM(B114:AF114)","v":0},"　連続",null,null,null,{"$f":"AG114","v":0},{"$f":"AL114*請求書・納品書!$M$14","v":0}]
[null,null,null,null,null,null,null,null,null,null,null,null,null,null,null,null,null,null,null,null,null,null,null,null,null,null,null,null,null,null,null,null,null,null,null,null,null,"合　計",{"$f":"SUM(AM111:AM114)","v":0}]
[null,null,null,null,null,null,null,null,null,null,null,null,null,null,null,null,null,null,null,null,null,null,null,null,null,null,null,null,null,null,null,null,null,{"$f":"A116","v":0},"日数(日)","勤務時間(h)"," 早退（h）","合計(h)","金額(円)"]
["残業",null,null,null,null,null,null,null,null,null,null,null,null,null,null,null,null,null,null,null,null,null,null,null,null,null,null,null,null,null,null,null,{"$f":"SUM(B117:AF117)","v":0},"　出勤",{"$f":"COUNTIF(B116:AF116,\"出\")","v":0},{"$f":"AI117*7.8","v":0},{"$f":"AG118","v":0},{"$f":"AJ117-AK117","v":0},{"$f":"ROUNDDOWN(AL117*請求書・納品書!$M$11,)","v":0}]
["遅・早(出)",null,null,null,null,null,null,null,null,null,null,null,null,null,null,null,null,null,null,null,null,null,null,null,null,null,null,null,null,null,null,null,{"$f":"SUM(B118:AF118)","v":0},"　残業",null,null,null,{"$f":"AG117","v":0},{"$f":"ROUNDDOWN(AL118*請求書・納品書!$M$12,)","v":0}]
["遅・早(公)",null,null,null,null,null,null,null,null,null,null,null,null,null,null,null,null,null,null,null,null,null,null,null,null,null,null,null,null,null,null,null,{"$f":"SUM(B119:AF119)","v":0},"　公出",{"$f":"COUNTIF(B116:AF116,\"公\")","v":0},{"$f":"AI119*7.8","v":0},{"$f":"AG119","v":0},{"$f":"AJ119-AK119","v":0},{"$f":"ROUNDDOWN(AL119*請求書・納品書!$M$13,)","v":0}]
["連続",null,null,null,null,null,null,null,null,null,null,null,null,null,null,null,null,null,null,null,null,null,null,null,null,null,null,null,null,null,null,null,{"$f":"SUM(B120:AF120)","v":0},"　連続",null,null,null,{"$f":"AG120","v":0},{"$f":"AL120*請求書・納品書!$M$14","v":0}]
[null,null,null,null,null,null,null,null,null,null,null,null,null,null,null,null,null,null,null,null,null,null,null,null,null,null,null,null,null,null,null,null,null,null,null,null,null,"合　計",{"$f":"SUM(AM117:AM120)","v":0},null,{"$f":"AM103+AM109+AM115+AM121","v":0}]
[null,null,null,null,null,null,null,null,null,null,null,null,null,null,null,null,null,null,null,null,null,null,null,null,null,null,null,null,null,null,null,null,null,{"$f":"A122","v":0},"日数(日)","勤務時間(h)"," 早退（h）","合計(h)","金額(円)"]
["残業",null,null,null,null,null,null,null,null,null,null,null,null,null,null,null,null,null,null,null,null,null,null,null,null,null,null,null,null,null,null,null,{"$f":"SUM(B123:AF123)","v":0},"　出勤",{"$f":"COUNTIF(B122:AF122,\"出\")","v":0},{"$f":"AI123*7.8","v":0},{"$f":"AG124","v":0},{"$f":"AJ123-AK123","v":0},{"$f":"ROUNDDOWN(AL123*請求書・納品書!$M$11,)","v":0}]
["遅・早(出)",null,null,null,null,null,null,null,null,null,null,null,null,null,null,null,null,null,null,null,null,null,null,null,null,null,null,null,null,null,null,null,{"$f":"SUM(B124:AF124)","v":0},"　残業",null,null,null,{"$f":"AG123","v":0},{"$f":"ROUNDDOWN(AL124*請求書・納品書!$M$12,)","v":0}]
["遅・早(公)",null,null,null,null,null,null,null,null,null,null,null,null,null,null,null,null,null,null,null,null,null,null,null,null,null,null,null,null,null,null,null,{"$f":"SUM(B125:AF125)","v":0},"　公出",{"$f":"COUNTIF(B122:AF122,\"公\")","v":0},{"$f":"AI125*7.8","v":0},{"$f":"AG125","v":0},{"$f":"AJ125-AK125","v":0},{"$f":"ROUNDDOWN(AL125*請求書・納品書!$M$13,)","v":0}]
["連続",null,null,null,null,null,null,null,null,null,null,null,null,null,null,null,null,null,null,null,null,null,null,null,null,null,null,null,null,null,null,null,{"$f":"SUM(B126:AF126)","v":0},"　連続",null,null,null,{"$f":"AG126","v":0},{"$f":"AL126*請求書・納品書!$M$14","v":0}]
[null,null,null,null,null,null,null,null,null,null,null,null,null,null,null,null,null,null,null,null,null,null,null,null,null,null,null,null,null,null,null,null,null,null,null,null,null,"合　計",{"$f":"SUM(AM123:AM126)","v":0}]
[null,null,null,null,null,null,null,null,null,null,null,null,null,null,null,null,null,null,null,null,null,null,null,null,null,null,null,null,null,null,null,null,null,{"$f":"A128","v":0},"日数(日)","勤務時間(h)"," 早退（h）","合計(h)","金額(円)"]
["残業",null,null,null,null,null,null,null,null,null,null,null,null,null,null,null,null,null,null,null,null,null,null,null,null,null,null,null,null,null,null,null,{"$f":"SUM(B129:AF129)","v":0},"　出勤",{"$f":"COUNTIF(B128:AF128,\"出\")","v":0},{"$f":"AI129*7.8","v":0},{"$f":"AG130","v":0},{"$f":"AJ129-AK129","v":0},{"$f":"ROUNDDOWN(AL129*請求書・納品書!$M$11,)","v":0}]
["遅・早(出)",null,null,null,null,null,null,null,null,null,null,null,null,null,null,null,null,null,null,null,null,null,null,null,null,null,null,null,null,null,null,null,{"$f":"SUM(B130:AF130)","v":0},"　残業",null,null,null,{"$f":"AG129","v":0},{"$f":"ROUNDDOWN(AL130*請求書・納品書!$M$12,)","v":0}]
["遅・早(公)",null,null,null,null,null,null,null,null,null,null,null,null,null,null,null,null,null,null,null,null,null,null,null,null,null,null,null,null,null,null,null,{"$f":"SUM(B131:AF131)","v":0},"　公出",{"$f":"COUNTIF(B128:AF128,\"公\")","v":0},{"$f":"AI131*7.8","v":0},{"$f":"AG131","v":0},{"$f":"AJ131-AK131","v":0},{"$f":"ROUNDDOWN(AL131*請求書・納品書!$M$13,)","v":0}]
["連続",null,null,null,null,null,null,null,null,null,null,null,null,null,null,null,null,null,null,null,null,null,null,null,null,null,null,null,null,null,null,null,{"$f":"SUM(B132:AF132)","v":0},"　連続",null,null,null,{"$f":"AG132","v":0},{"$f":"AL132*請求書・納品書!$M$14","v":0}]
[null,null,null,null,null,null,null,null,null,null,null,null,null,null,null,null,null,null,null,null,null,null,null,null,null,null,null,null,null,null,null,null,null,null,null,null,null,"合　計",{"$f":"SUM(AM129:AM132)","v":0}]
[null,null,null,null,null,null,null,null,null,null,null,null,null,null,null,null,null,null,null,null,null,null,null,null,null,null,null,null,null,null,null,null,null,{"$f":"A134","v":0},"日数(日)","勤務時間(h)"," 早退（h）","合計(h)","金額(円)"]
["残業",null,null,null,null,null,null,null,null,null,null,null,null,null,null,null,null,null,null,null,null,null,null,null,null,null,null,null,null,null,null,null,{"$f":"SUM(B135:AF135)","v":0},"　出勤",{"$f":"COUNTIF(B134:AF134,\"出\")","v":0},{"$f":"AI135*7.8","v":0},{"$f":"AG136","v":0},{"$f":"AJ135-AK135","v":0},{"$f":"ROUNDDOWN(AL135*請求書・納品書!$M$11,)","v":0}]
["遅・早(出)",null,null,null,null,null,null,null,null,null,null,null,null,null,null,null,null,null,null,null,null,null,null,null,null,null,null,null,null,null,null,null,{"$f":"SUM(B136:AF136)","v":0},"　残業",null,null,null,{"$f":"AG135","v":0},{"$f":"ROUNDDOWN(AL136*請求書・納品書!$M$12,)","v":0}]
["遅・早(公)",null,null,null,null,null,null,null,null,null,null,null,null,null,null,null,null,null,null,null,null,null,null,null,null,null,null,null,null,null,null,null,{"$f":"SUM(B137:AF137)","v":0},"　公出",{"$f":"COUNTIF(B134:AF134,\"公\")","v":0},{"$f":"AI137*7.8","v":0},{"$f":"AG137","v":0},{"$f":"AJ137-AK137","v":0},{"$f":"ROUNDDOWN(AL137*請求書・納品書!$M$13,)","v":0}]
["連続",null,null,null,null,null,null,null,null,null,null,null,null,null,null,null,null,null,null,null,null,null,null,null,null,null,null,null,null,null,null,null,{"$f":"SUM(B138:AF138)","v":0},"　連続",null,null,null,{"$f":"AG138","v":0},{"$f":"AL138*請求書・納品書!$M$14","v":0}]
[null,null,null,null,null,null,null,null,null,null,null,null,null,null,null,null,null,null,null,null,null,null,null,null,null,null,null,null,null,null,null,null,null,null,null,null,null,"合　計",{"$f":"SUM(AM135:AM138)","v":0}]
[null,null,null,null,null,null,null,null,null,null,null,null,null,null,null,null,null,null,null,null,null,null,null,null,null,null,null,null,null,null,null,null,null,{"$f":"A140","v":0},"日数(日)","勤務時間(h)"," 早退（h）","合計(h)","金額(円)"]
["残業",null,null,null,null,null,null,null,null,null,null,null,null,null,null,null,null,null,null,null,null,null,null,null,null,null,null,null,null,null,null,null,{"$f":"SUM(B141:AF141)","v":0},"　出勤",{"$f":"COUNTIF(B140:AF140,\"出\")","v":0},{"$f":"AI141*7.8","v":0},{"$f":"AG142","v":0},{"$f":"AJ141-AK141","v":0},{"$f":"ROUNDDOWN(AL141*請求書・納品書!$M$11,)","v":0}]
["遅・早(出)",null,null,null,null,null,null,null,null,null,null,null,null,null,null,null,null,null,null,null,null,null,null,null,null,null,null,null,null,null,null,null,{"$f":"SUM(B142:AF142)","v":0},"　残業",null,null,null,{"$f":"AG141","v":0},{"$f":"ROUNDDOWN(AL142*請求書・納品書!$M$12,)","v":0}]
["遅・早(公)",null,null,null,null,null,null,null,null,null,null,null,null,null,null,null,null,null,null,null,null,null,null,null,null,null,null,null,null,null,null,null,{"$f":"SUM(B143:AF143)","v":0},"　公出",{"$f":"COUNTIF(B140:AF140,\"公\")","v":0},{"$f":"AI143*7.8","v":0},{"$f":"AG143","v":0},{"$f":"AJ143-AK143","v":0},{"$f":"ROUNDDOWN(AL143*請求書・納品書!$M$13,)","v":0}]
["連続",null,null,null,null,null,null,null,null,null,null,null,null,null,null,null,null,null,null,null,null,null,null,null,null,null,null,null,null,null,null,null,{"$f":"SUM(B144:AF144)","v":0},"　連続",null,null,null,{"$f":"AG144","v":0},{"$f":"AL144*請求書・納品書!$M$14","v":0}]
[null,null,null,null,null,null,null,null,null,null,null,null,null,null,null,null,null,null,null,null,null,null,null,null,null,null,null,null,null,null,null,null,null,null,null,null,null,"合　計",{"$f":"SUM(AM141:AM144)","v":0},null,{"$f":"AM127+AM133+AM139+AM145","v":0}]
[null,null,null,null,null,null,null,null,null,null,null,null,null,null,null,null,null,null,null,null,null,null,null,null,null,null,null,null,null,null,null,null,null,{"$f":"A146","v":0},"日数(日)","勤務時間(h)"," 早退（h）","合計(h)","金額(円)"]
["残業",null,null,null,null,null,null,null,null,null,null,null,null,null,null,null,null,null,null,null,null,null,null,null,null,null,null,null,null,null,null,null,{"$f":"SUM(B147:AF147)","v":0},"　出勤",{"$f":"COUNTIF(B146:AF146,\"出\")","v":0},{"$f":"AI147*7.8","v":0},{"$f":"AG148","v":0},{"$f":"AJ147-AK147","v":0},{"$f":"ROUNDDOWN(AL147*請求書・納品書!$M$11,)","v":0}]
["遅・早(出)",null,null,null,null,null,null,null,null,null,null,null,null,null,null,null,null,null,null,null,null,null,null,null,null,null,null,null,null,null,null,null,{"$f":"SUM(B148:AF148)","v":0},"　残業",null,null,null,{"$f":"AG147","v":0},{"$f":"ROUNDDOWN(AL148*請求書・納品書!$M$12,)","v":0}]
["遅・早(公)",null,null,null,null,null,null,null,null,null,null,null,null,null,null,null,null,null,null,null,null,null,null,null,null,null,null,null,null,null,null,null,{"$f":"SUM(B149:AF149)","v":0},"　公出",{"$f":"COUNTIF(B146:AF146,\"公\")","v":0},{"$f":"AI149*7.8","v":0},{"$f":"AG149","v":0},{"$f":"AJ149-AK149","v":0},{"$f":"ROUNDDOWN(AL149*請求書・納品書!$M$13,)","v":0}]
["連続",null,null,null,null,null,null,null,null,null,null,null,null,null,null,null,null,null,null,null,null,null,null,null,null,null,null,null,null,null,null,null,{"$f":"SUM(B150:AF150)","v":0},"　連続",null,null,null,{"$f":"AG150","v":0},{"$f":"AL150*請求書・納品書!$M$14","v":0}]
[null,null,null,null,null,null,null,null,null,null,null,null,null,null,null,null,null,null,null,null,null,null,null,null,null,null,null,null,null,null,null,null,null,null,null,null,null,"合　計",{"$f":"SUM(AM147:AM150)","v":0}]
[null,null,null,null,null,null,null,null,null,null,null,null,null,null,null,null,null,null,null,null,null,null,null,null,null,null,null,null,null,null,null,null,null,{"$f":"A152","v":0},"日数(日)","勤務時間(h)"," 早退（h）","合計(h)","金額(円)"]
["残業",null,null,null,null,null,null,null,null,null,null,null,null,null,null,null,null,null,null,null,null,null,null,null,null,null,null,null,null,null,null,null,{"$f":"SUM(B153:AF153)","v":0},"　出勤",{"$f":"COUNTIF(B152:AF152,\"出\")","v":0},{"$f":"AI153*7.8","v":0},{"$f":"AG154","v":0},{"$f":"AJ153-AK153","v":0},{"$f":"ROUNDDOWN(AL153*請求書・納品書!$M$11,)","v":0}]
["遅・早(出)",null,null,null,null,null,null,null,null,null,null,null,null,null,null,null,null,null,null,null,null,null,null,null,null,null,null,null,null,null,null,null,{"$f":"SUM(B154:AF154)","v":0},"　残業",null,null,null,{"$f":"AG153","v":0},{"$f":"ROUNDDOWN(AL154*請求書・納品書!$M$12,)","v":0}]
["遅・早(公)",null,null,null,null,null,null,null,null,null,null,null,null,null,null,null,null,null,null,null,null,null,null,null,null,null,null,null,null,null,null,null,{"$f":"SUM(B155:AF155)","v":0},"　公出",{"$f":"COUNTIF(B152:AF152,\"公\")","v":0},{"$f":"AI155*7.8","v":0},{"$f":"AG155","v":0},{"$f":"AJ155-AK155","v":0},{"$f":"ROUNDDOWN(AL155*請求書・納品書!$M$13,)","v":0}]
["連続",null,null,null,null,null,null,null,null,null,null,null,null,null,null,null,null,null,null,null,null,null,null,null,null,null,null,null,null,null,null,null,{"$f":"SUM(B156:AF156)","v":0},"　連続",null,null,null,{"$f":"AG156","v":0},{"$f":"AL156*請求書・納品書!$M$14","v":0}]
[null,null,null,null,null,null,null,null,null,null,null,null,null,null,null,null,null,null,null,null,null,null,null,null,null,null,null,null,null,null,null,null,null,null,null,null,null,"合　計",{"$f":"SUM(AM153:AM156)","v":0}]
[null,null,null,null,null,null,null,null,null,null,null,null,null,null,null,null,null,null,null,null,null,null,null,null,null,null,null,null,null,null,null,null,null,{"$f":"A158","v":0},"日数(日)","勤務時間(h)"," 早退（h）","合計(h)","金額(円)"]
["残業",null,null,null,null,null,null,null,null,null,null,null,null,null,null,null,null,null,null,null,null,null,null,null,null,null,null,null,null,null,null,null,{"$f":"SUM(B159:AF159)","v":0},"　出勤",{"$f":"COUNTIF(B158:AF158,\"出\")","v":0},{"$f":"AI159*7.8","v":0},{"$f":"AG160","v":0},{"$f":"AJ159-AK159","v":0},{"$f":"ROUNDDOWN(AL159*請求書・納品書!$M$11,)","v":0}]
["遅・早(出)",null,null,null,null,null,null,null,null,null,null,null,null,null,null,null,null,null,null,null,null,null,null,null,null,null,null,null,null,null,null,null,{"$f":"SUM(B160:AF160)","v":0},"　残業",null,null,null,{"$f":"AG159","v":0},{"$f":"ROUNDDOWN(AL160*請求書・納品書!$M$12,)","v":0}]
["遅・早(公)",null,null,null,null,null,null,null,null,null,null,null,null,null,null,null,null,null,null,null,null,null,null,null,null,null,null,null,null,null,null,null,{"$f":"SUM(B161:AF161)","v":0},"　公出",{"$f":"COUNTIF(B158:AF158,\"公\")","v":0},{"$f":"AI161*7.8","v":0},{"$f":"AG161","v":0},{"$f":"AJ161-AK161","v":0},{"$f":"ROUNDDOWN(AL161*請求書・納品書!$M$13,)","v":0}]
["連続",null,null,null,null,null,null,null,null,null,null,null,null,null,null,null,null,null,null,null,null,null,null,null,null,null,null,null,null,null,null,null,{"$f":"SUM(B162:AF162)","v":0},"　連続",null,null,null,{"$f":"AG162","v":0},{"$f":"AL162*請求書・納品書!$M$14","v":0}]
[null,null,null,null,null,null,null,null,null,null,null,null,null,null,null,null,null,null,null,null,null,null,null,null,null,null,null,null,null,null,null,null,null,null,null,null,null,"合　計",{"$f":"SUM(AM159:AM162)","v":0}]
[null,null,null,null,null,null,null,null,null,null,null,null,null,null,null,null,null,null,null,null,null,null,null,null,null,null,null,null,null,null,null,null,null,{"$f":"A164","v":0},"日数(日)","勤務時間(h)"," 早退（h）","合計(h)","金額(円)"]
["残業",null,null,null,null,null,null,null,null,null,null,null,null,null,null,null,null,null,null,null,null,null,null,null,null,null,null,null,null,null,null,null,{"$f":"SUM(B165:AF165)","v":0},"　出勤",{"$f":"COUNTIF(B164:AF164,\"出\")","v":0},{"$f":"AI165*7.8","v":0},{"$f":"AG166","v":0},{"$f":"AJ165-AK165","v":0},{"$f":"ROUNDDOWN(AL165*請求書・納品書!$M$11,)","v":0}]
["遅・早(出)",null,null,null,null,null,null,null,null,null,null,null,null,null,null,null,null,null,null,null,null,null,null,null,null,null,null,null,null,null,null,null,{"$f":"SUM(B166:AF166)","v":0},"　残業",null,null,null,{"$f":"AG165","v":0},{"$f":"ROUNDDOWN(AL166*請求書・納品書!$M$12,)","v":0}]
["遅・早(公)",null,null,null,null,null,null,null,null,null,null,null,null,null,null,null,null,null,null,null,null,null,null,null,null,null,null,null,null,null,null,null,{"$f":"SUM(B167:AF167)","v":0},"　公出",{"$f":"COUNTIF(B164:AF164,\"公\")","v":0},{"$f":"AI167*7.8","v":0},{"$f":"AG167","v":0},{"$f":"AJ167-AK167","v":0},{"$f":"ROUNDDOWN(AL167*請求書・納品書!$M$13,)","v":0}]
["連続",null,null,null,null,null,null,null,null,null,null,null,null,null,null,null,null,null,null,null,null,null,null,null,null,null,null,null,null,null,null,null,{"$f":"SUM(B168:AF168)","v":0},"　連続",null,null,null,{"$f":"AG168","v":0},{"$f":"AL168*請求書・納品書!$M$14","v":0}]
[null,null,null,null,null,null,null,null,null,null,null,null,null,null,null,null,null,null,null,null,null,null,null,null,null,null,null,null,null,null,null,null,null,null,null,null,null,"合　計",{"$f":"SUM(AM165:AM168)","v":0},null,{"$f":"AM151+AM157+AM163+AM169","v":0}]
[null,null,null,null,null,null,null,null,null,null,null,null,null,null,null,null,null,null,null,null,null,null,null,null,null,null,null,null,null,null,null,null,null,{"$f":"A170","v":0},"日数(日)","勤務時間(h)"," 早退（h）","合計(h)","金額(円)"]
["残業",null,null,null,null,null,null,null,null,null,null,null,null,null,null,null,null,null,null,null,null,null,null,null,null,null,null,null,null,null,null,null,{"$f":"SUM(B171:AF171)","v":0},"　出勤",{"$f":"COUNTIF(B170:AF170,\"出\")","v":0},{"$f":"AI171*7.8","v":0},{"$f":"AG172","v":0},{"$f":"AJ171-AK171","v":0},{"$f":"ROUNDDOWN(AL171*請求書・納品書!$M$11,)","v":0}]
["遅・早(出)",null,null,null,null,null,null,null,null,null,null,null,null,null,null,null,null,null,null,null,null,null,null,null,null,null,null,null,null,null,null,null,{"$f":"SUM(B172:AF172)","v":0},"　残業",null,null,null,{"$f":"AG171","v":0},{"$f":"ROUNDDOWN(AL172*請求書・納品書!$M$12,)","v":0}]
["遅・早(公)",null,null,null,null,null,null,null,null,null,null,null,null,null,null,null,null,null,null,null,null,null,null,null,null,null,null,null,null,null,null,null,{"$f":"SUM(B173:AF173)","v":0},"　公出",{"$f":"COUNTIF(B170:AF170,\"公\")","v":0},{"$f":"AI173*7.8","v":0},{"$f":"AG173","v":0},{"$f":"AJ173-AK173","v":0},{"$f":"ROUNDDOWN(AL173*請求書・納品書!$M$13,)","v":0}]
["連続",null,null,null,null,null,null,null,null,null,null,null,null,null,null,null,null,null,null,null,null,null,null,null,null,null,null,null,null,null,null,null,{"$f":"SUM(B174:AF174)","v":0},"　連続",null,null,null,{"$f":"AG174","v":0},{"$f":"AL174*請求書・納品書!$M$14","v":0}]
[null,null,null,null,null,null,null,null,null,null,null,null,null,null,null,null,null,null,null,null,null,null,null,null,null,null,null,null,null,null,null,null,null,null,null,null,null,"合　計",{"$f":"SUM(AM171:AM174)","v":0}]
[null,null,null,null,null,null,null,null,null,null,null,null,null,null,null,null,null,null,null,null,null,null,null,null,null,null,null,null,null,null,null,null,null,{"$f":"A176","v":0},"日数(日)","勤務時間(h)"," 早退（h）","合計(h)","金額(円)"]
["残業",null,null,null,null,null,null,null,null,null,null,null,null,null,null,null,null,null,null,null,null,null,null,null,null,null,null,null,null,null,null,null,{"$f":"SUM(B177:AF177)","v":0},"　出勤",{"$f":"COUNTIF(B176:AF176,\"出\")","v":0},{"$f":"AI177*7.8","v":0},{"$f":"AG178","v":0},{"$f":"AJ177-AK177","v":0},{"$f":"ROUNDDOWN(AL177*請求書・納品書!$M$11,)","v":0}]
["遅・早(出)",null,null,null,null,null,null,null,null,null,null,null,null,null,null,null,null,null,null,null,null,null,null,null,null,null,null,null,null,null,null,null,{"$f":"SUM(B178:AF178)","v":0},"　残業",null,null,null,{"$f":"AG177","v":0},{"$f":"ROUNDDOWN(AL178*請求書・納品書!$M$12,)","v":0}]
["遅・早(公)",null,null,null,null,null,null,null,null,null,null,null,null,null,null,null,null,null,null,null,null,null,null,null,null,null,null,null,null,null,null,null,{"$f":"SUM(B179:AF179)","v":0},"　公出",{"$f":"COUNTIF(B176:AF176,\"公\")","v":0},{"$f":"AI179*7.8","v":0},{"$f":"AG179","v":0},{"$f":"AJ179-AK179","v":0},{"$f":"ROUNDDOWN(AL179*請求書・納品書!$M$13,)","v":0}]
["連続",null,null,null,null,null,null,null,null,null,null,null,null,null,null,null,null,null,null,null,null,null,null,null,null,null,null,null,null,null,null,null,{"$f":"SUM(B180:AF180)","v":0},"　連続",null,null,null,{"$f":"AG180","v":0},{"$f":"AL180*請求書・納品書!$M$14","v":0}]
[null,null,null,null,null,null,null,null,null,null,null,null,null,null,null,null,null,null,null,null,null,null,null,null,null,null,null,null,null,null,null,null,null,null,null,null,null,"合　計",{"$f":"SUM(AM177:AM180)","v":0}]
[null,null,null,null,null,null,null,null,null,null,null,null,null,null,null,null,null,null,null,null,null,null,null,null,null,null,null,null,null,null,null,null,null,{"$f":"A182","v":0},"日数(日)","勤務時間(h)"," 早退（h）","合計(h)","金額(円)"]
["残業",null,null,null,null,null,null,null,null,null,null,null,null,null,null,null,null,null,null,null,null,null,null,null,null,null,null,null,null,null,null,null,{"$f":"SUM(B183:AF183)","v":0},"　出勤",{"$f":"COUNTIF(B182:AF182,\"出\")","v":0},{"$f":"AI183*7.8","v":0},{"$f":"AG184","v":0},{"$f":"AJ183-AK183","v":0},{"$f":"ROUNDDOWN(AL183*請求書・納品書!$M$11,)","v":0}]
["遅・早(出)",null,null,null,null,null,null,null,null,null,null,null,null,null,null,null,null,null,null,null,null,null,null,null,null,null,null,null,null,null,null,null,{"$f":"SUM(B184:AF184)","v":0},"　残業",null,null,null,{"$f":"AG183","v":0},{"$f":"ROUNDDOWN(AL184*請求書・納品書!$M$12,)","v":0}]
["遅・早(公)",null,null,null,null,null,null,null,null,null,null,null,null,null,null,null,null,null,null,null,null,null,null,null,null,null,null,null,null,null,null,null,{"$f":"SUM(B185:AF185)","v":0},"　公出",{"$f":"COUNTIF(B182:AF182,\"公\")","v":0},{"$f":"AI185*7.8","v":0},{"$f":"AG185","v":0},{"$f":"AJ185-AK185","v":0},{"$f":"ROUNDDOWN(AL185*請求書・納品書!$M$13,)","v":0}]
["連続",null,null,null,null,null,null,null,null,null,null,null,null,null,null,null,null,null,null,null,null,null,null,null,null,null,null,null,null,null,null,null,{"$f":"SUM(B186:AF186)","v":0},"　連続",null,null,null,{"$f":"AG186","v":0},{"$f":"AL186*請求書・納品書!$M$14","v":0}]
[null,null,null,null,null,null,null,null,null,null,null,null,null,null,null,null,null,null,null,null,null,null,null,null,null,null,null,null,null,null,null,null,null,null,null,null,null,"合　計",{"$f":"SUM(AM183:AM186)","v":0}]
[null,null,null,null,null,null,null,null,null,null,null,null,null,null,null,null,null,null,null,null,null,null,null,null,null,null,null,null,null,null,null,null,null,{"$f":"A188","v":0},"日数(日)","勤務時間(h)"," 早退（h）","合計(h)","金額(円)"]
["残業",null,null,null,null,null,null,null,null,null,null,null,null,null,null,null,null,null,null,null,null,null,null,null,null,null,null,null,null,null,null,null,{"$f":"SUM(B189:AF189)","v":0},"　出勤",{"$f":"COUNTIF(B188:AF188,\"出\")","v":0},{"$f":"AI189*7.8","v":0},{"$f":"AG190","v":0},{"$f":"AJ189-AK189","v":0},{"$f":"ROUNDDOWN(AL189*請求書・納品書!$M$11,)","v":0}]
["遅・早(出)",null,null,null,null,null,null,null,null,null,null,null,null,null,null,null,null,null,null,null,null,null,null,null,null,null,null,null,null,null,null,null,{"$f":"SUM(B190:AF190)","v":0},"　残業",null,null,null,{"$f":"AG189","v":0},{"$f":"ROUNDDOWN(AL190*請求書・納品書!$M$12,)","v":0}]
["遅・早(公)",null,null,null,null,null,null,null,null,null,null,null,null,null,null,null,null,null,null,null,null,null,null,null,null,null,null,null,null,null,null,null,{"$f":"SUM(B191:AF191)","v":0},"　公出",{"$f":"COUNTIF(B188:AF188,\"公\")","v":0},{"$f":"AI191*7.8","v":0},{"$f":"AG191","v":0},{"$f":"AJ191-AK191","v":0},{"$f":"ROUNDDOWN(AL191*請求書・納品書!$M$13,)","v":0}]
["連続",null,null,null,null,null,null,null,null,null,null,null,null,null,null,null,null,null,null,null,null,null,null,null,null,null,null,null,null,null,null,null,{"$f":"SUM(B192:AF192)","v":0},"　連続",null,null,null,{"$f":"AG192","v":0},{"$f":"AL192*請求書・納品書!$M$14","v":0}]
[null,null,null,null,null,null,null,null,null,null,null,null,null,null,null,null,null,null,null,null,null,null,null,null,null,null,null,null,null,null,null,null,null,null,null,null,null,"合　計",{"$f":"SUM(AM189:AM192)","v":0},null,{"$f":"AM175+AM181+AM187+AM193","v":0}]

{"sheet":"5","index":1,"n_rows":193,"n_cols":42,"rows_kept":193,"cut":false,"hidden":false,"merged":[]}
[{"$f":"'4'!A1","v":2010},1,2,3,4,5,6,7,8,9,10,11,12,13,14,15,16,17,18,19,20,21,22,23,24,25,26,27,28,29,30,31,"計",{"$f":"A1&\"年\"&MID(CELL(\"filename\",$A$1),FIND(\"]\",CELL(\"filename\",$A$1))+1,31) &\"月\"","v":"2010年5月"}]
[null,null,null,null,null,null,null,null,null,null,null,null,null,null,null,null,null,null,null,null,null,null,null,null,null,null,null,null,null,null,null,null,null,{"$f":"A2","v":0},"日数(日)","勤務時間(h)"," 早退（h）","合計(h)","金額(円)","出","　合計",{"$f":"SUM(AM:AM)/2","v":0}]
["残業",null,null,null,null,null,null,null,null,null,null,null,null,null,null,null,null,null,null,null,null,null,null,null,null,null,null,null,null,null,null,null,{"$f":"SUM(B3:AF3)","v":0},"　出勤",{"$f":"COUNTIF(B2:AF2,\"出\")","v":0},{"$f":"AI3*7.8","v":0},{"$f":"AG4","v":0},{"$f":"AJ3-AK3","v":0},{"$f":"ROUNDDOWN(AL3*請求書・納品書!$M$11,)","v":0},"公","　人数",{"$f":"COUNTA(AH:AH)-COUNTIF(AH:AH,0)-32*4-1","v":0}]
["遅・早(出)",null,null,null,null,null,null,null,null,null,null,null,null,null,null,null,null,null,null,null,null,null,null,null,null,null,null,null,null,null,null,null,{"$f":"SUM(B4:AF4)","v":0},"　残業",null,null,null,{"$f":"AG3","v":0},{"$f":"ROUNDDOWN(AL4*請求書・納品書!$M$12,)","v":0},"欠","　管理費",{"$f":"(AP3-AP9)*19400","v":0}]
["遅・早(公)",null,null,null,null,null,null,null,null,null,null,null,null,null,null,null,null,null,null,null,null,null,null,null,null,null,null,null,null,null,null,null,{"$f":"SUM(B5:AF5)","v":0},"　公出",{"$f":"COUNTIF(B2:AF2,\"公\")","v":0},{"$f":"AI5*7.8","v":0},{"$f":"AG5","v":0},{"$f":"AJ5-AK5","v":0},{"$f":"ROUNDDOWN(AL5*請求書・納品書!$M$13,)","v":0},"有","　小計",{"$f":"AP2+AP4","v":0}]
["連続",null,null,null,null,null,null,null,null,null,null,null,null,null,null,null,null,null,null,null,null,null,null,null,null,null,null,null,null,null,null,null,{"$f":"SUM(B6:AF6)","v":0},"　連続",null,null,null,{"$f":"AG6","v":0},{"$f":"AL6*請求書・納品書!$M$14","v":0},"半","　消費税",{"$f":"ROUNDDOWN(AP5*0.05,)","v":0}]
[null,null,null,null,null,null,null,null,null,null,null,null,null,null,null,null,null,null,null,null,null,null,null,null,null,null,null,null,null,null,null,null,null,null,null,null,null,"合　計",{"$f":"SUM(AM3:AM6)","v":0},null,"　総合計",{"$f":"AP5+AP6","v":0}]
[null,null,null,null,null,null,null,null,null,null,null,null,null,null,null,null,null,null,null,null,null,null,null,null,null,null,null,null,null,null,null,null,null,{"$f":"A8","v":0},"日数(日)","勤務時間(h)"," 早退（h）","合計(h)","金額(円)"]
["残業",null,null,null,null,null,null,null,null,null,null,null,null,null,null,null,null,null,null,null,null,null,null,null,null,null,null,null,null,null,null,null,{"$f":"SUM(B9:AF9)","v":0},"　出勤",{"$f":"COUNTIF(B8:AF8,\"出\")","v":0},{"$f":"AI9*7.8","v":0},{"$f":"AG10","v":0},{"$f":"AJ9-AK9","v":0},{"$f":"ROUNDDOWN(AL9*請求書・納品書!$M$11,)","v":0},null,"管理費に入れない人数"]
["遅・早(出)",null,null,null,null,null,null,null,null,null,null,null,null,null,null,null,null,null,null,null,null,null,null,null,null,null,null,null,null,null,null,null,{"$f":"SUM(B10:AF10)","v":0},"　残業",null,null,null,{"$f":"AG9","v":0},{"$f":"ROUNDDOWN(AL10*請求書・納品書!$M$12,)","v":0}]
["遅・早(公)",null,null,null,null,null,null,null,null,null,null,null,null,null,null,null,null,null,null,null,null,null,null,null,null,null,null,null,null,null,null,null,{"$f":"SUM(B11:AF11)","v":0},"　公出",{"$f":"COUNTIF(B8:AF8,\"公\")","v":0},{"$f":"AI11*7.8","v":0},{"$f":"AG11","v":0},{"$f":"AJ11-AK11","v":0},{"$f":"ROUNDDOWN(AL11*請求書・納品書!$M$13,)","v":0}]
["連続",null,null,null,null,null,null,null,null,null,null,null,null,null,null,null,null,null,null,null,null,null,null,null,null,null,null,null,null,null,null,null,{"$f":"SUM(B12:AF12)","v":0},"　連続",null,null,null,{"$f":"AG12","v":0},{"$f":"AL12*請求書・納品書!$M$14","v":0}]
[null,null,null,null,null,null,null,null,null,null,null,null,null,null,null,null,null,null,null,null,null,null,null,null,null,null,null,null,null,null,null,null,null,null,null,null,null,"合　計",{"$f":"SUM(AM9:AM12)","v":0}]
[null,null,null,null,null,null,null,null,null,null,null,null,null,null,null,null,null,null,null,null,null,null,null,null,null,null,null,null,null,null,null,null,null,{"$f":"A14","v":0},"日数(日)","勤務時間(h)"," 早退（h）","合計(h)","金額(円)"]
["残業",null,null,null,null,null,null,null,null,null,null,null,null,null,null,null,null,null,null,null,null,null,null,null,null,null,null,null,null,null,null,null,{"$f":"SUM(B15:AF15)","v":0},"　出勤",{"$f":"COUNTIF(B14:AF14,\"出\")","v":0},{"$f":"AI15*7.8","v":0},{"$f":"AG16","v":0},{"$f":"AJ15-AK15","v":0},{"$f":"ROUNDDOWN(AL15*請求書・納品書!$M$11,)","v":0}]
["遅・早(出)",null,null,null,null,null,null,null,null,null,null,null,null,null,null,null,null,null,null,null,null,null,null,null,null,null,null,null,null,null,null,null,{"$f":"SUM(B16:AF16)","v":0},"　残業",null,null,null,{"$f":"AG15","v":0},{"$f":"ROUNDDOWN(AL16*請求書・納品書!$M$12,)","v":0}]
["遅・早(公)",null,null,null,null,null,null,null,null,null,null,null,null,null,null,null,null,null,null,null,null,null,null,null,null,null,null,null,null,null,null,null,{"$f":"SUM(B17:AF17)","v":0},"　公出",{"$f":"COUNTIF(B14:AF14,\"公\")","v":0},{"$f":"AI17*7.8","v":0},{"$f":"AG17","v":0},{"$f":"AJ17-AK17","v":0},{"$f":"ROUNDDOWN(AL17*請求書・納品書!$M$13,)","v":0}]
["連続",null,null,null,null,null,null,null,null,null,null,null,null,null,null,null,null,null,null,null,null,null,null,null,null,null,null,null,null,null,null,null,{"$f":"SUM(B18:AF18)","v":0},"　連続",null,null,null,{"$f":"AG18","v":0},{"$f":"AL18*請求書・納品書!$M$14","v":0}]
[null,null,null,null,null,null,null,null,null,null,null,null,null,null,null,null,null,null,null,null,null,null,null,null,null,null,null,null,null,null,null,null,null,null,null,null,null,"合　計",{"$f":"SUM(AM15:AM18)","v":0}]
[null,null,null,null,null,null,null,null,null,null,null,null,null,null,null,null,null,null,null,null,null,null,null,null,null,null,null,null,null,null,null,null,null,{"$f":"A20","v":0},"日数(日)","勤務時間(h)"," 早退（h）","合計(h)","金額(円)"]
["残業",null,null,null,null,null,null,null,null,null,null,null,null,null,null,null,null,null,null,null,null,null,null,null,null,null,null,null,null,null,null,null,{"$f":"SUM(B21:AF21)","v":0},"　出勤",{"$f":"COUNTIF(B20:AF20,\"出\")","v":0},{"$f":"AI21*7.8","v":0},{"$f":"AG22","v":0},{"$f":"AJ21-AK21","v":0},{"$f":"ROUNDDOWN(AL21*請求書・納品書!$M$11,)","v":0}]
["遅・早(出)",null,null,null,null,null,null,null,null,null,null,null,null,null,null,null,null,null,null,null,null,null,null,null,null,null,null,null,null,null,null,null,{"$f":"SUM(B22:AF22)","v":0},"　残業",null,null,null,{"$f":"AG21","v":0},{"$f":"ROUNDDOWN(AL22*請求書・納品書!$M$12,)","v":0}]
["遅・早(公)",null,null,null,null,null,null,null,null,null,null,null,null,null,null,null,null,null,null,null,null,null,null,null,null,null,null,null,null,null,null,null,{"$f":"SUM(B23:AF23)","v":0},"　公出",{"$f":"COUNTIF(B20:AF20,\"公\")","v":0},{"$f":"AI23*7.8","v":0},{"$f":"AG23","v":0},{"$f":"AJ23-AK23","v":0},{"$f":"ROUNDDOWN(AL23*請求書・納品書!$M$13,)","v":0}]
["連続",null,null,null,null,null,null,null,null,null,null,null,null,null,null,null,null,null,null,null,null,null,null,null,null,null,null,null,null,null,null,null,{"$f":"SUM(B24:AF24)","v":0},"　連続",null,null,null,{"$f":"AG24","v":0},{"$f":"AL24*請求書・納品書!$M$14","v":0}]
[null,null,null,null,null,null,null,null,null,null,null,null,null,null,null,null,null,null,null,null,null,null,null,null,null,null,null,null,null,null,null,null,null,null,null,null,null,"合　計",{"$f":"SUM(AM21:AM24)","v":0},null,{"$f":"AM7+AM13+AM19+AM25","v":0}]
[null,null,null,null,null,null,null,null,null,null,null,null,null,null,null,null,null,null,null,null,null,null,null,null,null,null,null,null,null,null,null,null,null,{"$f":"A26","v":0},"日数(日)","勤務時間(h)"," 早退（h）","合計(h)","金額(円)"]
["残業",null,null,null,null,null,null,null,null,null,null,null,null,null,null,null,null,null,null,null,null,null,null,null,null,null,null,null,null,null,null,null,{"$f":"SUM(B27:AF27)","v":0},"　出勤",{"$f":"COUNTIF(B26:AF26,\"出\")","v":0},{"$f":"AI27*7.8","v":0},{"$f":"AG28","v":0},{"$f":"AJ27-AK27","v":0},{"$f":"ROUNDDOWN(AL27*請求書・納品書!$M$11,)","v":0}]
["遅・早(出)",null,null,null,null,null,null,null,null,null,null,null,null,null,null,null,null,null,null,null,null,null,null,null,null,null,null,null,null,null,null,null,{"$f":"SUM(B28:AF28)","v":0},"　残業",null,null,null,{"$f":"AG27","v":0},{"$f":"ROUNDDOWN(AL28*請求書・納品書!$M$12,)","v":0}]
["遅・早(公)",null,null,null,null,null,null,null,null,null,null,null,null,null,null,null,null,null,null,null,null,null,null,null,null,null,null,null,null,null,null,null,{"$f":"SUM(B29:AF29)","v":0},"　公出",{"$f":"COUNTIF(B26:AF26,\"公\")","v":0},{"$f":"AI29*7.8","v":0},{"$f":"AG29","v":0},{"$f":"AJ29-AK29","v":0},{"$f":"ROUNDDOWN(AL29*請求書・納品書!$M$13,)","v":0}]
["連続",null,null,null,null,null,null,null,null,null,null,null,null,null,null,null,null,null,null,null,null,null,null,null,null,null,null,null,null,null,null,null,{"$f":"SUM(B30:AF30)","v":0},"　連続",null,null,null,{"$f":"AG30","v":0},{"$f":"AL30*請求書・納品書!$M$14","v":0}]
[null,null,null,null,null,null,null,null,null,null,null,null,null,null,null,null,null,null,null,null,null,null,null,null,null,null,null,null,null,null,null,null,null,null,null,null,null,"合　計",{"$f":"SUM(AM27:AM30)","v":0}]
[null,null,null,null,null,null,null,null,null,null,null,null,null,null,null,null,null,null,null,null,null,null,null,null,null,null,null,null,null,null,null,null,null,{"$f":"A32","v":0},"日数(日)","勤務時間(h)"," 早退（h）","合計(h)","金額(円)"]
["残業",null,null,null,null,null,null,null,null,null,null,null,null,null,null,null,null,null,null,null,null,null,null,null,null,null,null,null,null,null,null,null,{"$f":"SUM(B33:AF33)","v":0},"　出勤",{"$f":"COUNTIF(B32:AF32,\"出\")","v":0},{"$f":"AI33*7.8","v":0},{"$f":"AG34","v":0},{"$f":"AJ33-AK33","v":0},{"$f":"ROUNDDOWN(AL33*請求書・納品書!$M$11,)","v":0}]
["遅・早(出)",null,null,null,null,null,null,null,null,null,null,null,null,null,null,null,null,null,null,null,null,null,null,null,null,null,null,null,null,null,null,null,{"$f":"SUM(B34:AF34)","v":0},"　残業",null,null,null,{"$f":"AG33","v":0},{"$f":"ROUNDDOWN(AL34*請求書・納品書!$M$12,)","v":0}]
["遅・早(公)",null,null,null,null,null,null,null,null,null,null,null,null,null,null,null,null,null,null,null,null,null,null,null,null,null,null,null,null,null,null,null,{"$f":"SUM(B35:AF35)","v":0},"　公出",{"$f":"COUNTIF(B32:AF32,\"公\")","v":0},{"$f":"AI35*7.8","v":0},{"$f":"AG35","v":0},{"$f":"AJ35-AK35","v":0},{"$f":"ROUNDDOWN(AL35*請求書・納品書!$M$13,)","v":0}]
["連続",null,null,null,null,null,null,null,null,null,null,null,null,null,null,null,null,null,null,null,null,null,null,null,null,null,null,null,null,null,null,null,{"$f":"SUM(B36:AF36)","v":0},"　連続",null,null,null,{"$f":"AG36","v":0},{"$f":"AL36*請求書・納品書!$M$14","v":0}]
[null,null,null,null,null,null,null,null,null,null,null,null,null,null,null,null,null,null,null,null,null,null,null,null,null,null,null,null,null,null,null,null,null,null,null,null,null,"合　計",{"$f":"SUM(AM33:AM36)","v":0}]
[null,null,null,null,null,null,null,null,null,null,null,null,null,null,null,null,null,null,null,null,null,null,null,null,null,null,null,null,null,null,null,null,null,{"$f":"A38","v":0},"日数(日)","勤務時間(h)"," 早退（h）","合計(h)","金額(円)"]
["残業",null,null,null,null,null,null,null,null,null,null,null,null,null,null,null,null,null,null,null,null,null,null,null,null,null,null,null,null,null,null,null,{"$f":"SUM(B39:AF39)","v":0},"　出勤",{"$f":"COUNTIF(B38:AF38,\"出\")","v":0},{"$f":"AI39*7.8","v":0},{"$f":"AG40","v":0},{"$f":"AJ39-AK39","v":0},{"$f":"ROUNDDOWN(AL39*請求書・納品書!$M$11,)","v":0}]
["遅・早(出)",null,null,null,null,null,null,null,null,null,null,null,null,null,null,null,null,null,null,null,null,null,null,null,null,null,null,null,null,null,null,null,{"$f":"SUM(B40:AF40)","v":0},"　残業",null,null,null,{"$f":"AG39","v":0},{"$f":"ROUNDDOWN(AL40*請求書・納品書!$M$12,)","v":0}]
["遅・早(公)",null,null,null,null,null,null,null,null,null,null,null,null,null,null,null,null,null,null,null,null,null,null,null,null,null,null,null,null,null,null,null,{"$f":"SUM(B41:AF41)","v":0},"　公出",{"$f":"COUNTIF(B38:AF38,\"公\")","v":0},{"$f":"AI41*7.8","v":0},{"$f":"AG41","v":0},{"$f":"AJ41-AK41","v":0},{"$f":"ROUNDDOWN(AL41*請求書・納品書!$M$13,)","v":0}]
["連続",null,null,null,null,null,null,null,null,null,null,null,null,null,null,null,null,null,null,null,null,null,null,null,null,null,null,null,null,null,null,null,{"$f":"SUM(B42:AF42)","v":0},"　連続",null,null,null,{"$f":"AG42","v":0},{"$f":"AL42*請求書・納品書!$M$14","v":0}]
[null,null,null,null,null,null,null,null,null,null,null,null,null,null,null,null,null,null,null,null,null,null,null,null,null,null,null,null,null,null,null,null,null,null,null,null,null,"合　計",{"$f":"SUM(AM39:AM42)","v":0}]
[null,null,null,null,null,null,null,null,null,null,null,null,null,null,null,null,null,null,null,null,null,null,null,null,null,null,null,null,null,null,null,null,null,{"$f":"A44","v":0},"日数(日)","勤務時間(h)"," 早退（h）","合計(h)","金額(円)"]
["残業",null,null,null,null,null,null,null,null,null,null,null,null,null,null,null,null,null,null,null,null,null,null,null,null,null,null,null,null,null,null,null,{"$f":"SUM(B45:AF45)","v":0},"　出勤",{"$f":"COUNTIF(B44:AF44,\"出\")","v":0},{"$f":"AI45*7.8","v":0},{"$f":"AG46","v":0},{"$f":"AJ45-AK45","v":0},{"$f":"ROUNDDOWN(AL45*請求書・納品書!$M$11,)","v":0}]
["遅・早(出)",null,null,null,null,null,null,null,null,null,null,null,null,null,null,null,null,null,null,null,null,null,null,null,null,null,null,null,null,null,null,null,{"$f":"SUM(B46:AF46)","v":0},"　残業",null,null,null,{"$f":"AG45","v":0},{"$f":"ROUNDDOWN(AL46*請求書・納品書!$M$12,)","v":0}]
["遅・早(公)",null,null,null,null,null,null,null,null,null,null,null,null,null,null,null,null,null,null,null,null,null,null,null,null,null,null,null,null,null,null,null,{"$f":"SUM(B47:AF47)","v":0},"　公出",{"$f":"COUNTIF(B44:AF44,\"公\")","v":0},{"$f":"AI47*7.8","v":0},{"$f":"AG47","v":0},{"$f":"AJ47-AK47","v":0},{"$f":"ROUNDDOWN(AL47*請求書・納品書!$M$13,)","v":0}]
["連続",null,null,null,null,null,null,null,null,null,null,null,null,null,null,null,null,null,null,null,null,null,null,null,null,null,null,null,null,null,null,null,{"$f":"SUM(B48:AF48)","v":0},"　連続",null,null,null,{"$f":"AG48","v":0},{"$f":"AL48*請求書・納品書!$M$14","v":0}]
[null,null,null,null,null,null,null,null,null,null,null,null,null,null,null,null,null,null,null,null,null,null,null,null,null,null,null,null,null,null,null,null,null,null,null,null,null,"合　計",{"$f":"SUM(AM45:AM48)","v":0},null,{"$f":"AM31+AM37+AM43+AM49","v":0}]
[null,null,null,null,null,null,null,null,null,null,null,null,null,null,null,null,null,null,null,null,null,null,null,null,null,null,null,null,null,null,null,null,null,{"$f":"A50","v":0},"日数(日)","勤務時間(h)"," 早退（h）","合計(h)","金額(円)"]
["残業",null,null,null,null,null,null,null,null,null,null,null,null,null,null,null,null,null,null,null,null,null,null,null,null,null,null,null,null,null,null,null,{"$f":"SUM(B51:AF51)","v":0},"　出勤",{"$f":"COUNTIF(B50:AF50,\"出\")","v":0},{"$f":"AI51*7.8","v":0},{"$f":"AG52","v":0},{"$f":"AJ51-AK51","v":0},{"$f":"ROUNDDOWN(AL51*請求書・納品書!$M$11,)","v":0}]
["遅・早(出)",null,null,null,null,null,null,null,null,null,null,null,null,null,null,null,null,null,null,null,null,null,null,null,null,null,null,null,null,null,null,null,{"$f":"SUM(B52:AF52)","v":0},"　残業",null,null,null,{"$f":"AG51","v":0},{"$f":"ROUNDDOWN(AL52*請求書・納品書!$M$12,)","v":0}]
["遅・早(公)",null,null,null,null,null,null,null,null,null,null,null,null,null,null,null,null,null,null,null,null,null,null,null,null,null,null,null,null,null,null,null,{"$f":"SUM(B53:AF53)","v":0},"　公出",{"$f":"COUNTIF(B50:AF50,\"公\")","v":0},{"$f":"AI53*7.8","v":0},{"$f":"AG53","v":0},{"$f":"AJ53-AK53","v":0},{"$f":"ROUNDDOWN(AL53*請求書・納品書!$M$13,)","v":0}]
["連続",null,null,null,null,null,null,null,null,null,null,null,null,null,null,null,null,null,null,null,null,null,null,null,null,null,null,null,null,null,null,null,{"$f":"SUM(B54:AF54)","v":0},"　連続",null,null,null,{"$f":"AG54","v":0},{"$f":"AL54*請求書・納品書!$M$14","v":0}]
[null,null,null,null,null,null,null,null,null,null,null,null,null,null,null,null,null,null,null,null,null,null,null,null,null,null,null,null,null,null,null,null,null,null,null,null,null,"合　計",{"$f":"SUM(AM51:AM54)","v":0}]
[null,null,null,null,null,null,null,null,null,null,null,null,null,null,null,null,null,null,null,null,null,null,null,null,null,null,null,null,null,null,null,null,null,{"$f":"A56","v":0},"日数(日)","勤務時間(h)"," 早退（h）","合計(h)","金額(円)"]
["残業",null,null,null,null,null,null,null,null,null,null,null,null,null,null,null,null,null,null,null,null,null,null,null,null,null,null,null,null,null,null,null,{"$f":"SUM(B57:AF57)","v":0},"　出勤",{"$f":"COUNTIF(B56:AF56,\"出\")","v":0},{"$f":"AI57*7.8","v":0},{"$f":"AG58","v":0},{"$f":"AJ57-AK57","v":0},{"$f":"ROUNDDOWN(AL57*請求書・納品書!$M$11,)","v":0}]
["遅・早(出)",null,null,null,null,null,null,null,null,null,null,null,null,null,null,null,null,null,null,null,null,null,null,null,null,null,null,null,null,null,null,null,{"$f":"SUM(B58:AF58)","v":0},"　残業",null,null,null,{"$f":"AG57","v":0},{"$f":"ROUNDDOWN(AL58*請求書・納品書!$M$12,)","v":0}]
["遅・早(公)",null,null,null,null,null,null,null,null,null,null,null,null,null,null,null,null,null,null,null,null,null,null,null,null,null,null,null,null,null,null,null,{"$f":"SUM(B59:AF59)","v":0},"　公出",{"$f":"COUNTIF(B56:AF56,\"公\")","v":0},{"$f":"AI59*7.8","v":0},{"$f":"AG59","v":0},{"$f":"AJ59-AK59","v":0},{"$f":"ROUNDDOWN(AL59*請求書・納品書!$M$13,)","v":0}]
["連続",null,null,null,null,null,null,null,null,null,null,null,null,null,null,null,null,null,null,null,null,null,null,null,null,null,null,null,null,null,null,null,{"$f":"SUM(B60:AF60)","v":0},"　連続",null,null,null,{"$f":"AG60","v":0},{"$f":"AL60*請求書・納品書!$M$14","v":0}]
[null,null,null,null,null,null,null,null,null,null,null,null,null,null,null,null,null,null,null,null,null,null,null,null,null,null,null,null,null,null,null,null,null,null,null,null,null,"合　計",{"$f":"SUM(AM57:AM60)","v":0}]
[null,null,null,null,null,null,null,null,null,null,null,null,null,null,null,null,null,null,null,null,null,null,null,null,null,null,null,null,null,null,null,null,null,{"$f":"A62","v":0},"日数(日)","勤務時間(h)"," 早退（h）","合計(h)","金額(円)"]
["残業",null,null,null,null,null,null,null,null,null,null,null,null,null,null,null,null,null,null,null,null,null,null,null,null,null,null,null,null,null,null,null,{"$f":"SUM(B63:AF63)","v":0},"　出勤",{"$f":"COUNTIF(B62:AF62,\"出\")","v":0},{"$f":"AI63*7.8","v":0},{"$f":"AG64","v":0},{"$f":"AJ63-AK63","v":0},{"$f":"ROUNDDOWN(AL63*請求書・納品書!$M$11,)","v":0}]
["遅・早(出)",null,null,null,null,null,null,null,null,null,null,null,null,null,null,null,null,null,null,null,null,null,null,null,null,null,null,null,null,null,null,null,{"$f":"SUM(B64:AF64)","v":0},"　残業",null,null,null,{"$f":"AG63","v":0},{"$f":"ROUNDDOWN(AL64*請求書・納品書!$M$12,)","v":0}]
["遅・早(公)",null,null,null,null,null,null,null,null,null,null,null,null,null,null,null,null,null,null,null,null,null,null,null,null,null,null,null,null,null,null,null,{"$f":"SUM(B65:AF65)","v":0},"　公出",{"$f":"COUNTIF(B62:AF62,\"公\")","v":0},{"$f":"AI65*7.8","v":0},{"$f":"AG65","v":0},{"$f":"AJ65-AK65","v":0},{"$f":"ROUNDDOWN(AL65*請求書・納品書!$M$13,)","v":0}]
["連続",null,null,null,null,null,null,null,null,null,null,null,null,null,null,null,null,null,null,null,null,null,null,null,null,null,null,null,null,null,null,null,{"$f":"SUM(B66:AF66)","v":0},"　連続",null,null,null,{"$f":"AG66","v":0},{"$f":"AL66*請求書・納品書!$M$14","v":0}]
[null,null,null,null,null,null,null,null,null,null,null,null,null,null,null,null,null,null,null,null,null,null,null,null,null,null,null,null,null,null,null,null,null,null,null,null,null,"合　計",{"$f":"SUM(AM63:AM66)","v":0}]
[null,null,null,null,null,null,null,null,null,null,null,null,null,null,null,null,null,null,null,null,null,null,null,null,null,null,null,null,null,null,null,null,null,{"$f":"A68","v":0},"日数(日)","勤務時間(h)"," 早退（h）","合計(h)","金額(円)"]
["残業",null,null,null,null,null,null,null,null,null,null,null,null,null,null,null,null,null,null,null,null,null,null,null,null,null,null,null,null,null,null,null,{"$f":"SUM(B69:AF69)","v":0},"　出勤",{"$f":"COUNTIF(B68:AF68,\"出\")","v":0},{"$f":"AI69*7.8","v":0},{"$f":"AG70","v":0},{"$f":"AJ69-AK69","v":0},{"$f":"ROUNDDOWN(AL69*請求書・納品書!$M$11,)","v":0}]
["遅・早(出)",null,null,null,null,null,null,null,null,null,null,null,null,null,null,null,null,null,null,null,null,null,null,null,null,null,null,null,null,null,null,null,{"$f":"SUM(B70:AF70)","v":0},"　残業",null,null,null,{"$f":"AG69","v":0},{"$f":"ROUNDDOWN(AL70*請求書・納品書!$M$12,)","v":0}]
["遅・早(公)",null,null,null,null,null,null,null,null,null,null,null,null,null,null,null,null,null,null,null,null,null,null,null,null,null,null,null,null,null,null,null,{"$f":"SUM(B71:AF71)","v":0},"　公出",{"$f":"COUNTIF(B68:AF68,\"公\")","v":0},{"$f":"AI71*7.8","v":0},{"$f":"AG71","v":0},{"$f":"AJ71-AK71","v":0},{"$f":"ROUNDDOWN(AL71*請求書・納品書!$M$13,)","v":0}]
["連続",null,null,null,null,null,null,null,null,null,null,null,null,null,null,null,null,null,null,null,null,null,null,null,null,null,null,null,null,null,null,null,{"$f":"SUM(B72:AF72)","v":0},"　連続",null,null,null,{"$f":"AG72","v":0},{"$f":"AL72*請求書・納品書!$M$14","v":0}]
[null,null,null,null,null,null,null,null,null,null,null,null,null,null,null,null,null,null,null,null,null,null,null,null,null,null,null,null,null,null,null,null,null,null,null,null,null,"合　計",{"$f":"SUM(AM69:AM72)","v":0},null,{"$f":"AM55+AM61+AM67+AM73","v":0}]
[null,null,null,null,null,null,null,null,null,null,null,null,null,null,null,null,null,null,null,null,null,null,null,null,null,null,null,null,null,null,null,null,null,{"$f":"A74","v":0},"日数(日)","勤務時間(h)"," 早退（h）","合計(h)","金額(円)"]
["残業",null,null,null,null,null,null,null,null,null,null,null,null,null,null,null,null,null,null,null,null,null,null,null,null,null,null,null,null,null,null,null,{"$f":"SUM(B75:AF75)","v":0},"　出勤",{"$f":"COUNTIF(B74:AF74,\"出\")","v":0},{"$f":"AI75*7.8","v":0},{"$f":"AG76","v":0},{"$f":"AJ75-AK75","v":0},{"$f":"ROUNDDOWN(AL75*請求書・納品書!$M$11,)","v":0}]
["遅・早(出)",null,null,null,null,null,null,null,null,null,null,null,null,null,null,null,null,null,null,null,null,null,null,null,null,null,null,null,null,null,null,null,{"$f":"SUM(B76:AF76)","v":0},"　残業",null,null,null,{"$f":"AG75","v":0},{"$f":"ROUNDDOWN(AL76*請求書・納品書!$M$12,)","v":0}]
["遅・早(公)",null,null,null,null,null,null,null,null,null,null,null,null,null,null,null,null,null,null,null,null,null,null,null,null,null,null,null,null,null,null,null,{"$f":"SUM(B77:AF77)","v":0},"　公出",{"$f":"COUNTIF(B74:AF74,\"公\")","v":0},{"$f":"AI77*7.8","v":0},{"$f":"AG77","v":0},{"$f":"AJ77-AK77","v":0},{"$f":"ROUNDDOWN(AL77*請求書・納品書!$M$13,)","v":0}]
["連続",null,null,null,null,null,null,null,null,null,null,null,null,null,null,null,null,null,null,null,null,null,null,null,null,null,null,null,null,null,null,null,{"$f":"SUM(B78:AF78)","v":0},"　連続",null,null,null,{"$f":"AG78","v":0},{"$f":"AL78*請求書・納品書!$M$14","v":0}]
[null,null,null,null,null,null,null,null,null,null,null,null,null,null,null,null,null,null,null,null,null,null,null,null,null,null,null,null,null,null,null,null,null,null,null,null,null,"合　計",{"$f":"SUM(AM75:AM78)","v":0}]
[null,null,null,null,null,null,null,null,null,null,null,null,null,null,null,null,null,null,null,null,null,null,null,null,null,null,null,null,null,null,null,null,null,{"$f":"A80","v":0},"日数(日)","勤務時間(h)"," 早退（h）","合計(h)","金額(円)"]
["残業",null,null,null,null,null,null,null,null,null,null,null,null,null,null,null,null,null,null,null,null,null,null,null,null,null,null,null,null,null,null,null,{"$f":"SUM(B81:AF81)","v":0},"　出勤",{"$f":"COUNTIF(B80:AF80,\"出\")","v":0},{"$f":"AI81*7.8","v":0},{"$f":"AG82","v":0},{"$f":"AJ81-AK81","v":0},{"$f":"ROUNDDOWN(AL81*請求書・納品書!$M$11,)","v":0}]
["遅・早(出)",null,null,null,null,null,null,null,null,null,null,null,null,null,null,null,null,null,null,null,null,null,null,null,null,null,null,null,null,null,null,null,{"$f":"SUM(B82:AF82)","v":0},"　残業",null,null,null,{"$f":"AG81","v":0},{"$f":"ROUNDDOWN(AL82*請求書・納品書!$M$12,)","v":0}]
["遅・早(公)",null,null,null,null,null,null,null,null,null,null,null,null,null,null,null,null,null,null,null,null,null,null,null,null,null,null,null,null,null,null,null,{"$f":"SUM(B83:AF83)","v":0},"　公出",{"$f":"COUNTIF(B80:AF80,\"公\")","v":0},{"$f":"AI83*7.8","v":0},{"$f":"AG83","v":0},{"$f":"AJ83-AK83","v":0},{"$f":"ROUNDDOWN(AL83*請求書・納品書!$M$13,)","v":0}]
["連続",null,null,null,null,null,null,null,null,null,null,null,null,null,null,null,null,null,null,null,null,null,null,null,null,null,null,null,null,null,null,null,{"$f":"SUM(B84:AF84)","v":0},"　連続",null,null,null,{"$f":"AG84","v":0},{"$f":"AL84*請求書・納品書!$M$14","v":0}]
[null,null,null,null,null,null,null,null,null,null,null,null,null,null,null,null,null,null,null,null,null,null,null,null,null,null,null,null,null,null,null,null,null,null,null,null,null,"合　計",{"$f":"SUM(AM81:AM84)","v":0}]
[null,null,null,null,null,null,null,null,null,null,null,null,null,null,null,null,null,null,null,null,null,null,null,null,null,null,null,null,null,null,null,null,null,{"$f":"A86","v":0},"日数(日)","勤務時間(h)"," 早退（h）","合計(h)","金額(円)"]
["残業",null,null,null,null,null,null,null,null,null,null,null,null,null,null,null,null,null,null,null,null,null,null,null,null,null,null,null,null,null,null,null,{"$f":"SUM(B87:AF87)","v":0},"　出勤",{"$f":"COUNTIF(B86:AF86,\"出\")","v":0},{"$f":"AI87*7.8","v":0},{"$f":"AG88","v":0},{"$f":"AJ87-AK87","v":0},{"$f":"ROUNDDOWN(AL87*請求書・納品書!$M$11,)","v":0}]
["遅・早(出)",null,null,null,null,null,null,null,null,null,null,null,null,null,null,null,null,null,null,null,null,null,null,null,null,null,null,null,null,null,null,null,{"$f":"SUM(B88:AF88)","v":0},"　残業",null,null,null,{"$f":"AG87","v":0},{"$f":"ROUNDDOWN(AL88*請求書・納品書!$M$12,)","v":0}]
["遅・早(公)",null,null,null,null,null,null,null,null,null,null,null,null,null,null,null,null,null,null,null,null,null,null,null,null,null,null,null,null,null,null,null,{"$f":"SUM(B89:AF89)","v":0},"　公出",{"$f":"COUNTIF(B86:AF86,\"公\")","v":0},{"$f":"AI89*7.8","v":0},{"$f":"AG89","v":0},{"$f":"AJ89-AK89","v":0},{"$f":"ROUNDDOWN(AL89*請求書・納品書!$M$13,)","v":0}]
["連続",null,null,null,null,null,null,null,null,null,null,null,null,null,null,null,null,null,null,null,null,null,null,null,null,null,null,null,null,null,null,null,{"$f":"SUM(B90:AF90)","v":0},"　連続",null,null,null,{"$f":"AG90","v":0},{"$f":"AL90*請求書・納品書!$M$14","v":0}]
[null,null,null,null,null,null,null,null,null,null,null,null,null,null,null,null,null,null,null,null,null,null,null,null,null,null,null,null,null,null,null,null,null,null,null,null,null,"合　計",{"$f":"SUM(AM87:AM90)","v":0}]
[null,null,null,null,null,null,null,null,null,null,null,null,null,null,null,null,null,null,null,null,null,null,null,null,null,null,null,null,null,null,null,null,null,{"$f":"A92","v":0},"日数(日)","勤務時間(h)"," 早退（h）","合計(h)","金額(円)"]
["残業",null,null,null,null,null,null,null,null,null,null,null,null,null,null,null,null,null,null,null,null,null,null,null,null,null,null,null,null,null,null,null,{"$f":"SUM(B93:AF93)","v":0},"　出勤",{"$f":"COUNTIF(B92:AF92,\"出\")","v":0},{"$f":"AI93*7.8","v":0},{"$f":"AG94","v":0},{"$f":"AJ93-AK93","v":0},{"$f":"ROUNDDOWN(AL93*請求書・納品書!$M$11,)","v":0}]
["遅・早(出)",null,null,null,null,null,null,null,null,null,null,null,null,null,null,null,null,null,null,null,null,null,null,null,null,null,null,null,null,null,null,null,{"$f":"SUM(B94:AF94)","v":0},"　残業",null,null,null,{"$f":"AG93","v":0},{"$f":"ROUNDDOWN(AL94*請求書・納品書!$M$12,)","v":0}]
["遅・早(公)",null,null,null,null,null,null,null,null,null,null,null,null,null,null,null,null,null,null,null,null,null,null,null,null,null,null,null,null,null,null,null,{"$f":"SUM(B95:AF95)","v":0},"　公出",{"$f":"COUNTIF(B92:AF92,\"公\")","v":0},{"$f":"AI95*7.8","v":0},{"$f":"AG95","v":0},{"$f":"AJ95-AK95","v":0},{"$f":"ROUNDDOWN(AL95*請求書・納品書!$M$13,)","v":0}]
["連続",null,null,null,null,null,null,null,null,null,null,null,null,null,null,null,null,null,null,null,null,null,null,null,null,null,null,null,null,null,null,null,{"$f":"SUM(B96:AF96)","v":0},"　連続",null,null,null,{"$f":"AG96","v":0},{"$f":"AL96*請求書・納品書!$M$14","v":0}]
[null,null,null,null,null,null,null,null,null,null,null,null,null,null,null,null,null,null,null,null,null,null,null,null,null,null,null,null,null,null,null,null,null,null,null,null,null,"合　計",{"$f":"SUM(AM93:AM96)","v":0},null,{"$f":"AM79+AM85+AM91+AM97","v":0}]
[null,null,null,null,null,null,null,null,null,null,null,null,null,null,null,null,null,null,null,null,null,null,null,null,null,null,null,null,null,null,null,null,null,{"$f":"A98","v":0},"日数(日)","勤務時間(h)"," 早退（h）","合計(h)","金額(円)"]
["残業",null,null,null,null,null,null,null,null,null,null,null,null,null,null,null,null,null,null,null,null,null,null,null,null,null,null,null,null,null,null,null,{"$f":"SUM(B99:AF99)","v":0},"　出勤",{"$f":"COUNTIF(B98:AF98,\"出\")","v":0},{"$f":"AI99*7.8","v":0},{"$f":"AG100","v":0},{"$f":"AJ99-AK99","v":0},{"$f":"ROUNDDOWN(AL99*請求書・納品書!$M$11,)","v":0}]
["遅・早(出)",null,null,null,null,null,null,null,null,null,null,null,null,null,null,null,null,null,null,null,null,null,null,null,null,null,null,null,null,null,null,null,{"$f":"SUM(B100:AF100)","v":0},"　残業",null,null,null,{"$f":"AG99","v":0},{"$f":"ROUNDDOWN(AL100*請求書・納品書!$M$12,)","v":0}]
["遅・早(公)",null,null,null,null,null,null,null,null,null,null,null,null,null,null,null,null,null,null,null,null,null,null,null,null,null,null,null,null,null,null,null,{"$f":"SUM(B101:AF101)","v":0},"　公出",{"$f":"COUNTIF(B98:AF98,\"公\")","v":0},{"$f":"AI101*7.8","v":0},{"$f":"AG101","v":0},{"$f":"AJ101-AK101","v":0},{"$f":"ROUNDDOWN(AL101*請求書・納品書!$M$13,)","v":0}]
["連続",null,null,null,null,null,null,null,null,null,null,null,null,null,null,null,null,null,null,null,null,null,null,null,null,null,null,null,null,null,null,null,{"$f":"SUM(B102:AF102)","v":0},"　連続",null,null,null,{"$f":"AG102","v":0},{"$f":"AL102*請求書・納品書!$M$14","v":0}]
[null,null,null,null,null,null,null,null,null,null,null,null,null,null,null,null,null,null,null,null,null,null,null,null,null,null,null,null,null,null,null,null,null,null,null,null,null,"合　計",{"$f":"SUM(AM99:AM102)","v":0}]
[null,null,null,null,null,null,null,null,null,null,null,null,null,null,null,null,null,null,null,null,null,null,null,null,null,null,null,null,null,null,null,null,null,{"$f":"A104","v":0},"日数(日)","勤務時間(h)"," 早退（h）","合計(h)","金額(円)"]
["残業",null,null,null,null,null,null,null,null,null,null,null,null,null,null,null,null,null,null,null,null,null,null,null,null,null,null,null,null,null,null,null,{"$f":"SUM(B105:AF105)","v":0},"　出勤",{"$f":"COUNTIF(B104:AF104,\"出\")","v":0},{"$f":"AI105*7.8","v":0},{"$f":"AG106","v":0},{"$f":"AJ105-AK105","v":0},{"$f":"ROUNDDOWN(AL105*請求書・納品書!$M$11,)","v":0}]
["遅・早(出)",null,null,null,null,null,null,null,null,null,null,null,null,null,null,null,null,null,null,null,null,null,null,null,null,null,null,null,null,null,null,null,{"$f":"SUM(B106:AF106)","v":0},"　残業",null,null,null,{"$f":"AG105","v":0},{"$f":"ROUNDDOWN(AL106*請求書・納品書!$M$12,)","v":0}]
["遅・早(公)",null,null,null,null,null,null,null,null,null,null,null,null,null,null,null,null,null,null,null,null,null,null,null,null,null,null,null,null,null,null,null,{"$f":"SUM(B107:AF107)","v":0},"　公出",{"$f":"COUNTIF(B104:AF104,\"公\")","v":0},{"$f":"AI107*7.8","v":0},{"$f":"AG107","v":0},{"$f":"AJ107-AK107","v":0},{"$f":"ROUNDDOWN(AL107*請求書・納品書!$M$13,)","v":0}]
["連続",null,null,null,null,null,null,null,null,null,null,null,null,null,null,null,null,null,null,null,null,null,null,null,null,null,null,null,null,null,null,null,{"$f":"SUM(B108:AF108)","v":0},"　連続",null,null,null,{"$f":"AG108","v":0},{"$f":"AL108*請求書・納品書!$M$14","v":0}]
[null,null,null,null,null,null,null,null,null,null,null,null,null,null,null,null,null,null,null,null,null,null,null,null,null,null,null,null,null,null,null,null,null,null,null,null,null,"合　計",{"$f":"SUM(AM105:AM108)","v":0}]
[null,null,null,null,null,null,null,null,null,null,null,null,null,null,null,null,null,null,null,null,null,null,null,null,null,null,null,null,null,null,null,null,null,{"$f":"A110","v":0},"日数(日)","勤務時間(h)"," 早退（h）","合計(h)","金額(円)"]
["残業",null,null,null,null,null,null,null,null,null,null,null,null,null,null,null,null,null,null,null,null,null,null,null,null,null,null,null,null,null,null,null,{"$f":"SUM(B111:AF111)","v":0},"　出勤",{"$f":"COUNTIF(B110:AF110,\"出\")","v":0},{"$f":"AI111*7.8","v":0},{"$f":"AG112","v":0},{"$f":"AJ111-AK111","v":0},{"$f":"ROUNDDOWN(AL111*請求書・納品書!$M$11,)","v":0}]
["遅・早(出)",null,null,null,null,null,null,null,null,null,null,null,null,null,null,null,null,null,null,null,null,null,null,null,null,null,null,null,null,null,null,null,{"$f":"SUM(B112:AF112)","v":0},"　残業",null,null,null,{"$f":"AG111","v":0},{"$f":"ROUNDDOWN(AL112*請求書・納品書!$M$12,)","v":0}]
["遅・早(公)",null,null,null,null,null,null,null,null,null,null,null,null,null,null,null,null,null,null,null,null,null,null,null,null,null,null,null,null,null,null,null,{"$f":"SUM(B113:AF113)","v":0},"　公出",{"$f":"COUNTIF(B110:AF110,\"公\")","v":0},{"$f":"AI113*7.8","v":0},{"$f":"AG113","v":0},{"$f":"AJ113-AK113","v":0},{"$f":"ROUNDDOWN(AL113*請求書・納品書!$M$13,)","v":0}]
["連続",null,null,null,null,null,null,null,null,null,null,null,null,null,null,null,null,null,null,null,null,null,null,null,null,null,null,null,null,null,null,null,{"$f":"SUM(B114:AF114)","v":0},"　連続",null,null,null,{"$f":"AG114","v":0},{"$f":"AL114*請求書・納品書!$M$14","v":0}]
[null,null,null,null,null,null,null,null,null,null,null,null,null,null,null,null,null,null,null,null,null,null,null,null,null,null,null,null,null,null,null,null,null,null,null,null,null,"合　計",{"$f":"SUM(AM111:AM114)","v":0}]
[null,null,null,null,null,null,null,null,null,null,null,null,null,null,null,null,null,null,null,null,null,null,null,null,null,null,null,null,null,null,null,null,null,{"$f":"A116","v":0},"日数(日)","勤務時間(h)"," 早退（h）","合計(h)","金額(円)"]
["残業",null,null,null,null,null,null,null,null,null,null,null,null,null,null,null,null,null,null,null,null,null,null,null,null,null,null,null,null,null,null,null,{"$f":"SUM(B117:AF117)","v":0},"　出勤",{"$f":"COUNTIF(B116:AF116,\"出\")","v":0},{"$f":"AI117*7.8","v":0},{"$f":"AG118","v":0},{"$f":"AJ117-AK117","v":0},{"$f":"ROUNDDOWN(AL117*請求書・納品書!$M$11,)","v":0}]
["遅・早(出)",null,null,null,null,null,null,null,null,null,null,null,null,null,null,null,null,null,null,null,null,null,null,null,null,null,null,null,null,null,null,null,{"$f":"SUM(B118:AF118)","v":0},"　残業",null,null,null,{"$f":"AG117","v":0},{"$f":"ROUNDDOWN(AL118*請求書・納品書!$M$12,)","v":0}]
["遅・早(公)",null,null,null,null,null,null,null,null,null,null,null,null,null,null,null,null,null,null,null,null,null,null,null,null,null,null,null,null,null,null,null,{"$f":"SUM(B119:AF119)","v":0},"　公出",{"$f":"COUNTIF(B116:AF116,\"公\")","v":0},{"$f":"AI119*7.8","v":0},{"$f":"AG119","v":0},{"$f":"AJ119-AK119","v":0},{"$f":"ROUNDDOWN(AL119*請求書・納品書!$M$13,)","v":0}]
["連続",null,null,null,null,null,null,null,null,null,null,null,null,null,null,null,null,null,null,null,null,null,null,null,null,null,null,null,null,null,null,null,{"$f":"SUM(B120:AF120)","v":0},"　連続",null,null,null,{"$f":"AG120","v":0},{"$f":"AL120*請求書・納品書!$M$14","v":0}]
[null,null,null,null,null,null,null,null,null,null,null,null,null,null,null,null,null,null,null,null,null,null,null,null,null,null,null,null,null,null,null,null,null,null,null,null,null,"合　計",{"$f":"SUM(AM117:AM120)","v":0},null,{"$f":"AM103+AM109+AM115+AM121","v":0}]
[null,null,null,null,null,null,null,null,null,null,null,null,null,null,null,null,null,null,null,null,null,null,null,null,null,null,null,null,null,null,null,null,null,{"$f":"A122","v":0},"日数(日)","勤務時間(h)"," 早退（h）","合計(h)","金額(円)"]
["残業",null,null,null,null,null,null,null,null,null,null,null,null,null,null,null,null,null,null,null,null,null,null,null,null,null,null,null,null,null,null,null,{"$f":"SUM(B123:AF123)","v":0},"　出勤",{"$f":"COUNTIF(B122:AF122,\"出\")","v":0},{"$f":"AI123*7.8","v":0},{"$f":"AG124","v":0},{"$f":"AJ123-AK123","v":0},{"$f":"ROUNDDOWN(AL123*請求書・納品書!$M$11,)","v":0}]
["遅・早(出)",null,null,null,null,null,null,null,null,null,null,null,null,null,null,null,null,null,null,null,null,null,null,null,null,null,null,null,null,null,null,null,{"$f":"SUM(B124:AF124)","v":0},"　残業",null,null,null,{"$f":"AG123","v":0},{"$f":"ROUNDDOWN(AL124*請求書・納品書!$M$12,)","v":0}]
["遅・早(公)",null,null,null,null,null,null,null,null,null,null,null,null,null,null,null,null,null,null,null,null,null,null,null,null,null,null,null,null,null,null,null,{"$f":"SUM(B125:AF125)","v":0},"　公出",{"$f":"COUNTIF(B122:AF122,\"公\")","v":0},{"$f":"AI125*7.8","v":0},{"$f":"AG125","v":0},{"$f":"AJ125-AK125","v":0},{"$f":"ROUNDDOWN(AL125*請求書・納品書!$M$13,)","v":0}]
["連続",null,null,null,null,null,null,null,null,null,null,null,null,null,null,null,null,null,null,null,null,null,null,null,null,null,null,null,null,null,null,null,{"$f":"SUM(B126:AF126)","v":0},"　連続",null,null,null,{"$f":"AG126","v":0},{"$f":"AL126*請求書・納品書!$M$14","v":0}]
[null,null,null,null,null,null,null,null,null,null,null,null,null,null,null,null,null,null,null,null,null,null,null,null,null,null,null,null,null,null,null,null,null,null,null,null,null,"合　計",{"$f":"SUM(AM123:AM126)","v":0}]
[null,null,null,null,null,null,null,null,null,null,null,null,null,null,null,null,null,null,null,null,null,null,null,null,null,null,null,null,null,null,null,null,null,{"$f":"A128","v":0},"日数(日)","勤務時間(h)"," 早退（h）","合計(h)","金額(円)"]
["残業",null,null,null,null,null,null,null,null,null,null,null,null,null,null,null,null,null,null,null,null,null,null,null,null,null,null,null,null,null,null,null,{"$f":"SUM(B129:AF129)","v":0},"　出勤",{"$f":"COUNTIF(B128:AF128,\"出\")","v":0},{"$f":"AI129*7.8","v":0},{"$f":"AG130","v":0},{"$f":"AJ129-AK129","v":0},{"$f":"ROUNDDOWN(AL129*請求書・納品書!$M$11,)","v":0}]
["遅・早(出)",null,null,null,null,null,null,null,null,null,null,null,null,null,null,null,null,null,null,null,null,null,null,null,null,null,null,null,null,null,null,null,{"$f":"SUM(B130:AF130)","v":0},"　残業",null,null,null,{"$f":"AG129","v":0},{"$f":"ROUNDDOWN(AL130*請求書・納品書!$M$12,)","v":0}]
["遅・早(公)",null,null,null,null,null,null,null,null,null,null,null,null,null,null,null,null,null,null,null,null,null,null,null,null,null,null,null,null,null,null,null,{"$f":"SUM(B131:AF131)","v":0},"　公出",{"$f":"COUNTIF(B128:AF128,\"公\")","v":0},{"$f":"AI131*7.8","v":0},{"$f":"AG131","v":0},{"$f":"AJ131-AK131","v":0},{"$f":"ROUNDDOWN(AL131*請求書・納品書!$M$13,)","v":0}]
["連続",null,null,null,null,null,null,null,null,null,null,null,null,null,null,null,null,null,null,null,null,null,null,null,null,null,null,null,null,null,null,null,{"$f":"SUM(B132:AF132)","v":0},"　連続",null,null,null,{"$f":"AG132","v":0},{"$f":"AL132*請求書・納品書!$M$14","v":0}]
[null,null,null,null,null,null,null,null,null,null,null,null,null,null,null,null,null,null,null,null,null,null,null,null,null,null,null,null,null,null,null,null,null,null,null,null,null,"合　計",{"$f":"SUM(AM129:AM132)","v":0}]
[null,null,null,null,null,null,null,null,null,null,null,null,null,null,null,null,null,null,null,null,null,null,null,null,null,null,null,null,null,null,null,null,null,{"$f":"A134","v":0},"日数(日)","勤務時間(h)"," 早退（h）","合計(h)","金額(円)"]
["残業",null,null,null,null,null,null,null,null,null,null,null,null,null,null,null,null,null,null,null,null,null,null,null,null,null,null,null,null,null,null,null,{"$f":"SUM(B135:AF135)","v":0},"　出勤",{"$f":"COUNTIF(B134:AF134,\"出\")","v":0},{"$f":"AI135*7.8","v":0},{"$f":"AG136","v":0},{"$f":"AJ135-AK135","v":0},{"$f":"ROUNDDOWN(AL135*請求書・納品書!$M$11,)","v":0}]
["遅・早(出)",null,null,null,null,null,null,null,null,null,null,null,null,null,null,null,null,null,null,null,null,null,null,null,null,null,null,null,null,null,null,null,{"$f":"SUM(B136:AF136)","v":0},"　残業",null,null,null,{"$f":"AG135","v":0},{"$f":"ROUNDDOWN(AL136*請求書・納品書!$M$12,)","v":0}]
["遅・早(公)",null,null,null,null,null,null,null,null,null,null,null,null,null,null,null,null,null,null,null,null,null,null,null,null,null,null,null,null,null,null,null,{"$f":"SUM(B137:AF137)","v":0},"　公出",{"$f":"COUNTIF(B134:AF134,\"公\")","v":0},{"$f":"AI137*7.8","v":0},{"$f":"AG137","v":0},{"$f":"AJ137-AK137","v":0},{"$f":"ROUNDDOWN(AL137*請求書・納品書!$M$13,)","v":0}]
["連続",null,null,null,null,null,null,null,null,null,null,null,null,null,null,null,null,null,null,null,null,null,null,null,null,null,null,null,null,null,null,null,{"$f":"SUM(B138:AF138)","v":0},"　連続",null,null,null,{"$f":"AG138","v":0},{"$f":"AL138*請求書・納品書!$M$14","v":0}]
[null,null,null,null,null,null,null,null,null,null,null,null,null,null,null,null,null,null,null,null,null,null,null,null,null,null,null,null,null,null,null,null,null,null,null,null,null,"合　計",{"$f":"SUM(AM135:AM138)","v":0}]
[null,null,null,null,null,null,null,null,null,null,null,null,null,null,null,null,null,null,null,null,null,null,null,null,null,null,null,null,null,null,null,null,null,{"$f":"A140","v":0},"日数(日)","勤務時間(h)"," 早退（h）","合計(h)","金額(円)"]
["残業",null,null,null,null,null,null,null,null,null,null,null,null,null,null,null,null,null,null,null,null,null,null,null,null,null,null,null,null,null,null,null,{"$f":"SUM(B141:AF141)","v":0},"　出勤",{"$f":"COUNTIF(B140:AF140,\"出\")","v":0},{"$f":"AI141*7.8","v":0},{"$f":"AG142","v":0},{"$f":"AJ141-AK141","v":0},{"$f":"ROUNDDOWN(AL141*請求書・納品書!$M$11,)","v":0}]
["遅・早(出)",null,null,null,null,null,null,null,null,null,null,null,null,null,null,null,null,null,null,null,null,null,null,null,null,null,null,null,null,null,null,null,{"$f":"SUM(B142:AF142)","v":0},"　残業",null,null,null,{"$f":"AG141","v":0},{"$f":"ROUNDDOWN(AL142*請求書・納品書!$M$12,)","v":0}]
["遅・早(公)",null,null,null,null,null,null,null,null,null,null,null,null,null,null,null,null,null,null,null,null,null,null,null,null,null,null,null,null,null,null,null,{"$f":"SUM(B143:AF143)","v":0},"　公出",{"$f":"COUNTIF(B140:AF140,\"公\")","v":0},{"$f":"AI143*7.8","v":0},{"$f":"AG143","v":0},{"$f":"AJ143-AK143","v":0},{"$f":"ROUNDDOWN(AL143*請求書・納品書!$M$13,)","v":0}]
["連続",null,null,null,null,null,null,null,null,null,null,null,null,null,null,null,null,null,null,null,null,null,null,null,null,null,null,null,null,null,null,null,{"$f":"SUM(B144:AF144)","v":0},"　連続",null,null,null,{"$f":"AG144","v":0},{"$f":"AL144*請求書・納品書!$M$14","v":0}]
[null,null,null,null,null,null,null,null,null,null,null,null,null,null,null,null,null,null,null,null,null,null,null,null,null,null,null,null,null,null,null,null,null,null,null,null,null,"合　計",{"$f":"SUM(AM141:AM144)","v":0},null,{"$f":"AM127+AM133+AM139+AM145","v":0}]
[null,null,null,null,null,null,null,null,null,null,null,null,null,null,null,null,null,null,null,null,null,null,null,null,null,null,null,null,null,null,null,null,null,{"$f":"A146","v":0},"日数(日)","勤務時間(h)"," 早退（h）","合計(h)","金額(円)"]
["残業",null,null,null,null,null,null,null,null,null,null,null,null,null,null,null,null,null,null,null,null,null,null,null,null,null,null,null,null,null,null,null,{"$f":"SUM(B147:AF147)","v":0},"　出勤",{"$f":"COUNTIF(B146:AF146,\"出\")","v":0},{"$f":"AI147*7.8","v":0},{"$f":"AG148","v":0},{"$f":"AJ147-AK147","v":0},{"$f":"ROUNDDOWN(AL147*請求書・納品書!$M$11,)","v":0}]
["遅・早(出)",null,null,null,null,null,null,null,null,null,null,null,null,null,null,null,null,null,null,null,null,null,null,null,null,null,null,null,null,null,null,null,{"$f":"SUM(B148:AF148)","v":0},"　残業",null,null,null,{"$f":"AG147","v":0},{"$f":"ROUNDDOWN(AL148*請求書・納品書!$M$12,)","v":0}]
["遅・早(公)",null,null,null,null,null,null,null,null,null,null,null,null,null,null,null,null,null,null,null,null,null,null,null,null,null,null,null,null,null,null,null,{"$f":"SUM(B149:AF149)","v":0},"　公出",{"$f":"COUNTIF(B146:AF146,\"公\")","v":0},{"$f":"AI149*7.8","v":0},{"$f":"AG149","v":0},{"$f":"AJ149-AK149","v":0},{"$f":"ROUNDDOWN(AL149*請求書・納品書!$M$13,)","v":0}]
["連続",null,null,null,null,null,null,null,null,null,null,null,null,null,null,null,null,null,null,null,null,null,null,null,null,null,null,null,null,null,null,null,{"$f":"SUM(B150:AF150)","v":0},"　連続",null,null,null,{"$f":"AG150","v":0},{"$f":"AL150*請求書・納品書!$M$14","v":0}]
[null,null,null,null,null,null,null,null,null,null,null,null,null,null,null,null,null,null,null,null,null,null,null,null,null,null,null,null,null,null,null,null,null,null,null,null,null,"合　計",{"$f":"SUM(AM147:AM150)","v":0}]
[null,null,null,null,null,null,null,null,null,null,null,null,null,null,null,null,null,null,null,null,null,null,null,null,null,null,null,null,null,null,null,null,null,{"$f":"A152","v":0},"日数(日)","勤務時間(h)"," 早退（h）","合計(h)","金額(円)"]
["残業",null,null,null,null,null,null,null,null,null,null,null,null,null,null,null,null,null,null,null,null,null,null,null,null,null,null,null,null,null,null,null,{"$f":"SUM(B153:AF153)","v":0},"　出勤",{"$f":"COUNTIF(B152:AF152,\"出\")","v":0},{"$f":"AI153*7.8","v":0},{"$f":"AG154","v":0},{"$f":"AJ153-AK153","v":0},{"$f":"ROUNDDOWN(AL153*請求書・納品書!$M$11,)","v":0}]
["遅・早(出)",null,null,null,null,null,null,null,null,null,null,null,null,null,null,null,null,null,null,null,null,null,null,null,null,null,null,null,null,null,null,null,{"$f":"SUM(B154:AF154)","v":0},"　残業",null,null,null,{"$f":"AG153","v":0},{"$f":"ROUNDDOWN(AL154*請求書・納品書!$M$12,)","v":0}]
["遅・早(公)",null,null,null,null,null,null,null,null,null,null,null,null,null,null,null,null,null,null,null,null,null,null,null,null,null,null,null,null,null,null,null,{"$f":"SUM(B155:AF155)","v":0},"　公出",{"$f":"COUNTIF(B152:AF152,\"公\")","v":0},{"$f":"AI155*7.8","v":0},{"$f":"AG155","v":0},{"$f":"AJ155-AK155","v":0},{"$f":"ROUNDDOWN(AL155*請求書・納品書!$M$13,)","v":0}]
["連続",null,null,null,null,null,null,null,null,null,null,null,null,null,null,null,null,null,null,null,null,null,null,null,null,null,null,null,null,null,null,null,{"$f":"SUM(B156:AF156)","v":0},"　連続",null,null,null,{"$f":"AG156","v":0},{"$f":"AL156*請求書・納品書!$M$14","v":0}]
[null,null,null,null,null,null,null,null,null,null,null,null,null,null,null,null,null,null,null,null,null,null,null,null,null,null,null,null,null,null,null,null,null,null,null,null,null,"合　計",{"$f":"SUM(AM153:AM156)","v":0}]
[null,null,null,null,null,null,null,null,null,null,null,null,null,null,null,null,null,null,null,null,null,null,null,null,null,null,null,null,null,null,null,null,null,{"$f":"A158","v":0},"日数(日)","勤務時間(h)"," 早退（h）","合計(h)","金額(円)"]
["残業",null,null,null,null,null,null,null,null,null,null,null,null,null,null,null,null,null,null,null,null,null,null,null,null,null,null,null,null,null,null,null,{"$f":"SUM(B159:AF159)","v":0},"　出勤",{"$f":"COUNTIF(B158:AF158,\"出\")","v":0},{"$f":"AI159*7.8","v":0},{"$f":"AG160","v":0},{"$f":"AJ159-AK159","v":0},{"$f":"ROUNDDOWN(AL159*請求書・納品書!$M$11,)","v":0}]
["遅・早(出)",null,null,null,null,null,null,null,null,null,null,null,null,null,null,null,null,null,null,null,null,null,null,null,null,null,null,null,null,null,null,null,{"$f":"SUM(B160:AF160)","v":0},"　残業",null,null,null,{"$f":"AG159","v":0},{"$f":"ROUNDDOWN(AL160*請求書・納品書!$M$12,)","v":0}]
["遅・早(公)",null,null,null,null,null,null,null,null,null,null,null,null,null,null,null,null,null,null,null,null,null,null,null,null,null,null,null,null,null,null,null,{"$f":"SUM(B161:AF161)","v":0},"　公出",{"$f":"COUNTIF(B158:AF158,\"公\")","v":0},{"$f":"AI161*7.8","v":0},{"$f":"AG161","v":0},{"$f":"AJ161-AK161","v":0},{"$f":"ROUNDDOWN(AL161*請求書・納品書!$M$13,)","v":0}]
["連続",null,null,null,null,null,null,null,null,null,null,null,null,null,null,null,null,null,null,null,null,null,null,null,null,null,null,null,null,null,null,null,{"$f":"SUM(B162:AF162)","v":0},"　連続",null,null,null,{"$f":"AG162","v":0},{"$f":"AL162*請求書・納品書!$M$14","v":0}]
[null,null,null,null,null,null,null,null,null,null,null,null,null,null,null,null,null,null,null,null,null,null,null,null,null,null,null,null,null,null,null,null,null,null,null,null,null,"合　計",{"$f":"SUM(AM159:AM162)","v":0}]
[null,null,null,null,null,null,null,null,null,null,null,null,null,null,null,null,null,null,null,null,null,null,null,null,null,null,null,null,null,null,null,null,null,{"$f":"A164","v":0},"日数(日)","勤務時間(h)"," 早退（h）","合計(h)","金額(円)"]
["残業",null,null,null,null,null,null,null,null,null,null,null,null,null,null,null,null,null,null,null,null,null,null,null,null,null,null,null,null,null,null,null,{"$f":"SUM(B165:AF165)","v":0},"　出勤",{"$f":"COUNTIF(B164:AF164,\"出\")","v":0},{"$f":"AI165*7.8","v":0},{"$f":"AG166","v":0},{"$f":"AJ165-AK165","v":0},{"$f":"ROUNDDOWN(AL165*請求書・納品書!$M$11,)","v":0}]
["遅・早(出)",null,null,null,null,null,null,null,null,null,null,null,null,null,null,null,null,null,null,null,null,null,null,null,null,null,null,null,null,null,null,null,{"$f":"SUM(B166:AF166)","v":0},"　残業",null,null,null,{"$f":"AG165","v":0},{"$f":"ROUNDDOWN(AL166*請求書・納品書!$M$12,)","v":0}]
["遅・早(公)",null,null,null,null,null,null,null,null,null,null,null,null,null,null,null,null,null,null,null,null,null,null,null,null,null,null,null,null,null,null,null,{"$f":"SUM(B167:AF167)","v":0},"　公出",{"$f":"COUNTIF(B164:AF164,\"公\")","v":0},{"$f":"AI167*7.8","v":0},{"$f":"AG167","v":0},{"$f":"AJ167-AK167","v":0},{"$f":"ROUNDDOWN(AL167*請求書・納品書!$M$13,)","v":0}]
["連続",null,null,null,null,null,null,null,null,null,null,null,null,null,null,null,null,null,null,null,null,null,null,null,null,null,null,null,null,null,null,null,{"$f":"SUM(B168:AF168)","v":0},"　連続",null,null,null,{"$f":"AG168","v":0},{"$f":"AL168*請求書・納品書!$M$14","v":0}]
[null,null,null,null,null,null,null,null,null,null,null,null,null,null,null,null,null,null,null,null,null,null,null,null,null,null,null,null,null,null,null,null,null,null,null,null,null,"合　計",{"$f":"SUM(AM165:AM168)","v":0},null,{"$f":"AM151+AM157+AM163+AM169","v":0}]
[null,null,null,null,null,null,null,null,null,null,null,null,null,null,null,null,null,null,null,null,null,null,null,null,null,null,null,null,null,null,null,null,null,{"$f":"A170","v":0},"日数(日)","勤務時間(h)"," 早退（h）","合計(h)","金額(円)"]
["残業",null,null,null,null,null,null,null,null,null,null,null,null,null,null,null,null,null,null,null,null,null,null,null,null,null,null,null,null,null,null,null,{"$f":"SUM(B171:AF171)","v":0},"　出勤",{"$f":"COUNTIF(B170:AF170,\"出\")","v":0},{"$f":"AI171*7.8","v":0},{"$f":"AG172","v":0},{"$f":"AJ171-AK171","v":0},{"$f":"ROUNDDOWN(AL171*請求書・納品書!$M$11,)","v":0}]
["遅・早(出)",null,null,null,null,null,null,null,null,null,null,null,null,null,null,null,null,null,null,null,null,null,null,null,null,null,null,null,null,null,null,null,{"$f":"SUM(B172:AF172)","v":0},"　残業",null,null,null,{"$f":"AG171","v":0},{"$f":"ROUNDDOWN(AL172*請求書・納品書!$M$12,)","v":0}]
["遅・早(公)",null,null,null,null,null,null,null,null,null,null,null,null,null,null,null,null,null,null,null,null,null,null,null,null,null,null,null,null,null,null,null,{"$f":"SUM(B173:AF173)","v":0},"　公出",{"$f":"COUNTIF(B170:AF170,\"公\")","v":0},{"$f":"AI173*7.8","v":0},{"$f":"AG173","v":0},{"$f":"AJ173-AK173","v":0},{"$f":"ROUNDDOWN(AL173*請求書・納品書!$M$13,)","v":0}]
["連続",null,null,null,null,null,null,null,null,null,null,null,null,null,null,null,null,null,null,null,null,null,null,null,null,null,null,null,null,null,null,null,{"$f":"SUM(B174:AF174)","v":0},"　連続",null,null,null,{"$f":"AG174","v":0},{"$f":"AL174*請求書・納品書!$M$14","v":0}]
[null,null,null,null,null,null,null,null,null,null,null,null,null,null,null,null,null,null,null,null,null,null,null,null,null,null,null,null,null,null,null,null,null,null,null,null,null,"合　計",{"$f":"SUM(AM171:AM174)","v":0}]
[null,null,null,null,null,null,null,null,null,null,null,null,null,null,null,null,null,null,null,null,null,null,null,null,null,null,null,null,null,null,null,null,null,{"$f":"A176","v":0},"日数(日)","勤務時間(h)"," 早退（h）","合計(h)","金額(円)"]
["残業",null,null,null,null,null,null,null,null,null,null,null,null,null,null,null,null,null,null,null,null,null,null,null,null,null,null,null,null,null,null,null,{"$f":"SUM(B177:AF177)","v":0},"　出勤",{"$f":"COUNTIF(B176:AF176,\"出\")","v":0},{"$f":"AI177*7.8","v":0},{"$f":"AG178","v":0},{"$f":"AJ177-AK177","v":0},{"$f":"ROUNDDOWN(AL177*請求書・納品書!$M$11,)","v":0}]
["遅・早(出)",null,null,null,null,null,null,null,null,null,null,null,null,null,null,null,null,null,null,null,null,null,null,null,null,null,null,null,null,null,null,null,{"$f":"SUM(B178:AF178)","v":0},"　残業",null,null,null,{"$f":"AG177","v":0},{"$f":"ROUNDDOWN(AL178*請求書・納品書!$M$12,)","v":0}]
["遅・早(公)",null,null,null,null,null,null,null,null,null,null,null,null,null,null,null,null,null,null,null,null,null,null,null,null,null,null,null,null,null,null,null,{"$f":"SUM(B179:AF179)","v":0},"　公出",{"$f":"COUNTIF(B176:AF176,\"公\")","v":0},{"$f":"AI179*7.8","v":0},{"$f":"AG179","v":0},{"$f":"AJ179-AK179","v":0},{"$f":"ROUNDDOWN(AL179*請求書・納品書!$M$13,)","v":0}]
["連続",null,null,null,null,null,null,null,null,null,null,null,null,null,null,null,null,null,null,null,null,null,null,null,null,null,null,null,null,null,null,null,{"$f":"SUM(B180:AF180)","v":0},"　連続",null,null,null,{"$f":"AG180","v":0},{"$f":"AL180*請求書・納品書!$M$14","v":0}]
[null,null,null,null,null,null,null,null,null,null,null,null,null,null,null,null,null,null,null,null,null,null,null,null,null,null,null,null,null,null,null,null,null,null,null,null,null,"合　計",{"$f":"SUM(AM177:AM180)","v":0}]
[null,null,null,null,null,null,null,null,null,null,null,null,null,null,null,null,null,null,null,null,null,null,null,null,null,null,null,null,null,null,null,null,null,{"$f":"A182","v":0},"日数(日)","勤務時間(h)"," 早退（h）","合計(h)","金額(円)"]
["残業",null,null,null,null,null,null,null,null,null,null,null,null,null,null,null,null,null,null,null,null,null,null,null,null,null,null,null,null,null,null,null,{"$f":"SUM(B183:AF183)","v":0},"　出勤",{"$f":"COUNTIF(B182:AF182,\"出\")","v":0},{"$f":"AI183*7.8","v":0},{"$f":"AG184","v":0},{"$f":"AJ183-AK183","v":0},{"$f":"ROUNDDOWN(AL183*請求書・納品書!$M$11,)","v":0}]
["遅・早(出)",null,null,null,null,null,null,null,null,null,null,null,null,null,null,null,null,null,null,null,null,null,null,null,null,null,null,null,null,null,null,null,{"$f":"SUM(B184:AF184)","v":0},"　残業",null,null,null,{"$f":"AG183","v":0},{"$f":"ROUNDDOWN(AL184*請求書・納品書!$M$12,)","v":0}]
["遅・早(公)",null,null,null,null,null,null,null,null,null,null,null,null,null,null,null,null,null,null,null,null,null,null,null,null,null,null,null,null,null,null,null,{"$f":"SUM(B185:AF185)","v":0},"　公出",{"$f":"COUNTIF(B182:AF182,\"公\")","v":0},{"$f":"AI185*7.8","v":0},{"$f":"AG185","v":0},{"$f":"AJ185-AK185","v":0},{"$f":"ROUNDDOWN(AL185*請求書・納品書!$M$13,)","v":0}]
["連続",null,null,null,null,null,null,null,null,null,null,null,null,null,null,null,null,null,null,null,null,null,null,null,null,null,null,null,null,null,null,null,{"$f":"SUM(B186:AF186)","v":0},"　連続",null,null,null,{"$f":"AG186","v":0},{"$f":"AL186*請求書・納品書!$M$14","v":0}]
[null,null,null,null,null,null,null,null,null,null,null,null,null,null,null,null,null,null,null,null,null,null,null,null,null,null,null,null,null,null,null,null,null,null,null,null,null,"合　計",{"$f":"SUM(AM183:AM186)","v":0}]
[null,null,null,null,null,null,null,null,null,null,null,null,null,null,null,null,null,null,null,null,null,null,null,null,null,null,null,null,null,null,null,null,null,{"$f":"A188","v":0},"日数(日)","勤務時間(h)"," 早退（h）","合計(h)","金額(円)"]
["残業",null,null,null,null,null,null,null,null,null,null,null,null,null,null,null,null,null,null,null,null,null,null,null,null,null,null,null,null,null,null,null,{"$f":"SUM(B189:AF189)","v":0},"　出勤",{"$f":"COUNTIF(B188:AF188,\"出\")","v":0},{"$f":"AI189*7.8","v":0},{"$f":"AG190","v":0},{"$f":"AJ189-AK189","v":0},{"$f":"ROUNDDOWN(AL189*請求書・納品書!$M$11,)","v":0}]
["遅・早(出)",null,null,null,null,null,null,null,null,null,null,null,null,null,null,null,null,null,null,null,null,null,null,null,null,null,null,null,null,null,null,null,{"$f":"SUM(B190:AF190)","v":0},"　残業",null,null,null,{"$f":"AG189","v":0},{"$f":"ROUNDDOWN(AL190*請求書・納品書!$M$12,)","v":0}]
["遅・早(公)",null,null,null,null,null,null,null,null,null,null,null,null,null,null,null,null,null,null,null,null,null,null,null,null,null,null,null,null,null,null,null,{"$f":"SUM(B191:AF191)","v":0},"　公出",{"$f":"COUNTIF(B188:AF188,\"公\")","v":0},{"$f":"AI191*7.8","v":0},{"$f":"AG191","v":0},{"$f":"AJ191-AK191","v":0},{"$f":"ROUNDDOWN(AL191*請求書・納品書!$M$13,)","v":0}]
["連続",null,null,null,null,null,null,null,null,null,null,null,null,null,null,null,null,null,null,null,null,null,null,null,null,null,null,null,null,null,null,null,{"$f":"SUM(B192:AF192)","v":0},"　連続",null,null,null,{"$f":"AG192","v":0},{"$f":"AL192*請求書・納品書!$M$14","v":0}]
[null,null,null,null,null,null,null,null,null,null,null,null,null,null,null,null,null,null,null,null,null,null,null,null,null,null,null,null,null,null,null,null,null,null,null,null,null,"合　計",{"$f":"SUM(AM189:AM192)","v":0},null,{"$f":"AM175+AM181+AM187+AM193","v":0}]

{"sheet":"6","index":2,"n_rows":193,"n_cols":42,"rows_kept":193,"cut":false,"hidden":false,"merged":[]}
[{"$f":"'4'!A1","v":2010},1,2,3,4,5,6,7,8,9,10,11,12,13,14,15,16,17,18,19,20,21,22,23,24,25,26,27,28,29,30,31,"計",{"$f":"A1&\"年\"&MID(CELL(\"filename\",$A$1),FIND(\"]\",CELL(\"filename\",$A$1))+1,31) &\"月\"","v":"2010年6月"}]
[null,null,null,null,null,null,null,null,null,null,null,null,null,null,null,null,null,null,null,null,null,null,null,null,null,null,null,null,null,null,null,null,null,{"$f":"A2","v":0},"日数(日)","勤務時間(h)"," 早退（h）","合計(h)","金額(円)","出","　合計",{"$f":"SUM(AM:AM)/2","v":0}]
["残業",null,null,null,null,null,null,null,null,null,null,null,null,null,null,null,null,null,null,null,null,null,null,null,null,null,null,null,null,null,null,null,{"$f":"SUM(B3:AF3)","v":0},"　出勤",{"$f":"COUNTIF(B2:AF2,\"出\")","v":0},{"$f":"AI3*7.8","v":0},{"$f":"AG4","v":0},{"$f":"AJ3-AK3","v":0},{"$f":"ROUNDDOWN(AL3*請求書・納品書!$M$11,)","v":0},"公","　人数",{"$f":"COUNTA(AH:AH)-COUNTIF(AH:AH,0)-32*4-1","v":0}]
["遅・早(出)",null,null,null,null,null,null,null,null,null,null,null,null,null,null,null,null,null,null,null,null,null,null,null,null,null,null,null,null,null,null,null,{"$f":"SUM(B4:AF4)","v":0},"　残業",null,null,null,{"$f":"AG3","v":0},{"$f":"ROUNDDOWN(AL4*請求書・納品書!$M$12,)","v":0},"欠","　管理費",{"$f":"(AP3-AP9)*19400","v":0}]
["遅・早(公)",null,null,null,null,null,null,null,null,null,null,null,null,null,null,null,null,null,null,null,null,null,null,null,null,null,null,null,null,null,null,null,{"$f":"SUM(B5:AF5)","v":0},"　公出",{"$f":"COUNTIF(B2:AF2,\"公\")","v":0},{"$f":"AI5*7.8","v":0},{"$f":"AG5","v":0},{"$f":"AJ5-AK5","v":0},{"$f":"ROUNDDOWN(AL5*請求書・納品書!$M$13,)","v":0},"有","　小計",{"$f":"AP2+AP4","v":0}]
["連続",null,null,null,null,null,null,null,null,null,null,null,null,null,null,null,null,null,null,null,null,null,null,null,null,null,null,null,null,null,null,null,{"$f":"SUM(B6:AF6)","v":0},"　連続",null,null,null,{"$f":"AG6","v":0},{"$f":"AL6*請求書・納品書!$M$14","v":0},"半","　消費税",{"$f":"ROUNDDOWN(AP5*0.05,)","v":0}]
[null,null,null,null,null,null,null,null,null,null,null,null,null,null,null,null,null,null,null,null,null,null,null,null,null,null,null,null,null,null,null,null,null,null,null,null,null,"合　計",{"$f":"SUM(AM3:AM6)","v":0},null,"　総合計",{"$f":"AP5+AP6","v":0}]
[null,null,null,null,null,null,null,null,null,null,null,null,null,null,null,null,null,null,null,null,null,null,null,null,null,null,null,null,null,null,null,null,null,{"$f":"A8","v":0},"日数(日)","勤務時間(h)"," 早退（h）","合計(h)","金額(円)"]
["残業",null,null,null,null,null,null,null,null,null,null,null,null,null,null,null,null,null,null,null,null,null,null,null,null,null,null,null,null,null,null,null,{"$f":"SUM(B9:AF9)","v":0},"　出勤",{"$f":"COUNTIF(B8:AF8,\"出\")","v":0},{"$f":"AI9*7.8","v":0},{"$f":"AG10","v":0},{"$f":"AJ9-AK9","v":0},{"$f":"ROUNDDOWN(AL9*請求書・納品書!$M$11,)","v":0},null,"管理費に入れない人数"]
["遅・早(出)",null,null,null,null,null,null,null,null,null,null,null,null,null,null,null,null,null,null,null,null,null,null,null,null,null,null,null,null,null,null,null,{"$f":"SUM(B10:AF10)","v":0},"　残業",null,null,null,{"$f":"AG9","v":0},{"$f":"ROUNDDOWN(AL10*請求書・納品書!$M$12,)","v":0}]
["遅・早(公)",null,null,null,null,null,null,null,null,null,null,null,null,null,null,null,null,null,null,null,null,null,null,null,null,null,null,null,null,null,null,null,{"$f":"SUM(B11:AF11)","v":0},"　公出",{"$f":"COUNTIF(B8:AF8,\"公\")","v":0},{"$f":"AI11*7.8","v":0},{"$f":"AG11","v":0},{"$f":"AJ11-AK11","v":0},{"$f":"ROUNDDOWN(AL11*請求書・納品書!$M$13,)","v":0}]
["連続",null,null,null,null,null,null,null,null,null,null,null,null,null,null,null,null,null,null,null,null,null,null,null,null,null,null,null,null,null,null,null,{"$f":"SUM(B12:AF12)","v":0},"　連続",null,null,null,{"$f":"AG12","v":0},{"$f":"AL12*請求書・納品書!$M$14","v":0}]
[null,null,null,null,null,null,null,null,null,null,null,null,null,null,null,null,null,null,null,null,null,null,null,null,null,null,null,null,null,null,null,null,null,null,null,null,null,"合　計",{"$f":"SUM(AM9:AM12)","v":0}]
[null,null,null,null,null,null,null,null,null,null,null,null,null,null,null,null,null,null,null,null,null,null,null,null,null,null,null,null,null,null,null,null,null,{"$f":"A14","v":0},"日数(日)","勤務時間(h)"," 早退（h）","合計(h)","金額(円)"]
["残業",null,null,null,null,null,null,null,null,null,null,null,null,null,null,null,null,null,null,null,null,null,null,null,null,null,null,null,null,null,null,null,{"$f":"SUM(B15:AF15)","v":0},"　出勤",{"$f":"COUNTIF(B14:AF14,\"出\")","v":0},{"$f":"AI15*7.8","v":0},{"$f":"AG16","v":0},{"$f":"AJ15-AK15","v":0},{"$f":"ROUNDDOWN(AL15*請求書・納品書!$M$11,)","v":0}]
["遅・早(出)",null,null,null,null,null,null,null,null,null,null,null,null,null,null,null,null,null,null,null,null,null,null,null,null,null,null,null,null,null,null,null,{"$f":"SUM(B16:AF16)","v":0},"　残業",null,null,null,{"$f":"AG15","v":0},{"$f":"ROUNDDOWN(AL16*請求書・納品書!$M$12,)","v":0}]
["遅・早(公)",null,null,null,null,null,null,null,null,null,null,null,null,null,null,null,null,null,null,null,null,null,null,null,null,null,null,null,null,null,null,null,{"$f":"SUM(B17:AF17)","v":0},"　公出",{"$f":"COUNTIF(B14:AF14,\"公\")","v":0},{"$f":"AI17*7.8","v":0},{"$f":"AG17","v":0},{"$f":"AJ17-AK17","v":0},{"$f":"ROUNDDOWN(AL17*請求書・納品書!$M$13,)","v":0}]
["連続",null,null,null,null,null,null,null,null,null,null,null,null,null,null,null,null,null,null,null,null,null,null,null,null,null,null,null,null,null,null,null,{"$f":"SUM(B18:AF18)","v":0},"　連続",null,null,null,{"$f":"AG18","v":0},{"$f":"AL18*請求書・納品書!$M$14","v":0}]
[null,null,null,null,null,null,null,null,null,null,null,null,null,null,null,null,null,null,null,null,null,null,null,null,null,null,null,null,null,null,null,null,null,null,null,null,null,"合　計",{"$f":"SUM(AM15:AM18)","v":0}]
[null,null,null,null,null,null,null,null,null,null,null,null,null,null,null,null,null,null,null,null,null,null,null,null,null,null,null,null,null,null,null,null,null,{"$f":"A20","v":0},"日数(日)","勤務時間(h)"," 早退（h）","合計(h)","金額(円)"]
["残業",null,null,null,null,null,null,null,null,null,null,null,null,null,null,null,null,null,null,null,null,null,null,null,null,null,null,null,null,null,null,null,{"$f":"SUM(B21:AF21)","v":0},"　出勤",{"$f":"COUNTIF(B20:AF20,\"出\")","v":0},{"$f":"AI21*7.8","v":0},{"$f":"AG22","v":0},{"$f":"AJ21-AK21","v":0},{"$f":"ROUNDDOWN(AL21*請求書・納品書!$M$11,)","v":0}]
["遅・早(出)",null,null,null,null,null,null,null,null,null,null,null,null,null,null,null,null,null,null,null,null,null,null,null,null,null,null,null,null,null,null,null,{"$f":"SUM(B22:AF22)","v":0},"　残業",null,null,null,{"$f":"AG21","v":0},{"$f":"ROUNDDOWN(AL22*請求書・納品書!$M$12,)","v":0}]
["遅・早(公)",null,null,null,null,null,null,null,null,null,null,null,null,null,null,null,null,null,null,null,null,null,null,null,null,null,null,null,null,null,null,null,{"$f":"SUM(B23:AF23)","v":0},"　公出",{"$f":"COUNTIF(B20:AF20,\"公\")","v":0},{"$f":"AI23*7.8","v":0},{"$f":"AG23","v":0},{"$f":"AJ23-AK23","v":0},{"$f":"ROUNDDOWN(AL23*請求書・納品書!$M$13,)","v":0}]
["連続",null,null,null,null,null,null,null,null,null,null,null,null,null,null,null,null,null,null,null,null,null,null,null,null,null,null,null,null,null,null,null,{"$f":"SUM(B24:AF24)","v":0},"　連続",null,null,null,{"$f":"AG24","v":0},{"$f":"AL24*請求書・納品書!$M$14","v":0}]
[null,null,null,null,null,null,null,null,null,null,null,null,null,null,null,null,null,null,null,null,null,null,null,null,null,null,null,null,null,null,null,null,null,null,null,null,null,"合　計",{"$f":"SUM(AM21:AM24)","v":0},null,{"$f":"AM7+AM13+AM19+AM25","v":0}]
[null,null,null,null,null,null,null,null,null,null,null,null,null,null,null,null,null,null,null,null,null,null,null,null,null,null,null,null,null,null,null,null,null,{"$f":"A26","v":0},"日数(日)","勤務時間(h)"," 早退（h）","合計(h)","金額(円)"]
["残業",null,null,null,null,null,null,null,null,null,null,null,null,null,null,null,null,null,null,null,null,null,null,null,null,null,null,null,null,null,null,null,{"$f":"SUM(B27:AF27)","v":0},"　出勤",{"$f":"COUNTIF(B26:AF26,\"出\")","v":0},{"$f":"AI27*7.8","v":0},{"$f":"AG28","v":0},{"$f":"AJ27-AK27","v":0},{"$f":"ROUNDDOWN(AL27*請求書・納品書!$M$11,)","v":0}]
["遅・早(出)",null,null,null,null,null,null,null,null,null,null,null,null,null,null,null,null,null,null,null,null,null,null,null,null,null,null,null,null,null,null,null,{"$f":"SUM(B28:AF28)","v":0},"　残業",null,null,null,{"$f":"AG27","v":0},{"$f":"ROUNDDOWN(AL28*請求書・納品書!$M$12,)","v":0}]
["遅・早(公)",null,null,null,null,null,null,null,null,null,null,null,null,null,null,null,null,null,null,null,null,null,null,null,null,null,null,null,null,null,null,null,{"$f":"SUM(B29:AF29)","v":0},"　公出",{"$f":"COUNTIF(B26:AF26,\"公\")","v":0},{"$f":"AI29*7.8","v":0},{"$f":"AG29","v":0},{"$f":"AJ29-AK29","v":0},{"$f":"ROUNDDOWN(AL29*請求書・納品書!$M$13,)","v":0}]
["連続",null,null,null,null,null,null,null,null,null,null,null,null,null,null,null,null,null,null,null,null,null,null,null,null,null,null,null,null,null,null,null,{"$f":"SUM(B30:AF30)","v":0},"　連続",null,null,null,{"$f":"AG30","v":0},{"$f":"AL30*請求書・納品書!$M$14","v":0}]
[null,null,null,null,null,null,null,null,null,null,null,null,null,null,null,null,null,null,null,null,null,null,null,null,null,null,null,null,null,null,null,null,null,null,null,null,null,"合　計",{"$f":"SUM(AM27:AM30)","v":0}]
[null,null,null,null,null,null,null,null,null,null,null,null,null,null,null,null,null,null,null,null,null,null,null,null,null,null,null,null,null,null,null,null,null,{"$f":"A32","v":0},"日数(日)","勤務時間(h)"," 早退（h）","合計(h)","金額(円)"]
["残業",null,null,null,null,null,null,null,null,null,null,null,null,null,null,null,null,null,null,null,null,null,null,null,null,null,null,null,null,null,null,null,{"$f":"SUM(B33:AF33)","v":0},"　出勤",{"$f":"COUNTIF(B32:AF32,\"出\")","v":0},{"$f":"AI33*7.8","v":0},{"$f":"AG34","v":0},{"$f":"AJ33-AK33","v":0},{"$f":"ROUNDDOWN(AL33*請求書・納品書!$M$11,)","v":0}]
["遅・早(出)",null,null,null,null,null,null,null,null,null,null,null,null,null,null,null,null,null,null,null,null,null,null,null,null,null,null,null,null,null,null,null,{"$f":"SUM(B34:AF34)","v":0},"　残業",null,null,null,{"$f":"AG33","v":0},{"$f":"ROUNDDOWN(AL34*請求書・納品書!$M$12,)","v":0}]
["遅・早(公)",null,null,null,null,null,null,null,null,null,null,null,null,null,null,null,null,null,null,null,null,null,null,null,null,null,null,null,null,null,null,null,{"$f":"SUM(B35:AF35)","v":0},"　公出",{"$f":"COUNTIF(B32:AF32,\"公\")","v":0},{"$f":"AI35*7.8","v":0},{"$f":"AG35","v":0},{"$f":"AJ35-AK35","v":0},{"$f":"ROUNDDOWN(AL35*請求書・納品書!$M$13,)","v":0}]
["連続",null,null,null,null,null,null,null,null,null,null,null,null,null,null,null,null,null,null,null,null,null,null,null,null,null,null,null,null,null,null,null,{"$f":"SUM(B36:AF36)","v":0},"　連続",null,null,null,{"$f":"AG36","v":0},{"$f":"AL36*請求書・納品書!$M$14","v":0}]
[null,null,null,null,null,null,null,null,null,null,null,null,null,null,null,null,null,null,null,null,null,null,null,null,null,null,null,null,null,null,null,null,null,null,null,null,null,"合　計",{"$f":"SUM(AM33:AM36)","v":0}]
[null,null,null,null,null,null,null,null,null,null,null,null,null,null,null,null,null,null,null,null,null,null,null,null,null,null,null,null,null,null,null,null,null,{"$f":"A38","v":0},"日数(日)","勤務時間(h)"," 早退（h）","合計(h)","金額(円)"]
["残業",null,null,null,null,null,null,null,null,null,null,null,null,null,null,null,null,null,null,null,null,null,null,null,null,null,null,null,null,null,null,null,{"$f":"SUM(B39:AF39)","v":0},"　出勤",{"$f":"COUNTIF(B38:AF38,\"出\")","v":0},{"$f":"AI39*7.8","v":0},{"$f":"AG40","v":0},{"$f":"AJ39-AK39","v":0},{"$f":"ROUNDDOWN(AL39*請求書・納品書!$M$11,)","v":0}]
["遅・早(出)",null,null,null,null,null,null,null,null,null,null,null,null,null,null,null,null,null,null,null,null,null,null,null,null,null,null,null,null,null,null,null,{"$f":"SUM(B40:AF40)","v":0},"　残業",null,null,null,{"$f":"AG39","v":0},{"$f":"ROUNDDOWN(AL40*請求書・納品書!$M$12,)","v":0}]
["遅・早(公)",null,null,null,null,null,null,null,null,null,null,null,null,null,null,null,null,null,null,null,null,null,null,null,null,null,null,null,null,null,null,null,{"$f":"SUM(B41:AF41)","v":0},"　公出",{"$f":"COUNTIF(B38:AF38,\"公\")","v":0},{"$f":"AI41*7.8","v":0},{"$f":"AG41","v":0},{"$f":"AJ41-AK41","v":0},{"$f":"ROUNDDOWN(AL41*請求書・納品書!$M$13,)","v":0}]
["連続",null,null,null,null,null,null,null,null,null,null,null,null,null,null,null,null,null,null,null,null,null,null,null,null,null,null,null,null,null,null,null,{"$f":"SUM(B42:AF42)","v":0},"　連続",null,null,null,{"$f":"AG42","v":0},{"$f":"AL42*請求書・納品書!$M$14","v":0}]
[null,null,null,null,null,null,null,null,null,null,null,null,null,null,null,null,null,null,null,null,null,null,null,null,null,null,null,null,null,null,null,null,null,null,null,null,null,"合　計",{"$f":"SUM(AM39:AM42)","v":0}]
[null,null,null,null,null,null,null,null,null,null,null,null,null,null,null,null,null,null,null,null,null,null,null,null,null,null,null,null,null,null,null,null,null,{"$f":"A44","v":0},"日数(日)","勤務時間(h)"," 早退（h）","合計(h)","金額(円)"]
["残業",null,null,null,null,null,null,null,null,null,null,null,null,null,null,null,null,null,null,null,null,null,null,null,null,null,null,null,null,null,null,null,{"$f":"SUM(B45:AF45)","v":0},"　出勤",{"$f":"COUNTIF(B44:AF44,\"出\")","v":0},{"$f":"AI45*7.8","v":0},{"$f":"AG46","v":0},{"$f":"AJ45-AK45","v":0},{"$f":"ROUNDDOWN(AL45*請求書・納品書!$M$11,)","v":0}]
["遅・早(出)",null,null,null,null,null,null,null,null,null,null,null,null,null,null,null,null,null,null,null,null,null,null,null,null,null,null,null,null,null,null,null,{"$f":"SUM(B46:AF46)","v":0},"　残業",null,null,null,{"$f":"AG45","v":0},{"$f":"ROUNDDOWN(AL46*請求書・納品書!$M$12,)","v":0}]
["遅・早(公)",null,null,null,null,null,null,null,null,null,null,null,null,null,null,null,null,null,null,null,null,null,null,null,null,null,null,null,null,null,null,null,{"$f":"SUM(B47:AF47)","v":0},"　公出",{"$f":"COUNTIF(B44:AF44,\"公\")","v":0},{"$f":"AI47*7.8","v":0},{"$f":"AG47","v":0},{"$f":"AJ47-AK47","v":0},{"$f":"ROUNDDOWN(AL47*請求書・納品書!$M$13,)","v":0}]
["連続",null,null,null,null,null,null,null,null,null,null,null,null,null,null,null,null,null,null,null,null,null,null,null,null,null,null,null,null,null,null,null,{"$f":"SUM(B48:AF48)","v":0},"　連続",null,null,null,{"$f":"AG48","v":0},{"$f":"AL48*請求書・納品書!$M$14","v":0}]
[null,null,null,null,null,null,null,null,null,null,null,null,null,null,null,null,null,null,null,null,null,null,null,null,null,null,null,null,null,null,null,null,null,null,null,null,null,"合　計",{"$f":"SUM(AM45:AM48)","v":0},null,{"$f":"AM31+AM37+AM43+AM49","v":0}]
[null,null,null,null,null,null,null,null,null,null,null,null,null,null,null,null,null,null,null,null,null,null,null,null,null,null,null,null,null,null,null,null,null,{"$f":"A50","v":0},"日数(日)","勤務時間(h)"," 早退（h）","合計(h)","金額(円)"]
["残業",null,null,null,null,null,null,null,null,null,null,null,null,null,null,null,null,null,null,null,null,null,null,null,null,null,null,null,null,null,null,null,{"$f":"SUM(B51:AF51)","v":0},"　出勤",{"$f":"COUNTIF(B50:AF50,\"出\")","v":0},{"$f":"AI51*7.8","v":0},{"$f":"AG52","v":0},{"$f":"AJ51-AK51","v":0},{"$f":"ROUNDDOWN(AL51*請求書・納品書!$M$11,)","v":0}]
["遅・早(出)",null,null,null,null,null,null,null,null,null,null,null,null,null,null,null,null,null,null,null,null,null,null,null,null,null,null,null,null,null,null,null,{"$f":"SUM(B52:AF52)","v":0},"　残業",null,null,null,{"$f":"AG51","v":0},{"$f":"ROUNDDOWN(AL52*請求書・納品書!$M$12,)","v":0}]
["遅・早(公)",null,null,null,null,null,null,null,null,null,null,null,null,null,null,null,null,null,null,null,null,null,null,null,null,null,null,null,null,null,null,null,{"$f":"SUM(B53:AF53)","v":0},"　公出",{"$f":"COUNTIF(B50:AF50,\"公\")","v":0},{"$f":"AI53*7.8","v":0},{"$f":"AG53","v":0},{"$f":"AJ53-AK53","v":0},{"$f":"ROUNDDOWN(AL53*請求書・納品書!$M$13,)","v":0}]
["連続",null,null,null,null,null,null,null,null,null,null,null,null,null,null,null,null,null,null,null,null,null,null,null,null,null,null,null,null,null,null,null,{"$f":"SUM(B54:AF54)","v":0},"　連続",null,null,null,{"$f":"AG54","v":0},{"$f":"AL54*請求書・納品書!$M$14","v":0}]
[null,null,null,null,null,null,null,null,null,null,null,null,null,null,null,null,null,null,null,null,null,null,null,null,null,null,null,null,null,null,null,null,null,null,null,null,null,"合　計",{"$f":"SUM(AM51:AM54)","v":0}]
[null,null,null,null,null,null,null,null,null,null,null,null,null,null,null,null,null,null,null,null,null,null,null,null,null,null,null,null,null,null,null,null,null,{"$f":"A56","v":0},"日数(日)","勤務時間(h)"," 早退（h）","合計(h)","金額(円)"]
["残業",null,null,null,null,null,null,null,null,null,null,null,null,null,null,null,null,null,null,null,null,null,null,null,null,null,null,null,null,null,null,null,{"$f":"SUM(B57:AF57)","v":0},"　出勤",{"$f":"COUNTIF(B56:AF56,\"出\")","v":0},{"$f":"AI57*7.8","v":0},{"$f":"AG58","v":0},{"$f":"AJ57-AK57","v":0},{"$f":"ROUNDDOWN(AL57*請求書・納品書!$M$11,)","v":0}]
["遅・早(出)",null,null,null,null,null,null,null,null,null,null,null,null,null,null,null,null,null,null,null,null,null,null,null,null,null,null,null,null,null,null,null,{"$f":"SUM(B58:AF58)","v":0},"　残業",null,null,null,{"$f":"AG57","v":0},{"$f":"ROUNDDOWN(AL58*請求書・納品書!$M$12,)","v":0}]
["遅・早(公)",null,null,null,null,null,null,null,null,null,null,null,null,null,null,null,null,null,null,null,null,null,null,null,null,null,null,null,null,null,null,null,{"$f":"SUM(B59:AF59)","v":0},"　公出",{"$f":"COUNTIF(B56:AF56,\"公\")","v":0},{"$f":"AI59*7.8","v":0},{"$f":"AG59","v":0},{"$f":"AJ59-AK59","v":0},{"$f":"ROUNDDOWN(AL59*請求書・納品書!$M$13,)","v":0}]
["連続",null,null,null,null,null,null,null,null,null,null,null,null,null,null,null,null,null,null,null,null,null,null,null,null,null,null,null,null,null,null,null,{"$f":"SUM(B60:AF60)","v":0},"　連続",null,null,null,{"$f":"AG60","v":0},{"$f":"AL60*請求書・納品書!$M$14","v":0}]
[null,null,null,null,null,null,null,null,null,null,null,null,null,null,null,null,null,null,null,null,null,null,null,null,null,null,null,null,null,null,null,null,null,null,null,null,null,"合　計",{"$f":"SUM(AM57:AM60)","v":0}]
[null,null,null,null,null,null,null,null,null,null,null,null,null,null,null,null,null,null,null,null,null,null,null,null,null,null,null,null,null,null,null,null,null,{"$f":"A62","v":0},"日数(日)","勤務時間(h)"," 早退（h）","合計(h)","金額(円)"]
["残業",null,null,null,null,null,null,null,null,null,null,null,null,null,null,null,null,null,null,null,null,null,null,null,null,null,null,null,null,null,null,null,{"$f":"SUM(B63:AF63)","v":0},"　出勤",{"$f":"COUNTIF(B62:AF62,\"出\")","v":0},{"$f":"AI63*7.8","v":0},{"$f":"AG64","v":0},{"$f":"AJ63-AK63","v":0},{"$f":"ROUNDDOWN(AL63*請求書・納品書!$M$11,)","v":0}]
["遅・早(出)",null,null,null,null,null,null,null,null,null,null,null,null,null,null,null,null,null,null,null,null,null,null,null,null,null,null,null,null,null,null,null,{"$f":"SUM(B64:AF64)","v":0},"　残業",null,null,null,{"$f":"AG63","v":0},{"$f":"ROUNDDOWN(AL64*請求書・納品書!$M$12,)","v":0}]
["遅・早(公)",null,null,null,null,null,null,null,null,null,null,null,null,null,null,null,null,null,null,null,null,null,null,null,null,null,null,null,null,null,null,null,{"$f":"SUM(B65:AF65)","v":0},"　公出",{"$f":"COUNTIF(B62:AF62,\"公\")","v":0},{"$f":"AI65*7.8","v":0},{"$f":"AG65","v":0},{"$f":"AJ65-AK65","v":0},{"$f":"ROUNDDOWN(AL65*請求書・納品書!$M$13,)","v":0}]
["連続",null,null,null,null,null,null,null,null,null,null,null,null,null,null,null,null,null,null,null,null,null,null,null,null,null,null,null,null,null,null,null,{"$f":"SUM(B66:AF66)","v":0},"　連続",null,null,null,{"$f":"AG66","v":0},{"$f":"AL66*請求書・納品書!$M$14","v":0}]
[null,null,null,null,null,null,null,null,null,null,null,null,null,null,null,null,null,null,null,null,null,null,null,null,null,null,null,null,null,null,null,null,null,null,null,null,null,"合　計",{"$f":"SUM(AM63:AM66)","v":0}]
[null,null,null,null,null,null,null,null,null,null,null,null,null,null,null,null,null,null,null,null,null,null,null,null,null,null,null,null,null,null,null,null,null,{"$f":"A68","v":0},"日数(日)","勤務時間(h)"," 早退（h）","合計(h)","金額(円)"]
["残業",null,null,null,null,null,null,null,null,null,null,null,null,null,null,null,null,null,null,null,null,null,null,null,null,null,null,null,null,null,null,null,{"$f":"SUM(B69:AF69)","v":0},"　出勤",{"$f":"COUNTIF(B68:AF68,\"出\")","v":0},{"$f":"AI69*7.8","v":0},{"$f":"AG70","v":0},{"$f":"AJ69-AK69","v":0},{"$f":"ROUNDDOWN(AL69*請求書・納品書!$M$11,)","v":0}]
["遅・早(出)",null,null,null,null,null,null,null,null,null,null,null,null,null,null,null,null,null,null,null,null,null,null,null,null,null,null,null,null,null,null,null,{"$f":"SUM(B70:AF70)","v":0},"　残業",null,null,null,{"$f":"AG69","v":0},{"$f":"ROUNDDOWN(AL70*請求書・納品書!$M$12,)","v":0}]
["遅・早(公)",null,null,null,null,null,null,null,null,null,null,null,null,null,null,null,null,null,null,null,null,null,null,null,null,null,null,null,null,null,null,null,{"$f":"SUM(B71:AF71)","v":0},"　公出",{"$f":"COUNTIF(B68:AF68,\"公\")","v":0},{"$f":"AI71*7.8","v":0},{"$f":"AG71","v":0},{"$f":"AJ71-AK71","v":0},{"$f":"ROUNDDOWN(AL71*請求書・納品書!$M$13,)","v":0}]
["連続",null,null,null,null,null,null,null,null,null,null,null,null,null,null,null,null,null,null,null,null,null,null,null,null,null,null,null,null,null,null,null,{"$f":"SUM(B72:AF72)","v":0},"　連続",null,null,null,{"$f":"AG72","v":0},{"$f":"AL72*請求書・納品書!$M$14","v":0}]
[null,null,null,null,null,null,null,null,null,null,null,null,null,null,null,null,null,null,null,null,null,null,null,null,null,null,null,null,null,null,null,null,null,null,null,null,null,"合　計",{"$f":"SUM(AM69:AM72)","v":0},null,{"$f":"AM55+AM61+AM67+AM73","v":0}]
[null,null,null,null,null,null,null,null,null,null,null,null,null,null,null,null,null,null,null,null,null,null,null,null,null,null,null,null,null,null,null,null,null,{"$f":"A74","v":0},"日数(日)","勤務時間(h)"," 早退（h）","合計(h)","金額(円)"]
["残業",null,null,null,null,null,null,null,null,null,null,null,null,null,null,null,null,null,null,null,null,null,null,null,null,null,null,null,null,null,null,null,{"$f":"SUM(B75:AF75)","v":0},"　出勤",{"$f":"COUNTIF(B74:AF74,\"出\")","v":0},{"$f":"AI75*7.8","v":0},{"$f":"AG76","v":0},{"$f":"AJ75-AK75","v":0},{"$f":"ROUNDDOWN(AL75*請求書・納品書!$M$11,)","v":0}]
["遅・早(出)",null,null,null,null,null,null,null,null,null,null,null,null,null,null,null,null,null,null,null,null,null,null,null,null,null,null,null,null,null,null,null,{"$f":"SUM(B76:AF76)","v":0},"　残業",null,null,null,{"$f":"AG75","v":0},{"$f":"ROUNDDOWN(AL76*請求書・納品書!$M$12,)","v":0}]
["遅・早(公)",null,null,null,null,null,null,null,null,null,null,null,null,null,null,null,null,null,null,null,null,null,null,null,null,null,null,null,null,null,null,null,{"$f":"SUM(B77:AF77)","v":0},"　公出",{"$f":"COUNTIF(B74:AF74,\"公\")","v":0},{"$f":"AI77*7.8","v":0},{"$f":"AG77","v":0},{"$f":"AJ77-AK77","v":0},{"$f":"ROUNDDOWN(AL77*請求書・納品書!$M$13,)","v":0}]
["連続",null,null,null,null,null,null,null,null,null,null,null,null,null,null,null,null,null,null,null,null,null,null,null,null,null,null,null,null,null,null,null,{"$f":"SUM(B78:AF78)","v":0},"　連続",null,null,null,{"$f":"AG78","v":0},{"$f":"AL78*請求書・納品書!$M$14","v":0}]
[null,null,null,null,null,null,null,null,null,null,null,null,null,null,null,null,null,null,null,null,null,null,null,null,null,null,null,null,null,null,null,null,null,null,null,null,null,"合　計",{"$f":"SUM(AM75:AM78)","v":0}]
[null,null,null,null,null,null,null,null,null,null,null,null,null,null,null,null,null,null,null,null,null,null,null,null,null,null,null,null,null,null,null,null,null,{"$f":"A80","v":0},"日数(日)","勤務時間(h)"," 早退（h）","合計(h)","金額(円)"]
["残業",null,null,null,null,null,null,null,null,null,null,null,null,null,null,null,null,null,null,null,null,null,null,null,null,null,null,null,null,null,null,null,{"$f":"SUM(B81:AF81)","v":0},"　出勤",{"$f":"COUNTIF(B80:AF80,\"出\")","v":0},{"$f":"AI81*7.8","v":0},{"$f":"AG82","v":0},{"$f":"AJ81-AK81","v":0},{"$f":"ROUNDDOWN(AL81*請求書・納品書!$M$11,)","v":0}]
["遅・早(出)",null,null,null,null,null,null,null,null,null,null,null,null,null,null,null,null,null,null,null,null,null,null,null,null,null,null,null,null,null,null,null,{"$f":"SUM(B82:AF82)","v":0},"　残業",null,null,null,{"$f":"AG81","v":0},{"$f":"ROUNDDOWN(AL82*請求書・納品書!$M$12,)","v":0}]
["遅・早(公)",null,null,null,null,null,null,null,null,null,null,null,null,null,null,null,null,null,null,null,null,null,null,null,null,null,null,null,null,null,null,null,{"$f":"SUM(B83:AF83)","v":0},"　公出",{"$f":"COUNTIF(B80:AF80,\"公\")","v":0},{"$f":"AI83*7.8","v":0},{"$f":"AG83","v":0},{"$f":"AJ83-AK83","v":0},{"$f":"ROUNDDOWN(AL83*請求書・納品書!$M$13,)","v":0}]
["連続",null,null,null,null,null,null,null,null,null,null,null,null,null,null,null,null,null,null,null,null,null,null,null,null,null,null,null,null,null,null,null,{"$f":"SUM(B84:AF84)","v":0},"　連続",null,null,null,{"$f":"AG84","v":0},{"$f":"AL84*請求書・納品書!$M$14","v":0}]
[null,null,null,null,null,null,null,null,null,null,null,null,null,null,null,null,null,null,null,null,null,null,null,null,null,null,null,null,null,null,null,null,null,null,null,null,null,"合　計",{"$f":"SUM(AM81:AM84)","v":0}]
[null,null,null,null,null,null,null,null,null,null,null,null,null,null,null,null,null,null,null,null,null,null,null,null,null,null,null,null,null,null,null,null,null,{"$f":"A86","v":0},"日数(日)","勤務時間(h)"," 早退（h）","合計(h)","金額(円)"]
["残業",null,null,null,null,null,null,null,null,null,null,null,null,null,null,null,null,null,null,null,null,null,null,null,null,null,null,null,null,null,null,null,{"$f":"SUM(B87:AF87)","v":0},"　出勤",{"$f":"COUNTIF(B86:AF86,\"出\")","v":0},{"$f":"AI87*7.8","v":0},{"$f":"AG88","v":0},{"$f":"AJ87-AK87","v":0},{"$f":"ROUNDDOWN(AL87*請求書・納品書!$M$11,)","v":0}]
["遅・早(出)",null,null,null,null,null,null,null,null,null,null,null,null,null,null,null,null,null,null,null,null,null,null,null,null,null,null,null,null,null,null,null,{"$f":"SUM(B88:AF88)","v":0},"　残業",null,null,null,{"$f":"AG87","v":0},{"$f":"ROUNDDOWN(AL88*請求書・納品書!$M$12,)","v":0}]
["遅・早(公)",null,null,null,null,null,null,null,null,null,null,null,null,null,null,null,null,null,null,null,null,null,null,null,null,null,null,null,null,null,null,null,{"$f":"SUM(B89:AF89)","v":0},"　公出",{"$f":"COUNTIF(B86:AF86,\"公\")","v":0},{"$f":"AI89*7.8","v":0},{"$f":"AG89","v":0},{"$f":"AJ89-AK89","v":0},{"$f":"ROUNDDOWN(AL89*請求書・納品書!$M$13,)","v":0}]
["連続",null,null,null,null,null,null,null,null,null,null,null,null,null,null,null,null,null,null,null,null,null,null,null,null,null,null,null,null,null,null,null,{"$f":"SUM(B90:AF90)","v":0},"　連続",null,null,null,{"$f":"AG90","v":0},{"$f":"AL90*請求書・納品書!$M$14","v":0}]
[null,null,null,null,null,null,null,null,null,null,null,null,null,null,null,null,null,null,null,null,null,null,null,null,null,null,null,null,null,null,null,null,null,null,null,null,null,"合　計",{"$f":"SUM(AM87:AM90)","v":0}]
[null,null,null,null,null,null,null,null,null,null,null,null,null,null,null,null,null,null,null,null,null,null,null,null,null,null,null,null,null,null,null,null,null,{"$f":"A92","v":0},"日数(日)","勤務時間(h)"," 早退（h）","合計(h)","金額(円)"]
["残業",null,null,null,null,null,null,null,null,null,null,null,null,null,null,null,null,null,null,null,null,null,null,null,null,null,null,null,null,null,null,null,{"$f":"SUM(B93:AF93)","v":0},"　出勤",{"$f":"COUNTIF(B92:AF92,\"出\")","v":0},{"$f":"AI93*7.8","v":0},{"$f":"AG94","v":0},{"$f":"AJ93-AK93","v":0},{"$f":"ROUNDDOWN(AL93*請求書・納品書!$M$11,)","v":0}]
["遅・早(出)",null,null,null,null,null,null,null,null,null,null,null,null,null,null,null,null,null,null,null,null,null,null,null,null,null,null,null,null,null,null,null,{"$f":"SUM(B94:AF94)","v":0},"　残業",null,null,null,{"$f":"AG93","v":0},{"$f":"ROUNDDOWN(AL94*請求書・納品書!$M$12,)","v":0}]
["遅・早(公)",null,null,null,null,null,null,null,null,null,null,null,null,null,null,null,null,null,null,null,null,null,null,null,null,null,null,null,null,null,null,null,{"$f":"SUM(B95:AF95)","v":0},"　公出",{"$f":"COUNTIF(B92:AF92,\"公\")","v":0},{"$f":"AI95*7.8","v":0},{"$f":"AG95","v":0},{"$f":"AJ95-AK95","v":0},{"$f":"ROUNDDOWN(AL95*請求書・納品書!$M$13,)","v":0}]
["連続",null,null,null,null,null,null,null,null,null,null,null,null,null,null,null,null,null,null,null,null,null,null,null,null,null,null,null,null,null,null,null,{"$f":"SUM(B96:AF96)","v":0},"　連続",null,null,null,{"$f":"AG96","v":0},{"$f":"AL96*請求書・納品書!$M$14","v":0}]
[null,null,null,null,null,null,null,null,null,null,null,null,null,null,null,null,null,null,null,null,null,null,null,null,null,null,null,null,null,null,null,null,null,null,null,null,null,"合　計",{"$f":"SUM(AM93:AM96)","v":0},null,{"$f":"AM79+AM85+AM91+AM97","v":0}]
[null,null,null,null,null,null,null,null,null,null,null,null,null,null,null,null,null,null,null,null,null,null,null,null,null,null,null,null,null,null,null,null,null,{"$f":"A98","v":0},"日数(日)","勤務時間(h)"," 早退（h）","合計(h)","金額(円)"]
["残業",null,null,null,null,null,null,null,null,null,null,null,null,null,null,null,null,null,null,null,null,null,null,null,null,null,null,null,null,null,null,null,{"$f":"SUM(B99:AF99)","v":0},"　出勤",{"$f":"COUNTIF(B98:AF98,\"出\")","v":0},{"$f":"AI99*7.8","v":0},{"$f":"AG100","v":0},{"$f":"AJ99-AK99","v":0},{"$f":"ROUNDDOWN(AL99*請求書・納品書!$M$11,)","v":0}]
["遅・早(出)",null,null,null,null,null,null,null,null,null,null,null,null,null,null,null,null,null,null,null,null,null,null,null,null,null,null,null,null,null,null,null,{"$f":"SUM(B100:AF100)","v":0},"　残業",null,null,null,{"$f":"AG99","v":0},{"$f":"ROUNDDOWN(AL100*請求書・納品書!$M$12,)","v":0}]
["遅・早(公)",null,null,null,null,null,null,null,null,null,null,null,null,null,null,null,null,null,null,null,null,null,null,null,null,null,null,null,null,null,null,null,{"$f":"SUM(B101:AF101)","v":0},"　公出",{"$f":"COUNTIF(B98:AF98,\"公\")","v":0},{"$f":"AI101*7.8","v":0},{"$f":"AG101","v":0},{"$f":"AJ101-AK101","v":0},{"$f":"ROUNDDOWN(AL101*請求書・納品書!$M$13,)","v":0}]
["連続",null,null,null,null,null,null,null,null,null,null,null,null,null,null,null,null,null,null,null,null,null,null,null,null,null,null,null,null,null,null,null,{"$f":"SUM(B102:AF102)","v":0},"　連続",null,null,null,{"$f":"AG102","v":0},{"$f":"AL102*請求書・納品書!$M$14","v":0}]
[null,null,null,null,null,null,null,null,null,null,null,null,null,null,null,null,null,null,null,null,null,null,null,null,null,null,null,null,null,null,null,null,null,null,null,null,null,"合　計",{"$f":"SUM(AM99:AM102)","v":0}]
[null,null,null,null,null,null,null,null,null,null,null,null,null,null,null,null,null,null,null,null,null,null,null,null,null,null,null,null,null,null,null,null,null,{"$f":"A104","v":0},"日数(日)","勤務時間(h)"," 早退（h）","合計(h)","金額(円)"]
["残業",null,null,null,null,null,null,null,null,null,null,null,null,null,null,null,null,null,null,null,null,null,null,null,null,null,null,null,null,null,null,null,{"$f":"SUM(B105:AF105)","v":0},"　出勤",{"$f":"COUNTIF(B104:AF104,\"出\")","v":0},{"$f":"AI105*7.8","v":0},{"$f":"AG106","v":0},{"$f":"AJ105-AK105","v":0},{"$f":"ROUNDDOWN(AL105*請求書・納品書!$M$11,)","v":0}]
["遅・早(出)",null,null,null,null,null,null,null,null,null,null,null,null,null,null,null,null,null,null,null,null,null,null,null,null,null,null,null,null,null,null,null,{"$f":"SUM(B106:AF106)","v":0},"　残業",null,null,null,{"$f":"AG105","v":0},{"$f":"ROUNDDOWN(AL106*請求書・納品書!$M$12,)","v":0}]
["遅・早(公)",null,null,null,null,null,null,null,null,null,null,null,null,null,null,null,null,null,null,null,null,null,null,null,null,null,null,null,null,null,null,null,{"$f":"SUM(B107:AF107)","v":0},"　公出",{"$f":"COUNTIF(B104:AF104,\"公\")","v":0},{"$f":"AI107*7.8","v":0},{"$f":"AG107","v":0},{"$f":"AJ107-AK107","v":0},{"$f":"ROUNDDOWN(AL107*請求書・納品書!$M$13,)","v":0}]
["連続",null,null,null,null,null,null,null,null,null,null,null,null,null,null,null,null,null,null,null,null,null,null,null,null,null,null,null,null,null,null,null,{"$f":"SUM(B108:AF108)","v":0},"　連続",null,null,null,{"$f":"AG108","v":0},{"$f":"AL108*請求書・納品書!$M$14","v":0}]
[null,null,null,null,null,null,null,null,null,null,null,null,null,null,null,null,null,null,null,null,null,null,null,null,null,null,null,null,null,null,null,null,null,null,null,null,null,"合　計",{"$f":"SUM(AM105:AM108)","v":0}]
[null,null,null,null,null,null,null,null,null,null,null,null,null,null,null,null,null,null,null,null,null,null,null,null,null,null,null,null,null,null,null,null,null,{"$f":"A110","v":0},"日数(日)","勤務時間(h)"," 早退（h）","合計(h)","金額(円)"]
["残業",null,null,null,null,null,null,null,null,null,null,null,null,null,null,null,null,null,null,null,null,null,null,null,null,null,null,null,null,null,null,null,{"$f":"SUM(B111:AF111)","v":0},"　出勤",{"$f":"COUNTIF(B110:AF110,\"出\")","v":0},{"$f":"AI111*7.8","v":0},{"$f":"AG112","v":0},{"$f":"AJ111-AK111","v":0},{"$f":"ROUNDDOWN(AL111*請求書・納品書!$M$11,)","v":0}]
["遅・早(出)",null,null,null,null,null,null,null,null,null,null,null,null,null,null,null,null,null,null,null,null,null,null,null,null,null,null,null,null,null,null,null,{"$f":"SUM(B112:AF112)","v":0},"　残業",null,null,null,{"$f":"AG111","v":0},{"$f":"ROUNDDOWN(AL112*請求書・納品書!$M$12,)","v":0}]
["遅・早(公)",null,null,null,null,null,null,null,null,null,null,null,null,null,null,null,null,null,null,null,null,null,null,null,null,null,null,null,null,null,null,null,{"$f":"SUM(B113:AF113)","v":0},"　公出",{"$f":"COUNTIF(B110:AF110,\"公\")","v":0},{"$f":"AI113*7.8","v":0},{"$f":"AG113","v":0},{"$f":"AJ113-AK113","v":0},{"$f":"ROUNDDOWN(AL113*請求書・納品書!$M$13,)","v":0}]
["連続",null,null,null,null,null,null,null,null,null,null,null,null,null,null,null,null,null,null,null,null,null,null,null,null,null,null,null,null,null,null,null,{"$f":"SUM(B114:AF114)","v":0},"　連続",null,null,null,{"$f":"AG114","v":0},{"$f":"AL114*請求書・納品書!$M$14","v":0}]
[null,null,null,null,null,null,null,null,null,null,null,null,null,null,null,null,null,null,null,null,null,null,null,null,null,null,null,null,null,null,null,null,null,null,null,null,null,"合　計",{"$f":"SUM(AM111:AM114)","v":0}]
[null,null,null,null,null,null,null,null,null,null,null,null,null,null,null,null,null,null,null,null,null,null,null,null,null,null,null,null,null,null,null,null,null,{"$f":"A116","v":0},"日数(日)","勤務時間(h)"," 早退（h）","合計(h)","金額(円)"]
["残業",null,null,null,null,null,null,null,null,null,null,null,null,null,null,null,null,null,null,null,null,null,null,null,null,null,null,null,null,null,null,null,{"$f":"SUM(B117:AF117)","v":0},"　出勤",{"$f":"COUNTIF(B116:AF116,\"出\")","v":0},{"$f":"AI117*7.8","v":0},{"$f":"AG118","v":0},{"$f":"AJ117-AK117","v":0},{"$f":"ROUNDDOWN(AL117*請求書・納品書!$M$11,)","v":0}]
["遅・早(出)",null,null,null,null,null,null,null,null,null,null,null,null,null,null,null,null,null,null,null,null,null,null,null,null,null,null,null,null,null,null,null,{"$f":"SUM(B118:AF118)","v":0},"　残業",null,null,null,{"$f":"AG117","v":0},{"$f":"ROUNDDOWN(AL118*請求書・納品書!$M$12,)","v":0}]
["遅・早(公)",null,null,null,null,null,null,null,null,null,null,null,null,null,null,null,null,null,null,null,null,null,null,null,null,null,null,null,null,null,null,null,{"$f":"SUM(B119:AF119)","v":0},"　公出",{"$f":"COUNTIF(B116:AF116,\"公\")","v":0},{"$f":"AI119*7.8","v":0},{"$f":"AG119","v":0},{"$f":"AJ119-AK119","v":0},{"$f":"ROUNDDOWN(AL119*請求書・納品書!$M$13,)","v":0}]
["連続",null,null,null,null,null,null,null,null,null,null,null,null,null,null,null,null,null,null,null,null,null,null,null,null,null,null,null,null,null,null,null,{"$f":"SUM(B120:AF120)","v":0},"　連続",null,null,null,{"$f":"AG120","v":0},{"$f":"AL120*請求書・納品書!$M$14","v":0}]
[null,null,null,null,null,null,null,null,null,null,null,null,null,null,null,null,null,null,null,null,null,null,null,null,null,null,null,null,null,null,null,null,null,null,null,null,null,"合　計",{"$f":"SUM(AM117:AM120)","v":0},null,{"$f":"AM103+AM109+AM115+AM121","v":0}]
[null,null,null,null,null,null,null,null,null,null,null,null,null,null,null,null,null,null,null,null,null,null,null,null,null,null,null,null,null,null,null,null,null,{"$f":"A122","v":0},"日数(日)","勤務時間(h)"," 早退（h）","合計(h)","金額(円)"]
["残業",null,null,null,null,null,null,null,null,null,null,null,null,null,null,null,null,null,null,null,null,null,null,null,null,null,null,null,null,null,null,null,{"$f":"SUM(B123:AF123)","v":0},"　出勤",{"$f":"COUNTIF(B122:AF122,\"出\")","v":0},{"$f":"AI123*7.8","v":0},{"$f":"AG124","v":0},{"$f":"AJ123-AK123","v":0},{"$f":"ROUNDDOWN(AL123*請求書・納品書!$M$11,)","v":0}]
["遅・早(出)",null,null,null,null,null,null,null,null,null,null,null,null,null,null,null,null,null,null,null,null,null,null,null,null,null,null,null,null,null,null,null,{"$f":"SUM(B124:AF124)","v":0},"　残業",null,null,null,{"$f":"AG123","v":0},{"$f":"ROUNDDOWN(AL124*請求書・納品書!$M$12,)","v":0}]
["遅・早(公)",null,null,null,null,null,null,null,null,null,null,null,null,null,null,null,null,null,null,null,null,null,null,null,null,null,null,null,null,null,null,null,{"$f":"SUM(B125:AF125)","v":0},"　公出",{"$f":"COUNTIF(B122:AF122,\"公\")","v":0},{"$f":"AI125*7.8","v":0},{"$f":"AG125","v":0},{"$f":"AJ125-AK125","v":0},{"$f":"ROUNDDOWN(AL125*請求書・納品書!$M$13,)","v":0}]
["連続",null,null,null,null,null,null,null,null,null,null,null,null,null,null,null,null,null,null,null,null,null,null,null,null,null,null,null,null,null,null,null,{"$f":"SUM(B126:AF126)","v":0},"　連続",null,null,null,{"$f":"AG126","v":0},{"$f":"AL126*請求書・納品書!$M$14","v":0}]
[null,null,null,null,null,null,null,null,null,null,null,null,null,null,null,null,null,null,null,null,null,null,null,null,null,null,null,null,null,null,null,null,null,null,null,null,null,"合　計",{"$f":"SUM(AM123:AM126)","v":0}]
[null,null,null,null,null,null,null,null,null,null,null,null,null,null,null,null,null,null,null,null,null,null,null,null,null,null,null,null,null,null,null,null,null,{"$f":"A128","v":0},"日数(日)","勤務時間(h)"," 早退（h）","合計(h)","金額(円)"]
["残業",null,null,null,null,null,null,null,null,null,null,null,null,null,null,null,null,null,null,null,null,null,null,null,null,null,null,null,null,null,null,null,{"$f":"SUM(B129:AF129)","v":0},"　出勤",{"$f":"COUNTIF(B128:AF128,\"出\")","v":0},{"$f":"AI129*7.8","v":0},{"$f":"AG130","v":0},{"$f":"AJ129-AK129","v":0},{"$f":"ROUNDDOWN(AL129*請求書・納品書!$M$11,)","v":0}]
["遅・早(出)",null,null,null,null,null,null,null,null,null,null,null,null,null,null,null,null,null,null,null,null,null,null,null,null,null,null,null,null,null,null,null,{"$f":"SUM(B130:AF130)","v":0},"　残業",null,null,null,{"$f":"AG129","v":0},{"$f":"ROUNDDOWN(AL130*請求書・納品書!$M$12,)","v":0}]
["遅・早(公)",null,null,null,null,null,null,null,null,null,null,null,null,null,null,null,null,null,null,null,null,null,null,null,null,null,null,null,null,null,null,null,{"$f":"SUM(B131:AF131)","v":0},"　公出",{"$f":"COUNTIF(B128:AF128,\"公\")","v":0},{"$f":"AI131*7.8","v":0},{"$f":"AG131","v":0},{"$f":"AJ131-AK131","v":0},{"$f":"ROUNDDOWN(AL131*請求書・納品書!$M$13,)","v":0}]
["連続",null,null,null,null,null,null,null,null,null,null,null,null,null,null,null,null,null,null,null,null,null,null,null,null,null,null,null,null,null,null,null,{"$f":"SUM(B132:AF132)","v":0},"　連続",null,null,null,{"$f":"AG132","v":0},{"$f":"AL132*請求書・納品書!$M$14","v":0}]
[null,null,null,null,null,null,null,null,null,null,null,null,null,null,null,null,null,null,null,null,null,null,null,null,null,null,null,null,null,null,null,null,null,null,null,null,null,"合　計",{"$f":"SUM(AM129:AM132)","v":0}]
[null,null,null,null,null,null,null,null,null,null,null,null,null,null,null,null,null,null,null,null,null,null,null,null,null,null,null,null,null,null,null,null,null,{"$f":"A134","v":0},"日数(日)","勤務時間(h)"," 早退（h）","合計(h)","金額(円)"]
["残業",null,null,null,null,null,null,null,null,null,null,null,null,null,null,null,null,null,null,null,null,null,null,null,null,null,null,null,null,null,null,null,{"$f":"SUM(B135:AF135)","v":0},"　出勤",{"$f":"COUNTIF(B134:AF134,\"出\")","v":0},{"$f":"AI135*7.8","v":0},{"$f":"AG136","v":0},{"$f":"AJ135-AK135","v":0},{"$f":"ROUNDDOWN(AL135*請求書・納品書!$M$11,)","v":0}]
["遅・早(出)",null,null,null,null,null,null,null,null,null,null,null,null,null,null,null,null,null,null,null,null,null,null,null,null,null,null,null,null,null,null,null,{"$f":"SUM(B136:AF136)","v":0},"　残業",null,null,null,{"$f":"AG135","v":0},{"$f":"ROUNDDOWN(AL136*請求書・納品書!$M$12,)","v":0}]
["遅・早(公)",null,null,null,null,null,null,null,null,null,null,null,null,null,null,null,null,null,null,null,null,null,null,null,null,null,null,null,null,null,null,null,{"$f":"SUM(B137:AF137)","v":0},"　公出",{"$f":"COUNTIF(B134:AF134,\"公\")","v":0},{"$f":"AI137*7.8","v":0},{"$f":"AG137","v":0},{"$f":"AJ137-AK137","v":0},{"$f":"ROUNDDOWN(AL137*請求書・納品書!$M$13,)","v":0}]
["連続",null,null,null,null,null,null,null,null,null,null,null,null,null,null,null,null,null,null,null,null,null,null,null,null,null,null,null,null,null,null,null,{"$f":"SUM(B138:AF138)","v":0},"　連続",null,null,null,{"$f":"AG138","v":0},{"$f":"AL138*請求書・納品書!$M$14","v":0}]
[null,null,null,null,null,null,null,null,null,null,null,null,null,null,null,null,null,null,null,null,null,null,null,null,null,null,null,null,null,null,null,null,null,null,null,null,null,"合　計",{"$f":"SUM(AM135:AM138)","v":0}]
[null,null,null,null,null,null,null,null,null,null,null,null,null,null,null,null,null,null,null,null,null,null,null,null,null,null,null,null,null,null,null,null,null,{"$f":"A140","v":0},"日数(日)","勤務時間(h)"," 早退（h）","合計(h)","金額(円)"]
["残業",null,null,null,null,null,null,null,null,null,null,null,null,null,null,null,null,null,null,null,null,null,null,null,null,null,null,null,null,null,null,null,{"$f":"SUM(B141:AF141)","v":0},"　出勤",{"$f":"COUNTIF(B140:AF140,\"出\")","v":0},{"$f":"AI141*7.8","v":0},{"$f":"AG142","v":0},{"$f":"AJ141-AK141","v":0},{"$f":"ROUNDDOWN(AL141*請求書・納品書!$M$11,)","v":0}]
["遅・早(出)",null,null,null,null,null,null,null,null,null,null,null,null,null,null,null,null,null,null,null,null,null,null,null,null,null,null,null,null,null,null,null,{"$f":"SUM(B142:AF142)","v":0},"　残業",null,null,null,{"$f":"AG141","v":0},{"$f":"ROUNDDOWN(AL142*請求書・納品書!$M$12,)","v":0}]
["遅・早(公)",null,null,null,null,null,null,null,null,null,null,null,null,null,null,null,null,null,null,null,null,null,null,null,null,null,null,null,null,null,null,null,{"$f":"SUM(B143:AF143)","v":0},"　公出",{"$f":"COUNTIF(B140:AF140,\"公\")","v":0},{"$f":"AI143*7.8","v":0},{"$f":"AG143","v":0},{"$f":"AJ143-AK143","v":0},{"$f":"ROUNDDOWN(AL143*請求書・納品書!$M$13,)","v":0}]
["連続",null,null,null,null,null,null,null,null,null,null,null,null,null,null,null,null,null,null,null,null,null,null,null,null,null,null,null,null,null,null,null,{"$f":"SUM(B144:AF144)","v":0},"　連続",null,null,null,{"$f":"AG144","v":0},{"$f":"AL144*請求書・納品書!$M$14","v":0}]
[null,null,null,null,null,null,null,null,null,null,null,null,null,null,null,null,null,null,null,null,null,null,null,null,null,null,null,null,null,null,null,null,null,null,null,null,null,"合　計",{"$f":"SUM(AM141:AM144)","v":0},null,{"$f":"AM127+AM133+AM139+AM145","v":0}]
[null,null,null,null,null,null,null,null,null,null,null,null,null,null,null,null,null,null,null,null,null,null,null,null,null,null,null,null,null,null,null,null,null,{"$f":"A146","v":0},"日数(日)","勤務時間(h)"," 早退（h）","合計(h)","金額(円)"]
["残業",null,null,null,null,null,null,null,null,null,null,null,null,null,null,null,null,null,null,null,null,null,null,null,null,null,null,null,null,null,null,null,{"$f":"SUM(B147:AF147)","v":0},"　出勤",{"$f":"COUNTIF(B146:AF146,\"出\")","v":0},{"$f":"AI147*7.8","v":0},{"$f":"AG148","v":0},{"$f":"AJ147-AK147","v":0},{"$f":"ROUNDDOWN(AL147*請求書・納品書!$M$11,)","v":0}]
["遅・早(出)",null,null,null,null,null,null,null,null,null,null,null,null,null,null,null,null,null,null,null,null,null,null,null,null,null,null,null,null,null,null,null,{"$f":"SUM(B148:AF148)","v":0},"　残業",null,null,null,{"$f":"AG147","v":0},{"$f":"ROUNDDOWN(AL148*請求書・納品書!$M$12,)","v":0}]
["遅・早(公)",null,null,null,null,null,null,null,null,null,null,null,null,null,null,null,null,null,null,null,null,null,null,null,null,null,null,null,null,null,null,null,{"$f":"SUM(B149:AF149)","v":0},"　公出",{"$f":"COUNTIF(B146:AF146,\"公\")","v":0},{"$f":"AI149*7.8","v":0},{"$f":"AG149","v":0},{"$f":"AJ149-AK149","v":0},{"$f":"ROUNDDOWN(AL149*請求書・納品書!$M$13,)","v":0}]
["連続",null,null,null,null,null,null,null,null,null,null,null,null,null,null,null,null,null,null,null,null,null,null,null,null,null,null,null,null,null,null,null,{"$f":"SUM(B150:AF150)","v":0},"　連続",null,null,null,{"$f":"AG150","v":0},{"$f":"AL150*請求書・納品書!$M$14","v":0}]
[null,null,null,null,null,null,null,null,null,null,null,null,null,null,null,null,null,null,null,null,null,null,null,null,null,null,null,null,null,null,null,null,null,null,null,null,null,"合　計",{"$f":"SUM(AM147:AM150)","v":0}]
[null,null,null,null,null,null,null,null,null,null,null,null,null,null,null,null,null,null,null,null,null,null,null,null,null,null,null,null,null,null,null,null,null,{"$f":"A152","v":0},"日数(日)","勤務時間(h)"," 早退（h）","合計(h)","金額(円)"]
["残業",null,null,null,null,null,null,null,null,null,null,null,null,null,null,null,null,null,null,null,null,null,null,null,null,null,null,null,null,null,null,null,{"$f":"SUM(B153:AF153)","v":0},"　出勤",{"$f":"COUNTIF(B152:AF152,\"出\")","v":0},{"$f":"AI153*7.8","v":0},{"$f":"AG154","v":0},{"$f":"AJ153-AK153","v":0},{"$f":"ROUNDDOWN(AL153*請求書・納品書!$M$11,)","v":0}]
["遅・早(出)",null,null,null,null,null,null,null,null,null,null,null,null,null,null,null,null,null,null,null,null,null,null,null,null,null,null,null,null,null,null,null,{"$f":"SUM(B154:AF154)","v":0},"　残業",null,null,null,{"$f":"AG153","v":0},{"$f":"ROUNDDOWN(AL154*請求書・納品書!$M$12,)","v":0}]
["遅・早(公)",null,null,null,null,null,null,null,null,null,null,null,null,null,null,null,null,null,null,null,null,null,null,null,null,null,null,null,null,null,null,null,{"$f":"SUM(B155:AF155)","v":0},"　公出",{"$f":"COUNTIF(B152:AF152,\"公\")","v":0},{"$f":"AI155*7.8","v":0},{"$f":"AG155","v":0},{"$f":"AJ155-AK155","v":0},{"$f":"ROUNDDOWN(AL155*請求書・納品書!$M$13,)","v":0}]
["連続",null,null,null,null,null,null,null,null,null,null,null,null,null,null,null,null,null,null,null,null,null,null,null,null,null,null,null,null,null,null,null,{"$f":"SUM(B156:AF156)","v":0},"　連続",null,null,null,{"$f":"AG156","v":0},{"$f":"AL156*請求書・納品書!$M$14","v":0}]
[null,null,null,null,null,null,null,null,null,null,null,null,null,null,null,null,null,null,null,null,null,null,null,null,null,null,null,null,null,null,null,null,null,null,null,null,null,"合　計",{"$f":"SUM(AM153:AM156)","v":0}]
[null,null,null,null,null,null,null,null,null,null,null,null,null,null,null,null,null,null,null,null,null,null,null,null,null,null,null,null,null,null,null,null,null,{"$f":"A158","v":0},"日数(日)","勤務時間(h)"," 早退（h）","合計(h)","金額(円)"]
["残業",null,null,null,null,null,null,null,null,null,null,null,null,null,null,null,null,null,null,null,null,null,null,null,null,null,null,null,null,null,null,null,{"$f":"SUM(B159:AF159)","v":0},"　出勤",{"$f":"COUNTIF(B158:AF158,\"出\")","v":0},{"$f":"AI159*7.8","v":0},{"$f":"AG160","v":0},{"$f":"AJ159-AK159","v":0},{"$f":"ROUNDDOWN(AL159*請求書・納品書!$M$11,)","v":0}]
["遅・早(出)",null,null,null,null,null,null,null,null,null,null,null,null,null,null,null,null,null,null,null,null,null,null,null,null,null,null,null,null,null,null,null,{"$f":"SUM(B160:AF160)","v":0},"　残業",null,null,null,{"$f":"AG159","v":0},{"$f":"ROUNDDOWN(AL160*請求書・納品書!$M$12,)","v":0}]
["遅・早(公)",null,null,null,null,null,null,null,null,null,null,null,null,null,null,null,null,null,null,null,null,null,null,null,null,null,null,null,null,null,null,null,{"$f":"SUM(B161:AF161)","v":0},"　公出",{"$f":"COUNTIF(B158:AF158,\"公\")","v":0},{"$f":"AI161*7.8","v":0},{"$f":"AG161","v":0},{"$f":"AJ161-AK161","v":0},{"$f":"ROUNDDOWN(AL161*請求書・納品書!$M$13,)","v":0}]
["連続",null,null,null,null,null,null,null,null,null,null,null,null,null,null,null,null,null,null,null,null,null,null,null,null,null,null,null,null,null,null,null,{"$f":"SUM(B162:AF162)","v":0},"　連続",null,null,null,{"$f":"AG162","v":0},{"$f":"AL162*請求書・納品書!$M$14","v":0}]
[null,null,null,null,null,null,null,null,null,null,null,null,null,null,null,null,null,null,null,null,null,null,null,null,null,null,null,null,null,null,null,null,null,null,null,null,null,"合　計",{"$f":"SUM(AM159:AM162)","v":0}]
[null,null,null,null,null,null,null,null,null,null,null,null,null,null,null,null,null,null,null,null,null,null,null,null,null,null,null,null,null,null,null,null,null,{"$f":"A164","v":0},"日数(日)","勤務時間(h)"," 早退（h）","合計(h)","金額(円)"]
["残業",null,null,null,null,null,null,null,null,null,null,null,null,null,null,null,null,null,null,null,null,null,null,null,null,null,null,null,null,null,null,null,{"$f":"SUM(B165:AF165)","v":0},"　出勤",{"$f":"COUNTIF(B164:AF164,\"出\")","v":0},{"$f":"AI165*7.8","v":0},{"$f":"AG166","v":0},{"$f":"AJ165-AK165","v":0},{"$f":"ROUNDDOWN(AL165*請求書・納品書!$M$11,)","v":0}]
["遅・早(出)",null,null,null,null,null,null,null,null,null,null,null,null,null,null,null,null,null,null,null,null,null,null,null,null,null,null,null,null,null,null,null,{"$f":"SUM(B166:AF166)","v":0},"　残業",null,null,null,{"$f":"AG165","v":0},{"$f":"ROUNDDOWN(AL166*請求書・納品書!$M$12,)","v":0}]
["遅・早(公)",null,null,null,null,null,null,null,null,null,null,null,null,null,null,null,null,null,null,null,null,null,null,null,null,null,null,null,null,null,null,null,{"$f":"SUM(B167:AF167)","v":0},"　公出",{"$f":"COUNTIF(B164:AF164,\"公\")","v":0},{"$f":"AI167*7.8","v":0},{"$f":"AG167","v":0},{"$f":"AJ167-AK167","v":0},{"$f":"ROUNDDOWN(AL167*請求書・納品書!$M$13,)","v":0}]
["連続",null,null,null,null,null,null,null,null,null,null,null,null,null,null,null,null,null,null,null,null,null,null,null,null,null,null,null,null,null,null,null,{"$f":"SUM(B168:AF168)","v":0},"　連続",null,null,null,{"$f":"AG168","v":0},{"$f":"AL168*請求書・納品書!$M$14","v":0}]
[null,null,null,null,null,null,null,null,null,null,null,null,null,null,null,null,null,null,null,null,null,null,null,null,null,null,null,null,null,null,null,null,null,null,null,null,null,"合　計",{"$f":"SUM(AM165:AM168)","v":0},null,{"$f":"AM151+AM157+AM163+AM169","v":0}]
[null,null,null,null,null,null,null,null,null,null,null,null,null,null,null,null,null,null,null,null,null,null,null,null,null,null,null,null,null,null,null,null,null,{"$f":"A170","v":0},"日数(日)","勤務時間(h)"," 早退（h）","合計(h)","金額(円)"]
["残業",null,null,null,null,null,null,null,null,null,null,null,null,null,null,null,null,null,null,null,null,null,null,null,null,null,null,null,null,null,null,null,{"$f":"SUM(B171:AF171)","v":0},"　出勤",{"$f":"COUNTIF(B170:AF170,\"出\")","v":0},{"$f":"AI171*7.8","v":0},{"$f":"AG172","v":0},{"$f":"AJ171-AK171","v":0},{"$f":"ROUNDDOWN(AL171*請求書・納品書!$M$11,)","v":0}]
["遅・早(出)",null,null,null,null,null,null,null,null,null,null,null,null,null,null,null,null,null,null,null,null,null,null,null,null,null,null,null,null,null,null,null,{"$f":"SUM(B172:AF172)","v":0},"　残業",null,null,null,{"$f":"AG171","v":0},{"$f":"ROUNDDOWN(AL172*請求書・納品書!$M$12,)","v":0}]
["遅・早(公)",null,null,null,null,null,null,null,null,null,null,null,null,null,null,null,null,null,null,null,null,null,null,null,null,null,null,null,null,null,null,null,{"$f":"SUM(B173:AF173)","v":0},"　公出",{"$f":"COUNTIF(B170:AF170,\"公\")","v":0},{"$f":"AI173*7.8","v":0},{"$f":"AG173","v":0},{"$f":"AJ173-AK173","v":0},{"$f":"ROUNDDOWN(AL173*請求書・納品書!$M$13,)","v":0}]
["連続",null,null,null,null,null,null,null,null,null,null,null,null,null,null,null,null,null,null,null,null,null,null,null,null,null,null,null,null,null,null,null,{"$f":"SUM(B174:AF174)","v":0},"　連続",null,null,null,{"$f":"AG174","v":0},{"$f":"AL174*請求書・納品書!$M$14","v":0}]
[null,null,null,null,null,null,null,null,null,null,null,null,null,null,null,null,null,null,null,null,null,null,null,null,null,null,null,null,null,null,null,null,null,null,null,null,null,"合　計",{"$f":"SUM(AM171:AM174)","v":0}]
[null,null,null,null,null,null,null,null,null,null,null,null,null,null,null,null,null,null,null,null,null,null,null,null,null,null,null,null,null,null,null,null,null,{"$f":"A176","v":0},"日数(日)","勤務時間(h)"," 早退（h）","合計(h)","金額(円)"]
["残業",null,null,null,null,null,null,null,null,null,null,null,null,null,null,null,null,null,null,null,null,null,null,null,null,null,null,null,null,null,null,null,{"$f":"SUM(B177:AF177)","v":0},"　出勤",{"$f":"COUNTIF(B176:AF176,\"出\")","v":0},{"$f":"AI177*7.8","v":0},{"$f":"AG178","v":0},{"$f":"AJ177-AK177","v":0},{"$f":"ROUNDDOWN(AL177*請求書・納品書!$M$11,)","v":0}]
["遅・早(出)",null,null,null,null,null,null,null,null,null,null,null,null,null,null,null,null,null,null,null,null,null,null,null,null,null,null,null,null,null,null,null,{"$f":"SUM(B178:AF178)","v":0},"　残業",null,null,null,{"$f":"AG177","v":0},{"$f":"ROUNDDOWN(AL178*請求書・納品書!$M$12,)","v":0}]
["遅・早(公)",null,null,null,null,null,null,null,null,null,null,null,null,null,null,null,null,null,null,null,null,null,null,null,null,null,null,null,null,null,null,null,{"$f":"SUM(B179:AF179)","v":0},"　公出",{"$f":"COUNTIF(B176:AF176,\"公\")","v":0},{"$f":"AI179*7.8","v":0},{"$f":"AG179","v":0},{"$f":"AJ179-AK179","v":0},{"$f":"ROUNDDOWN(AL179*請求書・納品書!$M$13,)","v":0}]
["連続",null,null,null,null,null,null,null,null,null,null,null,null,null,null,null,null,null,null,null,null,null,null,null,null,null,null,null,null,null,null,null,{"$f":"SUM(B180:AF180)","v":0},"　連続",null,null,null,{"$f":"AG180","v":0},{"$f":"AL180*請求書・納品書!$M$14","v":0}]
[null,null,null,null,null,null,null,null,null,null,null,null,null,null,null,null,null,null,null,null,null,null,null,null,null,null,null,null,null,null,null,null,null,null,null,null,null,"合　計",{"$f":"SUM(AM177:AM180)","v":0}]
[null,null,null,null,null,null,null,null,null,null,null,null,null,null,null,null,null,null,null,null,null,null,null,null,null,null,null,null,null,null,null,null,null,{"$f":"A182","v":0},"日数(日)","勤務時間(h)"," 早退（h）","合計(h)","金額(円)"]
["残業",null,null,null,null,null,null,null,null,null,null,null,null,null,null,null,null,null,null,null,null,null,null,null,null,null,null,null,null,null,null,null,{"$f":"SUM(B183:AF183)","v":0},"　出勤",{"$f":"COUNTIF(B182:AF182,\"出\")","v":0},{"$f":"AI183*7.8","v":0},{"$f":"AG184","v":0},{"$f":"AJ183-AK183","v":0},{"$f":"ROUNDDOWN(AL183*請求書・納品書!$M$11,)","v":0}]
["遅・早(出)",null,null,null,null,null,null,null,null,null,null,null,null,null,null,null,null,null,null,null,null,null,null,null,null,null,null,null,null,null,null,null,{"$f":"SUM(B184:AF184)","v":0},"　残業",null,null,null,{"$f":"AG183","v":0},{"$f":"ROUNDDOWN(AL184*請求書・納品書!$M$12,)","v":0}]
["遅・早(公)",null,null,null,null,null,null,null,null,null,null,null,null,null,null,null,null,null,null,null,null,null,null,null,null,null,null,null,null,null,null,null,{"$f":"SUM(B185:AF185)","v":0},"　公出",{"$f":"COUNTIF(B182:AF182,\"公\")","v":0},{"$f":"AI185*7.8","v":0},{"$f":"AG185","v":0},{"$f":"AJ185-AK185","v":0},{"$f":"ROUNDDOWN(AL185*請求書・納品書!$M$13,)","v":0}]
["連続",null,null,null,null,null,null,null,null,null,null,null,null,null,null,null,null,null,null,null,null,null,null,null,null,null,null,null,null,null,null,null,{"$f":"SUM(B186:AF186)","v":0},"　連続",null,null,null,{"$f":"AG186","v":0},{"$f":"AL186*請求書・納品書!$M$14","v":0}]
[null,null,null,null,null,null,null,null,null,null,null,null,null,null,null,null,null,null,null,null,null,null,null,null,null,null,null,null,null,null,null,null,null,null,null,null,null,"合　計",{"$f":"SUM(AM183:AM186)","v":0}]
[null,null,null,null,null,null,null,null,null,null,null,null,null,null,null,null,null,null,null,null,null,null,null,null,null,null,null,null,null,null,null,null,null,{"$f":"A188","v":0},"日数(日)","勤務時間(h)"," 早退（h）","合計(h)","金額(円)"]
["残業",null,null,null,null,null,null,null,null,null,null,null,null,null,null,null,null,null,null,null,null,null,null,null,null,null,null,null,null,null,null,null,{"$f":"SUM(B189:AF189)","v":0},"　出勤",{"$f":"COUNTIF(B188:AF188,\"出\")","v":0},{"$f":"AI189*7.8","v":0},{"$f":"AG190","v":0},{"$f":"AJ189-AK189","v":0},{"$f":"ROUNDDOWN(AL189*請求書・納品書!$M$11,)","v":0}]
["遅・早(出)",null,null,null,null,null,null,null,null,null,null,null,null,null,null,null,null,null,null,null,null,null,null,null,null,null,null,null,null,null,null,null,{"$f":"SUM(B190:AF190)","v":0},"　残業",null,null,null,{"$f":"AG189","v":0},{"$f":"ROUNDDOWN(AL190*請求書・納品書!$M$12,)","v":0}]
["遅・早(公)",null,null,null,null,null,null,null,null,null,null,null,null,null,null,null,null,null,null,null,null,null,null,null,null,null,null,null,null,null,null,null,{"$f":"SUM(B191:AF191)","v":0},"　公出",{"$f":"COUNTIF(B188:AF188,\"公\")","v":0},{"$f":"AI191*7.8","v":0},{"$f":"AG191","v":0},{"$f":"AJ191-AK191","v":0},{"$f":"ROUNDDOWN(AL191*請求書・納品書!$M$13,)","v":0}]
["連続",null,null,null,null,null,null,null,null,null,null,null,null,null,null,null,null,null,null,null,null,null,null,null,null,null,null,null,null,null,null,null,{"$f":"SUM(B192:AF192)","v":0},"　連続",null,null,null,{"$f":"AG192","v":0},{"$f":"AL192*請求書・納品書!$M$14","v":0}]
[null,null,null,null,null,null,null,null,null,null,null,null,null,null,null,null,null,null,null,null,null,null,null,null,null,null,null,null,null,null,null,null,null,null,null,null,null,"合　計",{"$f":"SUM(AM189:AM192)","v":0},null,{"$f":"AM175+AM181+AM187+AM193","v":0}]

{"sheet":"7","index":3,"n_rows":193,"n_cols":42,"rows_kept":193,"cut":false,"hidden":false,"merged":[]}
[{"$f":"'4'!A1","v":2010},1,2,3,4,5,6,7,8,9,10,11,12,13,14,15,16,17,18,19,20,21,22,23,24,25,26,27,28,29,30,31,"計",{"$f":"A1&\"年\"&MID(CELL(\"filename\",$A$1),FIND(\"]\",CELL(\"filename\",$A$1))+1,31) &\"月\"","v":"2010年7月"}]
[null,null,null,null,null,null,null,null,null,null,null,null,null,null,null,null,null,null,null,null,null,null,null,null,null,null,null,null,null,null,null,null,null,{"$f":"A2","v":0},"日数(日)","勤務時間(h)"," 早退（h）","合計(h)","金額(円)","出","　合計",{"$f":"SUM(AM:AM)/2","v":0}]
["残業",null,null,null,null,null,null,null,null,null,null,null,null,null,null,null,null,null,null,null,null,null,null,null,null,null,null,null,null,null,null,null,{"$f":"SUM(B3:AF3)","v":0},"　出勤",{"$f":"COUNTIF(B2:AF2,\"出\")","v":0},{"$f":"AI3*7.8","v":0},{"$f":"AG4","v":0},{"$f":"AJ3-AK3","v":0},{"$f":"ROUNDDOWN(AL3*請求書・納品書!$M$11,)","v":0},"公","　人数",{"$f":"COUNTA(AH:AH)-COUNTIF(AH:AH,0)-32*4-1","v":0}]
["遅・早(出)",null,null,null,null,null,null,null,null,null,null,null,null,null,null,null,null,null,null,null,null,null,null,null,null,null,null,null,null,null,null,null,{"$f":"SUM(B4:AF4)","v":0},"　残業",null,null,null,{"$f":"AG3","v":0},{"$f":"ROUNDDOWN(AL4*請求書・納品書!$M$12,)","v":0},"欠","　管理費",{"$f":"(AP3-AP9)*19400","v":0}]
["遅・早(公)",null,null,null,null,null,null,null,null,null,null,null,null,null,null,null,null,null,null,null,null,null,null,null,null,null,null,null,null,null,null,null,{"$f":"SUM(B5:AF5)","v":0},"　公出",{"$f":"COUNTIF(B2:AF2,\"公\")","v":0},{"$f":"AI5*7.8","v":0},{"$f":"AG5","v":0},{"$f":"AJ5-AK5","v":0},{"$f":"ROUNDDOWN(AL5*請求書・納品書!$M$13,)","v":0},"有","　小計",{"$f":"AP2+AP4","v":0}]
["連続",null,null,null,null,null,null,null,null,null,null,null,null,null,null,null,null,null,null,null,null,null,null,null,null,null,null,null,null,null,null,null,{"$f":"SUM(B6:AF6)","v":0},"　連続",null,null,null,{"$f":"AG6","v":0},{"$f":"AL6*請求書・納品書!$M$14","v":0},"半","　消費税",{"$f":"ROUNDDOWN(AP5*0.05,)","v":0}]
[null,null,null,null,null,null,null,null,null,null,null,null,null,null,null,null,null,null,null,null,null,null,null,null,null,null,null,null,null,null,null,null,null,null,null,null,null,"合　計",{"$f":"SUM(AM3:AM6)","v":0},null,"　総合計",{"$f":"AP5+AP6","v":0}]
[null,null,null,null,null,null,null,null,null,null,null,null,null,null,null,null,null,null,null,null,null,null,null,null,null,null,null,null,null,null,null,null,null,{"$f":"A8","v":0},"日数(日)","勤務時間(h)"," 早退（h）","合計(h)","金額(円)"]
["残業",null,null,null,null,null,null,null,null,null,null,null,null,null,null,null,null,null,null,null,null,null,null,null,null,null,null,null,null,null,null,null,{"$f":"SUM(B9:AF9)","v":0},"　出勤",{"$f":"COUNTIF(B8:AF8,\"出\")","v":0},{"$f":"AI9*7.8","v":0},{"$f":"AG10","v":0},{"$f":"AJ9-AK9","v":0},{"$f":"ROUNDDOWN(AL9*請求書・納品書!$M$11,)","v":0},null,"管理費に入れない人数"]
["遅・早(出)",null,null,null,null,null,null,null,null,null,null,null,null,null,null,null,null,null,null,null,null,null,null,null,null,null,null,null,null,null,null,null,{"$f":"SUM(B10:AF10)","v":0},"　残業",null,null,null,{"$f":"AG9","v":0},{"$f":"ROUNDDOWN(AL10*請求書・納品書!$M$12,)","v":0}]
["遅・早(公)",null,null,null,null,null,null,null,null,null,null,null,null,null,null,null,null,null,null,null,null,null,null,null,null,null,null,null,null,null,null,null,{"$f":"SUM(B11:AF11)","v":0},"　公出",{"$f":"COUNTIF(B8:AF8,\"公\")","v":0},{"$f":"AI11*7.8","v":0},{"$f":"AG11","v":0},{"$f":"AJ11-AK11","v":0},{"$f":"ROUNDDOWN(AL11*請求書・納品書!$M$13,)","v":0}]
["連続",null,null,null,null,null,null,null,null,null,null,null,null,null,null,null,null,null,null,null,null,null,null,null,null,null,null,null,null,null,null,null,{"$f":"SUM(B12:AF12)","v":0},"　連続",null,null,null,{"$f":"AG12","v":0},{"$f":"AL12*請求書・納品書!$M$14","v":0}]
[null,null,null,null,null,null,null,null,null,null,null,null,null,null,null,null,null,null,null,null,null,null,null,null,null,null,null,null,null,null,null,null,null,null,null,null,null,"合　計",{"$f":"SUM(AM9:AM12)","v":0}]
[null,null,null,null,null,null,null,null,null,null,null,null,null,null,null,null,null,null,null,null,null,null,null,null,null,null,null,null,null,null,null,null,null,{"$f":"A14","v":0},"日数(日)","勤務時間(h)"," 早退（h）","合計(h)","金額(円)"]
["残業",null,null,null,null,null,null,null,null,null,null,null,null,null,null,null,null,null,null,null,null,null,null,null,null,null,null,null,null,null,null,null,{"$f":"SUM(B15:AF15)","v":0},"　出勤",{"$f":"COUNTIF(B14:AF14,\"出\")","v":0},{"$f":"AI15*7.8","v":0},{"$f":"AG16","v":0},{"$f":"AJ15-AK15","v":0},{"$f":"ROUNDDOWN(AL15*請求書・納品書!$M$11,)","v":0}]
["遅・早(出)",null,null,null,null,null,null,null,null,null,null,null,null,null,null,null,null,null,null,null,null,null,null,null,null,null,null,null,null,null,null,null,{"$f":"SUM(B16:AF16)","v":0},"　残業",null,null,null,{"$f":"AG15","v":0},{"$f":"ROUNDDOWN(AL16*請求書・納品書!$M$12,)","v":0}]
["遅・早(公)",null,null,null,null,null,null,null,null,null,null,null,null,null,null,null,null,null,null,null,null,null,null,null,null,null,null,null,null,null,null,null,{"$f":"SUM(B17:AF17)","v":0},"　公出",{"$f":"COUNTIF(B14:AF14,\"公\")","v":0},{"$f":"AI17*7.8","v":0},{"$f":"AG17","v":0},{"$f":"AJ17-AK17","v":0},{"$f":"ROUNDDOWN(AL17*請求書・納品書!$M$13,)","v":0}]
["連続",null,null,null,null,null,null,null,null,null,null,null,null,null,null,null,null,null,null,null,null,null,null,null,null,null,null,null,null,null,null,null,{"$f":"SUM(B18:AF18)","v":0},"　連続",null,null,null,{"$f":"AG18","v":0},{"$f":"AL18*請求書・納品書!$M$14","v":0}]
[null,null,null,null,null,null,null,null,null,null,null,null,null,null,null,null,null,null,null,null,null,null,null,null,null,null,null,null,null,null,null,null,null,null,null,null,null,"合　計",{"$f":"SUM(AM15:AM18)","v":0}]
[null,null,null,null,null,null,null,null,null,null,null,null,null,null,null,null,null,null,null,null,null,null,null,null,null,null,null,null,null,null,null,null,null,{"$f":"A20","v":0},"日数(日)","勤務時間(h)"," 早退（h）","合計(h)","金額(円)"]
["残業",null,null,null,null,null,null,null,null,null,null,null,null,null,null,null,null,null,null,null,null,null,null,null,null,null,null,null,null,null,null,null,{"$f":"SUM(B21:AF21)","v":0},"　出勤",{"$f":"COUNTIF(B20:AF20,\"出\")","v":0},{"$f":"AI21*7.8","v":0},{"$f":"AG22","v":0},{"$f":"AJ21-AK21","v":0},{"$f":"ROUNDDOWN(AL21*請求書・納品書!$M$11,)","v":0}]
["遅・早(出)",null,null,null,null,null,null,null,null,null,null,null,null,null,null,null,null,null,null,null,null,null,null,null,null,null,null,null,null,null,null,null,{"$f":"SUM(B22:AF22)","v":0},"　残業",null,null,null,{"$f":"AG21","v":0},{"$f":"ROUNDDOWN(AL22*請求書・納品書!$M$12,)","v":0}]
["遅・早(公)",null,null,null,null,null,null,null,null,null,null,null,null,null,null,null,null,null,null,null,null,null,null,null,null,null,null,null,null,null,null,null,{"$f":"SUM(B23:AF23)","v":0},"　公出",{"$f":"COUNTIF(B20:AF20,\"公\")","v":0},{"$f":"AI23*7.8","v":0},{"$f":"AG23","v":0},{"$f":"AJ23-AK23","v":0},{"$f":"ROUNDDOWN(AL23*請求書・納品書!$M$13,)","v":0}]
["連続",null,null,null,null,null,null,null,null,null,null,null,null,null,null,null,null,null,null,null,null,null,null,null,null,null,null,null,null,null,null,null,{"$f":"SUM(B24:AF24)","v":0},"　連続",null,null,null,{"$f":"AG24","v":0},{"$f":"AL24*請求書・納品書!$M$14","v":0}]
[null,null,null,null,null,null,null,null,null,null,null,null,null,null,null,null,null,null,null,null,null,null,null,null,null,null,null,null,null,null,null,null,null,null,null,null,null,"合　計",{"$f":"SUM(AM21:AM24)","v":0},null,{"$f":"AM7+AM13+AM19+AM25","v":0}]
[null,null,null,null,null,null,null,null,null,null,null,null,null,null,null,null,null,null,null,null,null,null,null,null,null,null,null,null,null,null,null,null,null,{"$f":"A26","v":0},"日数(日)","勤務時間(h)"," 早退（h）","合計(h)","金額(円)"]
["残業",null,null,null,null,null,null,null,null,null,null,null,null,null,null,null,null,null,null,null,null,null,null,null,null,null,null,null,null,null,null,null,{"$f":"SUM(B27:AF27)","v":0},"　出勤",{"$f":"COUNTIF(B26:AF26,\"出\")","v":0},{"$f":"AI27*7.8","v":0},{"$f":"AG28","v":0},{"$f":"AJ27-AK27","v":0},{"$f":"ROUNDDOWN(AL27*請求書・納品書!$M$11,)","v":0}]
["遅・早(出)",null,null,null,null,null,null,null,null,null,null,null,null,null,null,null,null,null,null,null,null,null,null,null,null,null,null,null,null,null,null,null,{"$f":"SUM(B28:AF28)","v":0},"　残業",null,null,null,{"$f":"AG27","v":0},{"$f":"ROUNDDOWN(AL28*請求書・納品書!$M$12,)","v":0}]
["遅・早(公)",null,null,null,null,null,null,null,null,null,null,null,null,null,null,null,null,null,null,null,null,null,null,null,null,null,null,null,null,null,null,null,{"$f":"SUM(B29:AF29)","v":0},"　公出",{"$f":"COUNTIF(B26:AF26,\"公\")","v":0},{"$f":"AI29*7.8","v":0},{"$f":"AG29","v":0},{"$f":"AJ29-AK29","v":0},{"$f":"ROUNDDOWN(AL29*請求書・納品書!$M$13,)","v":0}]
["連続",null,null,null,null,null,null,null,null,null,null,null,null,null,null,null,null,null,null,null,null,null,null,null,null,null,null,null,null,null,null,null,{"$f":"SUM(B30:AF30)","v":0},"　連続",null,null,null,{"$f":"AG30","v":0},{"$f":"AL30*請求書・納品書!$M$14","v":0}]
[null,null,null,null,null,null,null,null,null,null,null,null,null,null,null,null,null,null,null,null,null,null,null,null,null,null,null,null,null,null,null,null,null,null,null,null,null,"合　計",{"$f":"SUM(AM27:AM30)","v":0}]
[null,null,null,null,null,null,null,null,null,null,null,null,null,null,null,null,null,null,null,null,null,null,null,null,null,null,null,null,null,null,null,null,null,{"$f":"A32","v":0},"日数(日)","勤務時間(h)"," 早退（h）","合計(h)","金額(円)"]
["残業",null,null,null,null,null,null,null,null,null,null,null,null,null,null,null,null,null,null,null,null,null,null,null,null,null,null,null,null,null,null,null,{"$f":"SUM(B33:AF33)","v":0},"　出勤",{"$f":"COUNTIF(B32:AF32,\"出\")","v":0},{"$f":"AI33*7.8","v":0},{"$f":"AG34","v":0},{"$f":"AJ33-AK33","v":0},{"$f":"ROUNDDOWN(AL33*請求書・納品書!$M$11,)","v":0}]
["遅・早(出)",null,null,null,null,null,null,null,null,null,null,null,null,null,null,null,null,null,null,null,null,null,null,null,null,null,null,null,null,null,null,null,{"$f":"SUM(B34:AF34)","v":0},"　残業",null,null,null,{"$f":"AG33","v":0},{"$f":"ROUNDDOWN(AL34*請求書・納品書!$M$12,)","v":0}]
["遅・早(公)",null,null,null,null,null,null,null,null,null,null,null,null,null,null,null,null,null,null,null,null,null,null,null,null,null,null,null,null,null,null,null,{"$f":"SUM(B35:AF35)","v":0},"　公出",{"$f":"COUNTIF(B32:AF32,\"公\")","v":0},{"$f":"AI35*7.8","v":0},{"$f":"AG35","v":0},{"$f":"AJ35-AK35","v":0},{"$f":"ROUNDDOWN(AL35*請求書・納品書!$M$13,)","v":0}]
["連続",null,null,null,null,null,null,null,null,null,null,null,null,null,null,null,null,null,null,null,null,null,null,null,null,null,null,null,null,null,null,null,{"$f":"SUM(B36:AF36)","v":0},"　連続",null,null,null,{"$f":"AG36","v":0},{"$f":"AL36*請求書・納品書!$M$14","v":0}]
[null,null,null,null,null,null,null,null,null,null,null,null,null,null,null,null,null,null,null,null,null,null,null,null,null,null,null,null,null,null,null,null,null,null,null,null,null,"合　計",{"$f":"SUM(AM33:AM36)","v":0}]
[null,null,null,null,null,null,null,null,null,null,null,null,null,null,null,null,null,null,null,null,null,null,null,null,null,null,null,null,null,null,null,null,null,{"$f":"A38","v":0},"日数(日)","勤務時間(h)"," 早退（h）","合計(h)","金額(円)"]
["残業",null,null,null,null,null,null,null,null,null,null,null,null,null,null,null,null,null,null,null,null,null,null,null,null,null,null,null,null,null,null,null,{"$f":"SUM(B39:AF39)","v":0},"　出勤",{"$f":"COUNTIF(B38:AF38,\"出\")","v":0},{"$f":"AI39*7.8","v":0},{"$f":"AG40","v":0},{"$f":"AJ39-AK39","v":0},{"$f":"ROUNDDOWN(AL39*請求書・納品書!$M$11,)","v":0}]
["遅・早(出)",null,null,null,null,null,null,null,null,null,null,null,null,null,null,null,null,null,null,null,null,null,null,null,null,null,null,null,null,null,null,null,{"$f":"SUM(B40:AF40)","v":0},"　残業",null,null,null,{"$f":"AG39","v":0},{"$f":"ROUNDDOWN(AL40*請求書・納品書!$M$12,)","v":0}]
["遅・早(公)",null,null,null,null,null,null,null,null,null,null,null,null,null,null,null,null,null,null,null,null,null,null,null,null,null,null,null,null,null,null,null,{"$f":"SUM(B41:AF41)","v":0},"　公出",{"$f":"COUNTIF(B38:AF38,\"公\")","v":0},{"$f":"AI41*7.8","v":0},{"$f":"AG41","v":0},{"$f":"AJ41-AK41","v":0},{"$f":"ROUNDDOWN(AL41*請求書・納品書!$M$13,)","v":0}]
["連続",null,null,null,null,null,null,null,null,null,null,null,null,null,null,null,null,null,null,null,null,null,null,null,null,null,null,null,null,null,null,null,{"$f":"SUM(B42:AF42)","v":0},"　連続",null,null,null,{"$f":"AG42","v":0},{"$f":"AL42*請求書・納品書!$M$14","v":0}]
[null,null,null,null,null,null,null,null,null,null,null,null,null,null,null,null,null,null,null,null,null,null,null,null,null,null,null,null,null,null,null,null,null,null,null,null,null,"合　計",{"$f":"SUM(AM39:AM42)","v":0}]
[null,null,null,null,null,null,null,null,null,null,null,null,null,null,null,null,null,null,null,null,null,null,null,null,null,null,null,null,null,null,null,null,null,{"$f":"A44","v":0},"日数(日)","勤務時間(h)"," 早退（h）","合計(h)","金額(円)"]
["残業",null,null,null,null,null,null,null,null,null,null,null,null,null,null,null,null,null,null,null,null,null,null,null,null,null,null,null,null,null,null,null,{"$f":"SUM(B45:AF45)","v":0},"　出勤",{"$f":"COUNTIF(B44:AF44,\"出\")","v":0},{"$f":"AI45*7.8","v":0},{"$f":"AG46","v":0},{"$f":"AJ45-AK45","v":0},{"$f":"ROUNDDOWN(AL45*請求書・納品書!$M$11,)","v":0}]
["遅・早(出)",null,null,null,null,null,null,null,null,null,null,null,null,null,null,null,null,null,null,null,null,null,null,null,null,null,null,null,null,null,null,null,{"$f":"SUM(B46:AF46)","v":0},"　残業",null,null,null,{"$f":"AG45","v":0},{"$f":"ROUNDDOWN(AL46*請求書・納品書!$M$12,)","v":0}]
["遅・早(公)",null,null,null,null,null,null,null,null,null,null,null,null,null,null,null,null,null,null,null,null,null,null,null,null,null,null,null,null,null,null,null,{"$f":"SUM(B47:AF47)","v":0},"　公出",{"$f":"COUNTIF(B44:AF44,\"公\")","v":0},{"$f":"AI47*7.8","v":0},{"$f":"AG47","v":0},{"$f":"AJ47-AK47","v":0},{"$f":"ROUNDDOWN(AL47*請求書・納品書!$M$13,)","v":0}]
["連続",null,null,null,null,null,null,null,null,null,null,null,null,null,null,null,null,null,null,null,null,null,null,null,null,null,null,null,null,null,null,null,{"$f":"SUM(B48:AF48)","v":0},"　連続",null,null,null,{"$f":"AG48","v":0},{"$f":"AL48*請求書・納品書!$M$14","v":0}]
[null,null,null,null,null,null,null,null,null,null,null,null,null,null,null,null,null,null,null,null,null,null,null,null,null,null,null,null,null,null,null,null,null,null,null,null,null,"合　計",{"$f":"SUM(AM45:AM48)","v":0},null,{"$f":"AM31+AM37+AM43+AM49","v":0}]
[null,null,null,null,null,null,null,null,null,null,null,null,null,null,null,null,null,null,null,null,null,null,null,null,null,null,null,null,null,null,null,null,null,{"$f":"A50","v":0},"日数(日)","勤務時間(h)"," 早退（h）","合計(h)","金額(円)"]
["残業",null,null,null,null,null,null,null,null,null,null,null,null,null,null,null,null,null,null,null,null,null,null,null,null,null,null,null,null,null,null,null,{"$f":"SUM(B51:AF51)","v":0},"　出勤",{"$f":"COUNTIF(B50:AF50,\"出\")","v":0},{"$f":"AI51*7.8","v":0},{"$f":"AG52","v":0},{"$f":"AJ51-AK51","v":0},{"$f":"ROUNDDOWN(AL51*請求書・納品書!$M$11,)","v":0}]
["遅・早(出)",null,null,null,null,null,null,null,null,null,null,null,null,null,null,null,null,null,null,null,null,null,null,null,null,null,null,null,null,null,null,null,{"$f":"SUM(B52:AF52)","v":0},"　残業",null,null,null,{"$f":"AG51","v":0},{"$f":"ROUNDDOWN(AL52*請求書・納品書!$M$12,)","v":0}]
["遅・早(公)",null,null,null,null,null,null,null,null,null,null,null,null,null,null,null,null,null,null,null,null,null,null,null,null,null,null,null,null,null,null,null,{"$f":"SUM(B53:AF53)","v":0},"　公出",{"$f":"COUNTIF(B50:AF50,\"公\")","v":0},{"$f":"AI53*7.8","v":0},{"$f":"AG53","v":0},{"$f":"AJ53-AK53","v":0},{"$f":"ROUNDDOWN(AL53*請求書・納品書!$M$13,)","v":0}]
["連続",null,null,null,null,null,null,null,null,null,null,null,null,null,null,null,null,null,null,null,null,null,null,null,null,null,null,null,null,null,null,null,{"$f":"SUM(B54:AF54)","v":0},"　連続",null,null,null,{"$f":"AG54","v":0},{"$f":"AL54*請求書・納品書!$M$14","v":0}]
[null,null,null,null,null,null,null,null,null,null,null,null,null,null,null,null,null,null,null,null,null,null,null,null,null,null,null,null,null,null,null,null,null,null,null,null,null,"合　計",{"$f":"SUM(AM51:AM54)","v":0}]
[null,null,null,null,null,null,null,null,null,null,null,null,null,null,null,null,null,null,null,null,null,null,null,null,null,null,null,null,null,null,null,null,null,{"$f":"A56","v":0},"日数(日)","勤務時間(h)"," 早退（h）","合計(h)","金額(円)"]
["残業",null,null,null,null,null,null,null,null,null,null,null,null,null,null,null,null,null,null,null,null,null,null,null,null,null,null,null,null,null,null,null,{"$f":"SUM(B57:AF57)","v":0},"　出勤",{"$f":"COUNTIF(B56:AF56,\"出\")","v":0},{"$f":"AI57*7.8","v":0},{"$f":"AG58","v":0},{"$f":"AJ57-AK57","v":0},{"$f":"ROUNDDOWN(AL57*請求書・納品書!$M$11,)","v":0}]
["遅・早(出)",null,null,null,null,null,null,null,null,null,null,null,null,null,null,null,null,null,null,null,null,null,null,null,null,null,null,null,null,null,null,null,{"$f":"SUM(B58:AF58)","v":0},"　残業",null,null,null,{"$f":"AG57","v":0},{"$f":"ROUNDDOWN(AL58*請求書・納品書!$M$12,)","v":0}]
["遅・早(公)",null,null,null,null,null,null,null,null,null,null,null,null,null,null,null,null,null,null,null,null,null,null,null,null,null,null,null,null,null,null,null,{"$f":"SUM(B59:AF59)","v":0},"　公出",{"$f":"COUNTIF(B56:AF56,\"公\")","v":0},{"$f":"AI59*7.8","v":0},{"$f":"AG59","v":0},{"$f":"AJ59-AK59","v":0},{"$f":"ROUNDDOWN(AL59*請求書・納品書!$M$13,)","v":0}]
["連続",null,null,null,null,null,null,null,null,null,null,null,null,null,null,null,null,null,null,null,null,null,null,null,null,null,null,null,null,null,null,null,{"$f":"SUM(B60:AF60)","v":0},"　連続",null,null,null,{"$f":"AG60","v":0},{"$f":"AL60*請求書・納品書!$M$14","v":0}]
[null,null,null,null,null,null,null,null,null,null,null,null,null,null,null,null,null,null,null,null,null,null,null,null,null,null,null,null,null,null,null,null,null,null,null,null,null,"合　計",{"$f":"SUM(AM57:AM60)","v":0}]
[null,null,null,null,null,null,null,null,null,null,null,null,null,null,null,null,null,null,null,null,null,null,null,null,null,null,null,null,null,null,null,null,null,{"$f":"A62","v":0},"日数(日)","勤務時間(h)"," 早退（h）","合計(h)","金額(円)"]
["残業",null,null,null,null,null,null,null,null,null,null,null,null,null,null,null,null,null,null,null,null,null,null,null,null,null,null,null,null,null,null,null,{"$f":"SUM(B63:AF63)","v":0},"　出勤",{"$f":"COUNTIF(B62:AF62,\"出\")","v":0},{"$f":"AI63*7.8","v":0},{"$f":"AG64","v":0},{"$f":"AJ63-AK63","v":0},{"$f":"ROUNDDOWN(AL63*請求書・納品書!$M$11,)","v":0}]
["遅・早(出)",null,null,null,null,null,null,null,null,null,null,null,null,null,null,null,null,null,null,null,null,null,null,null,null,null,null,null,null,null,null,null,{"$f":"SUM(B64:AF64)","v":0},"　残業",null,null,null,{"$f":"AG63","v":0},{"$f":"ROUNDDOWN(AL64*請求書・納品書!$M$12,)","v":0}]
["遅・早(公)",null,null,null,null,null,null,null,null,null,null,null,null,null,null,null,null,null,null,null,null,null,null,null,null,null,null,null,null,null,null,null,{"$f":"SUM(B65:AF65)","v":0},"　公出",{"$f":"COUNTIF(B62:AF62,\"公\")","v":0},{"$f":"AI65*7.8","v":0},{"$f":"AG65","v":0},{"$f":"AJ65-AK65","v":0},{"$f":"ROUNDDOWN(AL65*請求書・納品書!$M$13,)","v":0}]
["連続",null,null,null,null,null,null,null,null,null,null,null,null,null,null,null,null,null,null,null,null,null,null,null,null,null,null,null,null,null,null,null,{"$f":"SUM(B66:AF66)","v":0},"　連続",null,null,null,{"$f":"AG66","v":0},{"$f":"AL66*請求書・納品書!$M$14","v":0}]
[null,null,null,null,null,null,null,null,null,null,null,null,null,null,null,null,null,null,null,null,null,null,null,null,null,null,null,null,null,null,null,null,null,null,null,null,null,"合　計",{"$f":"SUM(AM63:AM66)","v":0}]
[null,null,null,null,null,null,null,null,null,null,null,null,null,null,null,null,null,null,null,null,null,null,null,null,null,null,null,null,null,null,null,null,null,{"$f":"A68","v":0},"日数(日)","勤務時間(h)"," 早退（h）","合計(h)","金額(円)"]
["残業",null,null,null,null,null,null,null,null,null,null,null,null,null,null,null,null,null,null,null,null,null,null,null,null,null,null,null,null,null,null,null,{"$f":"SUM(B69:AF69)","v":0},"　出勤",{"$f":"COUNTIF(B68:AF68,\"出\")","v":0},{"$f":"AI69*7.8","v":0},{"$f":"AG70","v":0},{"$f":"AJ69-AK69","v":0},{"$f":"ROUNDDOWN(AL69*請求書・納品書!$M$11,)","v":0}]
["遅・早(出)",null,null,null,null,null,null,null,null,null,null,null,null,null,null,null,null,null,null,null,null,null,null,null,null,null,null,null,null,null,null,null,{"$f":"SUM(B70:AF70)","v":0},"　残業",null,null,null,{"$f":"AG69","v":0},{"$f":"ROUNDDOWN(AL70*請求書・納品書!$M$12,)","v":0}]
["遅・早(公)",null,null,null,null,null,null,null,null,null,null,null,null,null,null,null,null,null,null,null,null,null,null,null,null,null,null,null,null,null,null,null,{"$f":"SUM(B71:AF71)","v":0},"　公出",{"$f":"COUNTIF(B68:AF68,\"公\")","v":0},{"$f":"AI71*7.8","v":0},{"$f":"AG71","v":0},{"$f":"AJ71-AK71","v":0},{"$f":"ROUNDDOWN(AL71*請求書・納品書!$M$13,)","v":0}]
["連続",null,null,null,null,null,null,null,null,null,null,null,null,null,null,null,null,null,null,null,null,null,null,null,null,null,null,null,null,null,null,null,{"$f":"SUM(B72:AF72)","v":0},"　連続",null,null,null,{"$f":"AG72","v":0},{"$f":"AL72*請求書・納品書!$M$14","v":0}]
[null,null,null,null,null,null,null,null,null,null,null,null,null,null,null,null,null,null,null,null,null,null,null,null,null,null,null,null,null,null,null,null,null,null,null,null,null,"合　計",{"$f":"SUM(AM69:AM72)","v":0},null,{"$f":"AM55+AM61+AM67+AM73","v":0}]
[null,null,null,null,null,null,null,null,null,null,null,null,null,null,null,null,null,null,null,null,null,null,null,null,null,null,null,null,null,null,null,null,null,{"$f":"A74","v":0},"日数(日)","勤務時間(h)"," 早退（h）","合計(h)","金額(円)"]
["残業",null,null,null,null,null,null,null,null,null,null,null,null,null,null,null,null,null,null,null,null,null,null,null,null,null,null,null,null,null,null,null,{"$f":"SUM(B75:AF75)","v":0},"　出勤",{"$f":"COUNTIF(B74:AF74,\"出\")","v":0},{"$f":"AI75*7.8","v":0},{"$f":"AG76","v":0},{"$f":"AJ75-AK75","v":0},{"$f":"ROUNDDOWN(AL75*請求書・納品書!$M$11,)","v":0}]
["遅・早(出)",null,null,null,null,null,null,null,null,null,null,null,null,null,null,null,null,null,null,null,null,null,null,null,null,null,null,null,null,null,null,null,{"$f":"SUM(B76:AF76)","v":0},"　残業",null,null,null,{"$f":"AG75","v":0},{"$f":"ROUNDDOWN(AL76*請求書・納品書!$M$12,)","v":0}]
["遅・早(公)",null,null,null,null,null,null,null,null,null,null,null,null,null,null,null,null,null,null,null,null,null,null,null,null,null,null,null,null,null,null,null,{"$f":"SUM(B77:AF77)","v":0},"　公出",{"$f":"COUNTIF(B74:AF74,\"公\")","v":0},{"$f":"AI77*7.8","v":0},{"$f":"AG77","v":0},{"$f":"AJ77-AK77","v":0},{"$f":"ROUNDDOWN(AL77*請求書・納品書!$M$13,)","v":0}]
["連続",null,null,null,null,null,null,null,null,null,null,null,null,null,null,null,null,null,null,null,null,null,null,null,null,null,null,null,null,null,null,null,{"$f":"SUM(B78:AF78)","v":0},"　連続",null,null,null,{"$f":"AG78","v":0},{"$f":"AL78*請求書・納品書!$M$14","v":0}]
[null,null,null,null,null,null,null,null,null,null,null,null,null,null,null,null,null,null,null,null,null,null,null,null,null,null,null,null,null,null,null,null,null,null,null,null,null,"合　計",{"$f":"SUM(AM75:AM78)","v":0}]
[null,null,null,null,null,null,null,null,null,null,null,null,null,null,null,null,null,null,null,null,null,null,null,null,null,null,null,null,null,null,null,null,null,{"$f":"A80","v":0},"日数(日)","勤務時間(h)"," 早退（h）","合計(h)","金額(円)"]
["残業",null,null,null,null,null,null,null,null,null,null,null,null,null,null,null,null,null,null,null,null,null,null,null,null,null,null,null,null,null,null,null,{"$f":"SUM(B81:AF81)","v":0},"　出勤",{"$f":"COUNTIF(B80:AF80,\"出\")","v":0},{"$f":"AI81*7.8","v":0},{"$f":"AG82","v":0},{"$f":"AJ81-AK81","v":0},{"$f":"ROUNDDOWN(AL81*請求書・納品書!$M$11,)","v":0}]
["遅・早(出)",null,null,null,null,null,null,null,null,null,null,null,null,null,null,null,null,null,null,null,null,null,null,null,null,null,null,null,null,null,null,null,{"$f":"SUM(B82:AF82)","v":0},"　残業",null,null,null,{"$f":"AG81","v":0},{"$f":"ROUNDDOWN(AL82*請求書・納品書!$M$12,)","v":0}]
["遅・早(公)",null,null,null,null,null,null,null,null,null,null,null,null,null,null,null,null,null,null,null,null,null,null,null,null,null,null,null,null,null,null,null,{"$f":"SUM(B83:AF83)","v":0},"　公出",{"$f":"COUNTIF(B80:AF80,\"公\")","v":0},{"$f":"AI83*7.8","v":0},{"$f":"AG83","v":0},{"$f":"AJ83-AK83","v":0},{"$f":"ROUNDDOWN(AL83*請求書・納品書!$M$13,)","v":0}]
["連続",null,null,null,null,null,null,null,null,null,null,null,null,null,null,null,null,null,null,null,null,null,null,null,null,null,null,null,null,null,null,null,{"$f":"SUM(B84:AF84)","v":0},"　連続",null,null,null,{"$f":"AG84","v":0},{"$f":"AL84*請求書・納品書!$M$14","v":0}]
[null,null,null,null,null,null,null,null,null,null,null,null,null,null,null,null,null,null,null,null,null,null,null,null,null,null,null,null,null,null,null,null,null,null,null,null,null,"合　計",{"$f":"SUM(AM81:AM84)","v":0}]
[null,null,null,null,null,null,null,null,null,null,null,null,null,null,null,null,null,null,null,null,null,null,null,null,null,null,null,null,null,null,null,null,null,{"$f":"A86","v":0},"日数(日)","勤務時間(h)"," 早退（h）","合計(h)","金額(円)"]
["残業",null,null,null,null,null,null,null,null,null,null,null,null,null,null,null,null,null,null,null,null,null,null,null,null,null,null,null,null,null,null,null,{"$f":"SUM(B87:AF87)","v":0},"　出勤",{"$f":"COUNTIF(B86:AF86,\"出\")","v":0},{"$f":"AI87*7.8","v":0},{"$f":"AG88","v":0},{"$f":"AJ87-AK87","v":0},{"$f":"ROUNDDOWN(AL87*請求書・納品書!$M$11,)","v":0}]
["遅・早(出)",null,null,null,null,null,null,null,null,null,null,null,null,null,null,null,null,null,null,null,null,null,null,null,null,null,null,null,null,null,null,null,{"$f":"SUM(B88:AF88)","v":0},"　残業",null,null,null,{"$f":"AG87","v":0},{"$f":"ROUNDDOWN(AL88*請求書・納品書!$M$12,)","v":0}]
["遅・早(公)",null,null,null,null,null,null,null,null,null,null,null,null,null,null,null,null,null,null,null,null,null,null,null,null,null,null,null,null,null,null,null,{"$f":"SUM(B89:AF89)","v":0},"　公出",{"$f":"COUNTIF(B86:AF86,\"公\")","v":0},{"$f":"AI89*7.8","v":0},{"$f":"AG89","v":0},{"$f":"AJ89-AK89","v":0},{"$f":"ROUNDDOWN(AL89*請求書・納品書!$M$13,)","v":0}]
["連続",null,null,null,null,null,null,null,null,null,null,null,null,null,null,null,null,null,null,null,null,null,null,null,null,null,null,null,null,null,null,null,{"$f":"SUM(B90:AF90)","v":0},"　連続",null,null,null,{"$f":"AG90","v":0},{"$f":"AL90*請求書・納品書!$M$14","v":0}]
[null,null,null,null,null,null,null,null,null,null,null,null,null,null,null,null,null,null,null,null,null,null,null,null,null,null,null,null,null,null,null,null,null,null,null,null,null,"合　計",{"$f":"SUM(AM87:AM90)","v":0}]
[null,null,null,null,null,null,null,null,null,null,null,null,null,null,null,null,null,null,null,null,null,null,null,null,null,null,null,null,null,null,null,null,null,{"$f":"A92","v":0},"日数(日)","勤務時間(h)"," 早退（h）","合計(h)","金額(円)"]
["残業",null,null,null,null,null,null,null,null,null,null,null,null,null,null,null,null,null,null,null,null,null,null,null,null,null,null,null,null,null,null,null,{"$f":"SUM(B93:AF93)","v":0},"　出勤",{"$f":"COUNTIF(B92:AF92,\"出\")","v":0},{"$f":"AI93*7.8","v":0},{"$f":"AG94","v":0},{"$f":"AJ93-AK93","v":0},{"$f":"ROUNDDOWN(AL93*請求書・納品書!$M$11,)","v":0}]
["遅・早(出)",null,null,null,null,null,null,null,null,null,null,null,null,null,null,null,null,null,null,null,null,null,null,null,null,null,null,null,null,null,null,null,{"$f":"SUM(B94:AF94)","v":0},"　残業",null,null,null,{"$f":"AG93","v":0},{"$f":"ROUNDDOWN(AL94*請求書・納品書!$M$12,)","v":0}]
["遅・早(公)",null,null,null,null,null,null,null,null,null,null,null,null,null,null,null,null,null,null,null,null,null,null,null,null,null,null,null,null,null,null,null,{"$f":"SUM(B95:AF95)","v":0},"　公出",{"$f":"COUNTIF(B92:AF92,\"公\")","v":0},{"$f":"AI95*7.8","v":0},{"$f":"AG95","v":0},{"$f":"AJ95-AK95","v":0},{"$f":"ROUNDDOWN(AL95*請求書・納品書!$M$13,)","v":0}]
["連続",null,null,null,null,null,null,null,null,null,null,null,null,null,null,null,null,null,null,null,null,null,null,null,null,null,null,null,null,null,null,null,{"$f":"SUM(B96:AF96)","v":0},"　連続",null,null,null,{"$f":"AG96","v":0},{"$f":"AL96*請求書・納品書!$M$14","v":0}]
[null,null,null,null,null,null,null,null,null,null,null,null,null,null,null,null,null,null,null,null,null,null,null,null,null,null,null,null,null,null,null,null,null,null,null,null,null,"合　計",{"$f":"SUM(AM93:AM96)","v":0},null,{"$f":"AM79+AM85+AM91+AM97","v":0}]
[null,null,null,null,null,null,null,null,null,null,null,null,null,null,null,null,null,null,null,null,null,null,null,null,null,null,null,null,null,null,null,null,null,{"$f":"A98","v":0},"日数(日)","勤務時間(h)"," 早退（h）","合計(h)","金額(円)"]
["残業",null,null,null,null,null,null,null,null,null,null,null,null,null,null,null,null,null,null,null,null,null,null,null,null,null,null,null,null,null,null,null,{"$f":"SUM(B99:AF99)","v":0},"　出勤",{"$f":"COUNTIF(B98:AF98,\"出\")","v":0},{"$f":"AI99*7.8","v":0},{"$f":"AG100","v":0},{"$f":"AJ99-AK99","v":0},{"$f":"ROUNDDOWN(AL99*請求書・納品書!$M$11,)","v":0}]
["遅・早(出)",null,null,null,null,null,null,null,null,null,null,null,null,null,null,null,null,null,null,null,null,null,null,null,null,null,null,null,null,null,null,null,{"$f":"SUM(B100:AF100)","v":0},"　残業",null,null,null,{"$f":"AG99","v":0},{"$f":"ROUNDDOWN(AL100*請求書・納品書!$M$12,)","v":0}]
["遅・早(公)",null,null,null,null,null,null,null,null,null,null,null,null,null,null,null,null,null,null,null,null,null,null,null,null,null,null,null,null,null,null,null,{"$f":"SUM(B101:AF101)","v":0},"　公出",{"$f":"COUNTIF(B98:AF98,\"公\")","v":0},{"$f":"AI101*7.8","v":0},{"$f":"AG101","v":0},{"$f":"AJ101-AK101","v":0},{"$f":"ROUNDDOWN(AL101*請求書・納品書!$M$13,)","v":0}]
["連続",null,null,null,null,null,null,null,null,null,null,null,null,null,null,null,null,null,null,null,null,null,null,null,null,null,null,null,null,null,null,null,{"$f":"SUM(B102:AF102)","v":0},"　連続",null,null,null,{"$f":"AG102","v":0},{"$f":"AL102*請求書・納品書!$M$14","v":0}]
[null,null,null,null,null,null,null,null,null,null,null,null,null,null,null,null,null,null,null,null,null,null,null,null,null,null,null,null,null,null,null,null,null,null,null,null,null,"合　計",{"$f":"SUM(AM99:AM102)","v":0}]
[null,null,null,null,null,null,null,null,null,null,null,null,null,null,null,null,null,null,null,null,null,null,null,null,null,null,null,null,null,null,null,null,null,{"$f":"A104","v":0},"日数(日)","勤務時間(h)"," 早退（h）","合計(h)","金額(円)"]
["残業",null,null,null,null,null,null,null,null,null,null,null,null,null,null,null,null,null,null,null,null,null,null,null,null,null,null,null,null,null,null,null,{"$f":"SUM(B105:AF105)","v":0},"　出勤",{"$f":"COUNTIF(B104:AF104,\"出\")","v":0},{"$f":"AI105*7.8","v":0},{"$f":"AG106","v":0},{"$f":"AJ105-AK105","v":0},{"$f":"ROUNDDOWN(AL105*請求書・納品書!$M$11,)","v":0}]
["遅・早(出)",null,null,null,null,null,null,null,null,null,null,null,null,null,null,null,null,null,null,null,null,null,null,null,null,null,null,null,null,null,null,null,{"$f":"SUM(B106:AF106)","v":0},"　残業",null,null,null,{"$f":"AG105","v":0},{"$f":"ROUNDDOWN(AL106*請求書・納品書!$M$12,)","v":0}]
["遅・早(公)",null,null,null,null,null,null,null,null,null,null,null,null,null,null,null,null,null,null,null,null,null,null,null,null,null,null,null,null,null,null,null,{"$f":"SUM(B107:AF107)","v":0},"　公出",{"$f":"COUNTIF(B104:AF104,\"公\")","v":0},{"$f":"AI107*7.8","v":0},{"$f":"AG107","v":0},{"$f":"AJ107-AK107","v":0},{"$f":"ROUNDDOWN(AL107*請求書・納品書!$M$13,)","v":0}]
["連続",null,null,null,null,null,null,null,null,null,null,null,null,null,null,null,null,null,null,null,null,null,null,null,null,null,null,null,null,null,null,null,{"$f":"SUM(B108:AF108)","v":0},"　連続",null,null,null,{"$f":"AG108","v":0},{"$f":"AL108*請求書・納品書!$M$14","v":0}]
[null,null,null,null,null,null,null,null,null,null,null,null,null,null,null,null,null,null,null,null,null,null,null,null,null,null,null,null,null,null,null,null,null,null,null,null,null,"合　計",{"$f":"SUM(AM105:AM108)","v":0}]
[null,null,null,null,null,null,null,null,null,null,null,null,null,null,null,null,null,null,null,null,null,null,null,null,null,null,null,null,null,null,null,null,null,{"$f":"A110","v":0},"日数(日)","勤務時間(h)"," 早退（h）","合計(h)","金額(円)"]
["残業",null,null,null,null,null,null,null,null,null,null,null,null,null,null,null,null,null,null,null,null,null,null,null,null,null,null,null,null,null,null,null,{"$f":"SUM(B111:AF111)","v":0},"　出勤",{"$f":"COUNTIF(B110:AF110,\"出\")","v":0},{"$f":"AI111*7.8","v":0},{"$f":"AG112","v":0},{"$f":"AJ111-AK111","v":0},{"$f":"ROUNDDOWN(AL111*請求書・納品書!$M$11,)","v":0}]
["遅・早(出)",null,null,null,null,null,null,null,null,null,null,null,null,null,null,null,null,null,null,null,null,null,null,null,null,null,null,null,null,null,null,null,{"$f":"SUM(B112:AF112)","v":0},"　残業",null,null,null,{"$f":"AG111","v":0},{"$f":"ROUNDDOWN(AL112*請求書・納品書!$M$12,)","v":0}]
["遅・早(公)",null,null,null,null,null,null,null,null,null,null,null,null,null,null,null,null,null,null,null,null,null,null,null,null,null,null,null,null,null,null,null,{"$f":"SUM(B113:AF113)","v":0},"　公出",{"$f":"COUNTIF(B110:AF110,\"公\")","v":0},{"$f":"AI113*7.8","v":0},{"$f":"AG113","v":0},{"$f":"AJ113-AK113","v":0},{"$f":"ROUNDDOWN(AL113*請求書・納品書!$M$13,)","v":0}]
["連続",null,null,null,null,null,null,null,null,null,null,null,null,null,null,null,null,null,null,null,null,null,null,null,null,null,null,null,null,null,null,null,{"$f":"SUM(B114:AF114)","v":0},"　連続",null,null,null,{"$f":"AG114","v":0},{"$f":"AL114*請求書・納品書!$M$14","v":0}]
[null,null,null,null,null,null,null,null,null,null,null,null,null,null,null,null,null,null,null,null,null,null,null,null,null,null,null,null,null,null,null,null,null,null,null,null,null,"合　計",{"$f":"SUM(AM111:AM114)","v":0}]
[null,null,null,null,null,null,null,null,null,null,null,null,null,null,null,null,null,null,null,null,null,null,null,null,null,null,null,null,null,null,null,null,null,{"$f":"A116","v":0},"日数(日)","勤務時間(h)"," 早退（h）","合計(h)","金額(円)"]
["残業",null,null,null,null,null,null,null,null,null,null,null,null,null,null,null,null,null,null,null,null,null,null,null,null,null,null,null,null,null,null,null,{"$f":"SUM(B117:AF117)","v":0},"　出勤",{"$f":"COUNTIF(B116:AF116,\"出\")","v":0},{"$f":"AI117*7.8","v":0},{"$f":"AG118","v":0},{"$f":"AJ117-AK117","v":0},{"$f":"ROUNDDOWN(AL117*請求書・納品書!$M$11,)","v":0}]
["遅・早(出)",null,null,null,null,null,null,null,null,null,null,null,null,null,null,null,null,null,null,null,null,null,null,null,null,null,null,null,null,null,null,null,{"$f":"SUM(B118:AF118)","v":0},"　残業",null,null,null,{"$f":"AG117","v":0},{"$f":"ROUNDDOWN(AL118*請求書・納品書!$M$12,)","v":0}]
["遅・早(公)",null,null,null,null,null,null,null,null,null,null,null,null,null,null,null,null,null,null,null,null,null,null,null,null,null,null,null,null,null,null,null,{"$f":"SUM(B119:AF119)","v":0},"　公出",{"$f":"COUNTIF(B116:AF116,\"公\")","v":0},{"$f":"AI119*7.8","v":0},{"$f":"AG119","v":0},{"$f":"AJ119-AK119","v":0},{"$f":"ROUNDDOWN(AL119*請求書・納品書!$M$13,)","v":0}]
["連続",null,null,null,null,null,null,null,null,null,null,null,null,null,null,null,null,null,null,null,null,null,null,null,null,null,null,null,null,null,null,null,{"$f":"SUM(B120:AF120)","v":0},"　連続",null,null,null,{"$f":"AG120","v":0},{"$f":"AL120*請求書・納品書!$M$14","v":0}]
[null,null,null,null,null,null,null,null,null,null,null,null,null,null,null,null,null,null,null,null,null,null,null,null,null,null,null,null,null,null,null,null,null,null,null,null,null,"合　計",{"$f":"SUM(AM117:AM120)","v":0},null,{"$f":"AM103+AM109+AM115+AM121","v":0}]
[null,null,null,null,null,null,null,null,null,null,null,null,null,null,null,null,null,null,null,null,null,null,null,null,null,null,null,null,null,null,null,null,null,{"$f":"A122","v":0},"日数(日)","勤務時間(h)"," 早退（h）","合計(h)","金額(円)"]
["残業",null,null,null,null,null,null,null,null,null,null,null,null,null,null,null,null,null,null,null,null,null,null,null,null,null,null,null,null,null,null,null,{"$f":"SUM(B123:AF123)","v":0},"　出勤",{"$f":"COUNTIF(B122:AF122,\"出\")","v":0},{"$f":"AI123*7.8","v":0},{"$f":"AG124","v":0},{"$f":"AJ123-AK123","v":0},{"$f":"ROUNDDOWN(AL123*請求書・納品書!$M$11,)","v":0}]
["遅・早(出)",null,null,null,null,null,null,null,null,null,null,null,null,null,null,null,null,null,null,null,null,null,null,null,null,null,null,null,null,null,null,null,{"$f":"SUM(B124:AF124)","v":0},"　残業",null,null,null,{"$f":"AG123","v":0},{"$f":"ROUNDDOWN(AL124*請求書・納品書!$M$12,)","v":0}]
["遅・早(公)",null,null,null,null,null,null,null,null,null,null,null,null,null,null,null,null,null,null,null,null,null,null,null,null,null,null,null,null,null,null,null,{"$f":"SUM(B125:AF125)","v":0},"　公出",{"$f":"COUNTIF(B122:AF122,\"公\")","v":0},{"$f":"AI125*7.8","v":0},{"$f":"AG125","v":0},{"$f":"AJ125-AK125","v":0},{"$f":"ROUNDDOWN(AL125*請求書・納品書!$M$13,)","v":0}]
["連続",null,null,null,null,null,null,null,null,null,null,null,null,null,null,null,null,null,null,null,null,null,null,null,null,null,null,null,null,null,null,null,{"$f":"SUM(B126:AF126)","v":0},"　連続",null,null,null,{"$f":"AG126","v":0},{"$f":"AL126*請求書・納品書!$M$14","v":0}]
[null,null,null,null,null,null,null,null,null,null,null,null,null,null,null,null,null,null,null,null,null,null,null,null,null,null,null,null,null,null,null,null,null,null,null,null,null,"合　計",{"$f":"SUM(AM123:AM126)","v":0}]
[null,null,null,null,null,null,null,null,null,null,null,null,null,null,null,null,null,null,null,null,null,null,null,null,null,null,null,null,null,null,null,null,null,{"$f":"A128","v":0},"日数(日)","勤務時間(h)"," 早退（h）","合計(h)","金額(円)"]
["残業",null,null,null,null,null,null,null,null,null,null,null,null,null,null,null,null,null,null,null,null,null,null,null,null,null,null,null,null,null,null,null,{"$f":"SUM(B129:AF129)","v":0},"　出勤",{"$f":"COUNTIF(B128:AF128,\"出\")","v":0},{"$f":"AI129*7.8","v":0},{"$f":"AG130","v":0},{"$f":"AJ129-AK129","v":0},{"$f":"ROUNDDOWN(AL129*請求書・納品書!$M$11,)","v":0}]
["遅・早(出)",null,null,null,null,null,null,null,null,null,null,null,null,null,null,null,null,null,null,null,null,null,null,null,null,null,null,null,null,null,null,null,{"$f":"SUM(B130:AF130)","v":0},"　残業",null,null,null,{"$f":"AG129","v":0},{"$f":"ROUNDDOWN(AL130*請求書・納品書!$M$12,)","v":0}]
["遅・早(公)",null,null,null,null,null,null,null,null,null,null,null,null,null,null,null,null,null,null,null,null,null,null,null,null,null,null,null,null,null,null,null,{"$f":"SUM(B131:AF131)","v":0},"　公出",{"$f":"COUNTIF(B128:AF128,\"公\")","v":0},{"$f":"AI131*7.8","v":0},{"$f":"AG131","v":0},{"$f":"AJ131-AK131","v":0},{"$f":"ROUNDDOWN(AL131*請求書・納品書!$M$13,)","v":0}]
["連続",null,null,null,null,null,null,null,null,null,null,null,null,null,null,null,null,null,null,null,null,null,null,null,null,null,null,null,null,null,null,null,{"$f":"SUM(B132:AF132)","v":0},"　連続",null,null,null,{"$f":"AG132","v":0},{"$f":"AL132*請求書・納品書!$M$14","v":0}]
[null,null,null,null,null,null,null,null,null,null,null,null,null,null,null,null,null,null,null,null,null,null,null,null,null,null,null,null,null,null,null,null,null,null,null,null,null,"合　計",{"$f":"SUM(AM129:AM132)","v":0}]
[null,null,null,null,null,null,null,null,null,null,null,null,null,null,null,null,null,null,null,null,null,null,null,null,null,null,null,null,null,null,null,null,null,{"$f":"A134","v":0},"日数(日)","勤務時間(h)"," 早退（h）","合計(h)","金額(円)"]
["残業",null,null,null,null,null,null,null,null,null,null,null,null,null,null,null,null,null,null,null,null,null,null,null,null,null,null,null,null,null,null,null,{"$f":"SUM(B135:AF135)","v":0},"　出勤",{"$f":"COUNTIF(B134:AF134,\"出\")","v":0},{"$f":"AI135*7.8","v":0},{"$f":"AG136","v":0},{"$f":"AJ135-AK135","v":0},{"$f":"ROUNDDOWN(AL135*請求書・納品書!$M$11,)","v":0}]
["遅・早(出)",null,null,null,null,null,null,null,null,null,null,null,null,null,null,null,null,null,null,null,null,null,null,null,null,null,null,null,null,null,null,null,{"$f":"SUM(B136:AF136)","v":0},"　残業",null,null,null,{"$f":"AG135","v":0},{"$f":"ROUNDDOWN(AL136*請求書・納品書!$M$12,)","v":0}]
["遅・早(公)",null,null,null,null,null,null,null,null,null,null,null,null,null,null,null,null,null,null,null,null,null,null,null,null,null,null,null,null,null,null,null,{"$f":"SUM(B137:AF137)","v":0},"　公出",{"$f":"COUNTIF(B134:AF134,\"公\")","v":0},{"$f":"AI137*7.8","v":0},{"$f":"AG137","v":0},{"$f":"AJ137-AK137","v":0},{"$f":"ROUNDDOWN(AL137*請求書・納品書!$M$13,)","v":0}]
["連続",null,null,null,null,null,null,null,null,null,null,null,null,null,null,null,null,null,null,null,null,null,null,null,null,null,null,null,null,null,null,null,{"$f":"SUM(B138:AF138)","v":0},"　連続",null,null,null,{"$f":"AG138","v":0},{"$f":"AL138*請求書・納品書!$M$14","v":0}]
[null,null,null,null,null,null,null,null,null,null,null,null,null,null,null,null,null,null,null,null,null,null,null,null,null,null,null,null,null,null,null,null,null,null,null,null,null,"合　計",{"$f":"SUM(AM135:AM138)","v":0}]
[null,null,null,null,null,null,null,null,null,null,null,null,null,null,null,null,null,null,null,null,null,null,null,null,null,null,null,null,null,null,null,null,null,{"$f":"A140","v":0},"日数(日)","勤務時間(h)"," 早退（h）","合計(h)","金額(円)"]
["残業",null,null,null,null,null,null,null,null,null,null,null,null,null,null,null,null,null,null,null,null,null,null,null,null,null,null,null,null,null,null,null,{"$f":"SUM(B141:AF141)","v":0},"　出勤",{"$f":"COUNTIF(B140:AF140,\"出\")","v":0},{"$f":"AI141*7.8","v":0},{"$f":"AG142","v":0},{"$f":"AJ141-AK141","v":0},{"$f":"ROUNDDOWN(AL141*請求書・納品書!$M$11,)","v":0}]
["遅・早(出)",null,null,null,null,null,null,null,null,null,null,null,null,null,null,null,null,null,null,null,null,null,null,null,null,null,null,null,null,null,null,null,{"$f":"SUM(B142:AF142)","v":0},"　残業",null,null,null,{"$f":"AG141","v":0},{"$f":"ROUNDDOWN(AL142*請求書・納品書!$M$12,)","v":0}]
["遅・早(公)",null,null,null,null,null,null,null,null,null,null,null,null,null,null,null,null,null,null,null,null,null,null,null,null,null,null,null,null,null,null,null,{"$f":"SUM(B143:AF143)","v":0},"　公出",{"$f":"COUNTIF(B140:AF140,\"公\")","v":0},{"$f":"AI143*7.8","v":0},{"$f":"AG143","v":0},{"$f":"AJ143-AK143","v":0},{"$f":"ROUNDDOWN(AL143*請求書・納品書!$M$13,)","v":0}]
["連続",null,null,null,null,null,null,null,null,null,null,null,null,null,null,null,null,null,null,null,null,null,null,null,null,null,null,null,null,null,null,null,{"$f":"SUM(B144:AF144)","v":0},"　連続",null,null,null,{"$f":"AG144","v":0},{"$f":"AL144*請求書・納品書!$M$14","v":0}]
[null,null,null,null,null,null,null,null,null,null,null,null,null,null,null,null,null,null,null,null,null,null,null,null,null,null,null,null,null,null,null,null,null,null,null,null,null,"合　計",{"$f":"SUM(AM141:AM144)","v":0},null,{"$f":"AM127+AM133+AM139+AM145","v":0}]
[null,null,null,null,null,null,null,null,null,null,null,null,null,null,null,null,null,null,null,null,null,null,null,null,null,null,null,null,null,null,null,null,null,{"$f":"A146","v":0},"日数(日)","勤務時間(h)"," 早退（h）","合計(h)","金額(円)"]
["残業",null,null,null,null,null,null,null,null,null,null,null,null,null,null,null,null,null,null,null,null,null,null,null,null,null,null,null,null,null,null,null,{"$f":"SUM(B147:AF147)","v":0},"　出勤",{"$f":"COUNTIF(B146:AF146,\"出\")","v":0},{"$f":"AI147*7.8","v":0},{"$f":"AG148","v":0},{"$f":"AJ147-AK147","v":0},{"$f":"ROUNDDOWN(AL147*請求書・納品書!$M$11,)","v":0}]
["遅・早(出)",null,null,null,null,null,null,null,null,null,null,null,null,null,null,null,null,null,null,null,null,null,null,null,null,null,null,null,null,null,null,null,{"$f":"SUM(B148:AF148)","v":0},"　残業",null,null,null,{"$f":"AG147","v":0},{"$f":"ROUNDDOWN(AL148*請求書・納品書!$M$12,)","v":0}]
["遅・早(公)",null,null,null,null,null,null,null,null,null,null,null,null,null,null,null,null,null,null,null,null,null,null,null,null,null,null,null,null,null,null,null,{"$f":"SUM(B149:AF149)","v":0},"　公出",{"$f":"COUNTIF(B146:AF146,\"公\")","v":0},{"$f":"AI149*7.8","v":0},{"$f":"AG149","v":0},{"$f":"AJ149-AK149","v":0},{"$f":"ROUNDDOWN(AL149*請求書・納品書!$M$13,)","v":0}]
["連続",null,null,null,null,null,null,null,null,null,null,null,null,null,null,null,null,null,null,null,null,null,null,null,null,null,null,null,null,null,null,null,{"$f":"SUM(B150:AF150)","v":0},"　連続",null,null,null,{"$f":"AG150","v":0},{"$f":"AL150*請求書・納品書!$M$14","v":0}]
[null,null,null,null,null,null,null,null,null,null,null,null,null,null,null,null,null,null,null,null,null,null,null,null,null,null,null,null,null,null,null,null,null,null,null,null,null,"合　計",{"$f":"SUM(AM147:AM150)","v":0}]
[null,null,null,null,null,null,null,null,null,null,null,null,null,null,null,null,null,null,null,null,null,null,null,null,null,null,null,null,null,null,null,null,null,{"$f":"A152","v":0},"日数(日)","勤務時間(h)"," 早退（h）","合計(h)","金額(円)"]
["残業",null,null,null,null,null,null,null,null,null,null,null,null,null,null,null,null,null,null,null,null,null,null,null,null,null,null,null,null,null,null,null,{"$f":"SUM(B153:AF153)","v":0},"　出勤",{"$f":"COUNTIF(B152:AF152,\"出\")","v":0},{"$f":"AI153*7.8","v":0},{"$f":"AG154","v":0},{"$f":"AJ153-AK153","v":0},{"$f":"ROUNDDOWN(AL153*請求書・納品書!$M$11,)","v":0}]
["遅・早(出)",null,null,null,null,null,null,null,null,null,null,null,null,null,null,null,null,null,null,null,null,null,null,null,null,null,null,null,null,null,null,null,{"$f":"SUM(B154:AF154)","v":0},"　残業",null,null,null,{"$f":"AG153","v":0},{"$f":"ROUNDDOWN(AL154*請求書・納品書!$M$12,)","v":0}]
["遅・早(公)",null,null,null,null,null,null,null,null,null,null,null,null,null,null,null,null,null,null,null,null,null,null,null,null,null,null,null,null,null,null,null,{"$f":"SUM(B155:AF155)","v":0},"　公出",{"$f":"COUNTIF(B152:AF152,\"公\")","v":0},{"$f":"AI155*7.8","v":0},{"$f":"AG155","v":0},{"$f":"AJ155-AK155","v":0},{"$f":"ROUNDDOWN(AL155*請求書・納品書!$M$13,)","v":0}]
["連続",null,null,null,null,null,null,null,null,null,null,null,null,null,null,null,null,null,null,null,null,null,null,null,null,null,null,null,null,null,null,null,{"$f":"SUM(B156:AF156)","v":0},"　連続",null,null,null,{"$f":"AG156","v":0},{"$f":"AL156*請求書・納品書!$M$14","v":0}]
[null,null,null,null,null,null,null,null,null,null,null,null,null,null,null,null,null,null,null,null,null,null,null,null,null,null,null,null,null,null,null,null,null,null,null,null,null,"合　計",{"$f":"SUM(AM153:AM156)","v":0}]
[null,null,null,null,null,null,null,null,null,null,null,null,null,null,null,null,null,null,null,null,null,null,null,null,null,null,null,null,null,null,null,null,null,{"$f":"A158","v":0},"日数(日)","勤務時間(h)"," 早退（h）","合計(h)","金額(円)"]
["残業",null,null,null,null,null,null,null,null,null,null,null,null,null,null,null,null,null,null,null,null,null,null,null,null,null,null,null,null,null,null,null,{"$f":"SUM(B159:AF159)","v":0},"　出勤",{"$f":"COUNTIF(B158:AF158,\"出\")","v":0},{"$f":"AI159*7.8","v":0},{"$f":"AG160","v":0},{"$f":"AJ159-AK159","v":0},{"$f":"ROUNDDOWN(AL159*請求書・納品書!$M$11,)","v":0}]
["遅・早(出)",null,null,null,null,null,null,null,null,null,null,null,null,null,null,null,null,null,null,null,null,null,null,null,null,null,null,null,null,null,null,null,{"$f":"SUM(B160:AF160)","v":0},"　残業",null,null,null,{"$f":"AG159","v":0},{"$f":"ROUNDDOWN(AL160*請求書・納品書!$M$12,)","v":0}]
["遅・早(公)",null,null,null,null,null,null,null,null,null,null,null,null,null,null,null,null,null,null,null,null,null,null,null,null,null,null,null,null,null,null,null,{"$f":"SUM(B161:AF161)","v":0},"　公出",{"$f":"COUNTIF(B158:AF158,\"公\")","v":0},{"$f":"AI161*7.8","v":0},{"$f":"AG161","v":0},{"$f":"AJ161-AK161","v":0},{"$f":"ROUNDDOWN(AL161*請求書・納品書!$M$13,)","v":0}]
["連続",null,null,null,null,null,null,null,null,null,null,null,null,null,null,null,null,null,null,null,null,null,null,null,null,null,null,null,null,null,null,null,{"$f":"SUM(B162:AF162)","v":0},"　連続",null,null,null,{"$f":"AG162","v":0},{"$f":"AL162*請求書・納品書!$M$14","v":0}]
[null,null,null,null,null,null,null,null,null,null,null,null,null,null,null,null,null,null,null,null,null,null,null,null,null,null,null,null,null,null,null,null,null,null,null,null,null,"合　計",{"$f":"SUM(AM159:AM162)","v":0}]
[null,null,null,null,null,null,null,null,null,null,null,null,null,null,null,null,null,null,null,null,null,null,null,null,null,null,null,null,null,null,null,null,null,{"$f":"A164","v":0},"日数(日)","勤務時間(h)"," 早退（h）","合計(h)","金額(円)"]
["残業",null,null,null,null,null,null,null,null,null,null,null,null,null,null,null,null,null,null,null,null,null,null,null,null,null,null,null,null,null,null,null,{"$f":"SUM(B165:AF165)","v":0},"　出勤",{"$f":"COUNTIF(B164:AF164,\"出\")","v":0},{"$f":"AI165*7.8","v":0},{"$f":"AG166","v":0},{"$f":"AJ165-AK165","v":0},{"$f":"ROUNDDOWN(AL165*請求書・納品書!$M$11,)","v":0}]
["遅・早(出)",null,null,null,null,null,null,null,null,null,null,null,null,null,null,null,null,null,null,null,null,null,null,null,null,null,null,null,null,null,null,null,{"$f":"SUM(B166:AF166)","v":0},"　残業",null,null,null,{"$f":"AG165","v":0},{"$f":"ROUNDDOWN(AL166*請求書・納品書!$M$12,)","v":0}]
["遅・早(公)",null,null,null,null,null,null,null,null,null,null,null,null,null,null,null,null,null,null,null,null,null,null,null,null,null,null,null,null,null,null,null,{"$f":"SUM(B167:AF167)","v":0},"　公出",{"$f":"COUNTIF(B164:AF164,\"公\")","v":0},{"$f":"AI167*7.8","v":0},{"$f":"AG167","v":0},{"$f":"AJ167-AK167","v":0},{"$f":"ROUNDDOWN(AL167*請求書・納品書!$M$13,)","v":0}]
["連続",null,null,null,null,null,null,null,null,null,null,null,null,null,null,null,null,null,null,null,null,null,null,null,null,null,null,null,null,null,null,null,{"$f":"SUM(B168:AF168)","v":0},"　連続",null,null,null,{"$f":"AG168","v":0},{"$f":"AL168*請求書・納品書!$M$14","v":0}]
[null,null,null,null,null,null,null,null,null,null,null,null,null,null,null,null,null,null,null,null,null,null,null,null,null,null,null,null,null,null,null,null,null,null,null,null,null,"合　計",{"$f":"SUM(AM165:AM168)","v":0},null,{"$f":"AM151+AM157+AM163+AM169","v":0}]
[null,null,null,null,null,null,null,null,null,null,null,null,null,null,null,null,null,null,null,null,null,null,null,null,null,null,null,null,null,null,null,null,null,{"$f":"A170","v":0},"日数(日)","勤務時間(h)"," 早退（h）","合計(h)","金額(円)"]
["残業",null,null,null,null,null,null,null,null,null,null,null,null,null,null,null,null,null,null,null,null,null,null,null,null,null,null,null,null,null,null,null,{"$f":"SUM(B171:AF171)","v":0},"　出勤",{"$f":"COUNTIF(B170:AF170,\"出\")","v":0},{"$f":"AI171*7.8","v":0},{"$f":"AG172","v":0},{"$f":"AJ171-AK171","v":0},{"$f":"ROUNDDOWN(AL171*請求書・納品書!$M$11,)","v":0}]
["遅・早(出)",null,null,null,null,null,null,null,null,null,null,null,null,null,null,null,null,null,null,null,null,null,null,null,null,null,null,null,null,null,null,null,{"$f":"SUM(B172:AF172)","v":0},"　残業",null,null,null,{"$f":"AG171","v":0},{"$f":"ROUNDDOWN(AL172*請求書・納品書!$M$12,)","v":0}]
["遅・早(公)",null,null,null,null,null,null,null,null,null,null,null,null,null,null,null,null,null,null,null,null,null,null,null,null,null,null,null,null,null,null,null,{"$f":"SUM(B173:AF173)","v":0},"　公出",{"$f":"COUNTIF(B170:AF170,\"公\")","v":0},{"$f":"AI173*7.8","v":0},{"$f":"AG173","v":0},{"$f":"AJ173-AK173","v":0},{"$f":"ROUNDDOWN(AL173*請求書・納品書!$M$13,)","v":0}]
["連続",null,null,null,null,null,null,null,null,null,null,null,null,null,null,null,null,null,null,null,null,null,null,null,null,null,null,null,null,null,null,null,{"$f":"SUM(B174:AF174)","v":0},"　連続",null,null,null,{"$f":"AG174","v":0},{"$f":"AL174*請求書・納品書!$M$14","v":0}]
[null,null,null,null,null,null,null,null,null,null,null,null,null,null,null,null,null,null,null,null,null,null,null,null,null,null,null,null,null,null,null,null,null,null,null,null,null,"合　計",{"$f":"SUM(AM171:AM174)","v":0}]
[null,null,null,null,null,null,null,null,null,null,null,null,null,null,null,null,null,null,null,null,null,null,null,null,null,null,null,null,null,null,null,null,null,{"$f":"A176","v":0},"日数(日)","勤務時間(h)"," 早退（h）","合計(h)","金額(円)"]
["残業",null,null,null,null,null,null,null,null,null,null,null,null,null,null,null,null,null,null,null,null,null,null,null,null,null,null,null,null,null,null,null,{"$f":"SUM(B177:AF177)","v":0},"　出勤",{"$f":"COUNTIF(B176:AF176,\"出\")","v":0},{"$f":"AI177*7.8","v":0},{"$f":"AG178","v":0},{"$f":"AJ177-AK177","v":0},{"$f":"ROUNDDOWN(AL177*請求書・納品書!$M$11,)","v":0}]
["遅・早(出)",null,null,null,null,null,null,null,null,null,null,null,null,null,null,null,null,null,null,null,null,null,null,null,null,null,null,null,null,null,null,null,{"$f":"SUM(B178:AF178)","v":0},"　残業",null,null,null,{"$f":"AG177","v":0},{"$f":"ROUNDDOWN(AL178*請求書・納品書!$M$12,)","v":0}]
["遅・早(公)",null,null,null,null,null,null,null,null,null,null,null,null,null,null,null,null,null,null,null,null,null,null,null,null,null,null,null,null,null,null,null,{"$f":"SUM(B179:AF179)","v":0},"　公出",{"$f":"COUNTIF(B176:AF176,\"公\")","v":0},{"$f":"AI179*7.8","v":0},{"$f":"AG179","v":0},{"$f":"AJ179-AK179","v":0},{"$f":"ROUNDDOWN(AL179*請求書・納品書!$M$13,)","v":0}]
["連続",null,null,null,null,null,null,null,null,null,null,null,null,null,null,null,null,null,null,null,null,null,null,null,null,null,null,null,null,null,null,null,{"$f":"SUM(B180:AF180)","v":0},"　連続",null,null,null,{"$f":"AG180","v":0},{"$f":"AL180*請求書・納品書!$M$14","v":0}]
[null,null,null,null,null,null,null,null,null,null,null,null,null,null,null,null,null,null,null,null,null,null,null,null,null,null,null,null,null,null,null,null,null,null,null,null,null,"合　計",{"$f":"SUM(AM177:AM180)","v":0}]
[null,null,null,null,null,null,null,null,null,null,null,null,null,null,null,null,null,null,null,null,null,null,null,null,null,null,null,null,null,null,null,null,null,{"$f":"A182","v":0},"日数(日)","勤務時間(h)"," 早退（h）","合計(h)","金額(円)"]
["残業",null,null,null,null,null,null,null,null,null,null,null,null,null,null,null,null,null,null,null,null,null,null,null,null,null,null,null,null,null,null,null,{"$f":"SUM(B183:AF183)","v":0},"　出勤",{"$f":"COUNTIF(B182:AF182,\"出\")","v":0},{"$f":"AI183*7.8","v":0},{"$f":"AG184","v":0},{"$f":"AJ183-AK183","v":0},{"$f":"ROUNDDOWN(AL183*請求書・納品書!$M$11,)","v":0}]
["遅・早(出)",null,null,null,null,null,null,null,null,null,null,null,null,null,null,null,null,null,null,null,null,null,null,null,null,null,null,null,null,null,null,null,{"$f":"SUM(B184:AF184)","v":0},"　残業",null,null,null,{"$f":"AG183","v":0},{"$f":"ROUNDDOWN(AL184*請求書・納品書!$M$12,)","v":0}]
["遅・早(公)",null,null,null,null,null,null,null,null,null,null,null,null,null,null,null,null,null,null,null,null,null,null,null,null,null,null,null,null,null,null,null,{"$f":"SUM(B185:AF185)","v":0},"　公出",{"$f":"COUNTIF(B182:AF182,\"公\")","v":0},{"$f":"AI185*7.8","v":0},{"$f":"AG185","v":0},{"$f":"AJ185-AK185","v":0},{"$f":"ROUNDDOWN(AL185*請求書・納品書!$M$13,)","v":0}]
["連続",null,null,null,null,null,null,null,null,null,null,null,null,null,null,null,null,null,null,null,null,null,null,null,null,null,null,null,null,null,null,null,{"$f":"SUM(B186:AF186)","v":0},"　連続",null,null,null,{"$f":"AG186","v":0},{"$f":"AL186*請求書・納品書!$M$14","v":0}]
[null,null,null,null,null,null,null,null,null,null,null,null,null,null,null,null,null,null,null,null,null,null,null,null,null,null,null,null,null,null,null,null,null,null,null,null,null,"合　計",{"$f":"SUM(AM183:AM186)","v":0}]
[null,null,null,null,null,null,null,null,null,null,null,null,null,null,null,null,null,null,null,null,null,null,null,null,null,null,null,null,null,null,null,null,null,{"$f":"A188","v":0},"日数(日)","勤務時間(h)"," 早退（h）","合計(h)","金額(円)"]
["残業",null,null,null,null,null,null,null,null,null,null,null,null,null,null,null,null,null,null,null,null,null,null,null,null,null,null,null,null,null,null,null,{"$f":"SUM(B189:AF189)","v":0},"　出勤",{"$f":"COUNTIF(B188:AF188,\"出\")","v":0},{"$f":"AI189*7.8","v":0},{"$f":"AG190","v":0},{"$f":"AJ189-AK189","v":0},{"$f":"ROUNDDOWN(AL189*請求書・納品書!$M$11,)","v":0}]
["遅・早(出)",null,null,null,null,null,null,null,null,null,null,null,null,null,null,null,null,null,null,null,null,null,null,null,null,null,null,null,null,null,null,null,{"$f":"SUM(B190:AF190)","v":0},"　残業",null,null,null,{"$f":"AG189","v":0},{"$f":"ROUNDDOWN(AL190*請求書・納品書!$M$12,)","v":0}]
["遅・早(公)",null,null,null,null,null,null,null,null,null,null,null,null,null,null,null,null,null,null,null,null,null,null,null,null,null,null,null,null,null,null,null,{"$f":"SUM(B191:AF191)","v":0},"　公出",{"$f":"COUNTIF(B188:AF188,\"公\")","v":0},{"$f":"AI191*7.8","v":0},{"$f":"AG191","v":0},{"$f":"AJ191-AK191","v":0},{"$f":"ROUNDDOWN(AL191*請求書・納品書!$M$13,)","v":0}]
["連続",null,null,null,null,null,null,null,null,null,null,null,null,null,null,null,null,null,null,null,null,null,null,null,null,null,null,null,null,null,null,null,{"$f":"SUM(B192:AF192)","v":0},"　連続",null,null,null,{"$f":"AG192","v":0},{"$f":"AL192*請求書・納品書!$M$14","v":0}]
[null,null,null,null,null,null,null,null,null,null,null,null,null,null,null,null,null,null,null,null,null,null,null,null,null,null,null,null,null,null,null,null,null,null,null,null,null,"合　計",{"$f":"SUM(AM189:AM192)","v":0},null,{"$f":"AM175+AM181+AM187+AM193","v":0}]

{"sheet":"8","index":4,"n_rows":193,"n_cols":42,"rows_kept":193,"cut":false,"hidden":false,"merged":[]}
[{"$f":"'4'!A1","v":2010},1,2,3,4,5,6,7,8,9,10,11,12,13,14,15,16,17,18,19,20,21,22,23,24,25,26,27,28,29,30,31,"計",{"$f":"A1&\"年\"&MID(CELL(\"filename\",$A$1),FIND(\"]\",CELL(\"filename\",$A$1))+1,31) &\"月\"","v":"2010年8月"}]
[null,null,null,null,null,null,null,null,null,null,null,null,null,null,null,null,null,null,null,null,null,null,null,null,null,null,null,null,null,null,null,null,null,{"$f":"A2","v":0},"日数(日)","勤務時間(h)"," 早退（h）","合計(h)","金額(円)","出","　合計",{"$f":"SUM(AM:AM)/2","v":0}]
["残業",null,null,null,null,null,null,null,null,null,null,null,null,null,null,null,null,null,null,null,null,null,null,null,null,null,null,null,null,null,null,null,{"$f":"SUM(B3:AF3)","v":0},"　出勤",{"$f":"COUNTIF(B2:AF2,\"出\")","v":0},{"$f":"AI3*7.8","v":0},{"$f":"AG4","v":0},{"$f":"AJ3-AK3","v":0},{"$f":"ROUNDDOWN(AL3*請求書・納品書!$M$11,)","v":0},"公","　人数",{"$f":"COUNTA(AH:AH)-COUNTIF(AH:AH,0)-32*4-1","v":0}]
["遅・早(出)",null,null,null,null,null,null,null,null,null,null,null,null,null,null,null,null,null,null,null,null,null,null,null,null,null,null,null,null,null,null,null,{"$f":"SUM(B4:AF4)","v":0},"　残業",null,null,null,{"$f":"AG3","v":0},{"$f":"ROUNDDOWN(AL4*請求書・納品書!$M$12,)","v":0},"欠","　管理費",{"$f":"(AP3-AP9)*19400","v":0}]
["遅・早(公)",null,null,null,null,null,null,null,null,null,null,null,null,null,null,null,null,null,null,null,null,null,null,null,null,null,null,null,null,null,null,null,{"$f":"SUM(B5:AF5)","v":0},"　公出",{"$f":"COUNTIF(B2:AF2,\"公\")","v":0},{"$f":"AI5*7.8","v":0},{"$f":"AG5","v":0},{"$f":"AJ5-AK5","v":0},{"$f":"ROUNDDOWN(AL5*請求書・納品書!$M$13,)","v":0},"有","　小計",{"$f":"AP2+AP4","v":0}]
["連続",null,null,null,null,null,null,null,null,null,null,null,null,null,null,null,null,null,null,null,null,null,null,null,null,null,null,null,null,null,null,null,{"$f":"SUM(B6:AF6)","v":0},"　連続",null,null,null,{"$f":"AG6","v":0},{"$f":"AL6*請求書・納品書!$M$14","v":0},"半","　消費税",{"$f":"ROUNDDOWN(AP5*0.05,)","v":0}]
[null,null,null,null,null,null,null,null,null,null,null,null,null,null,null,null,null,null,null,null,null,null,null,null,null,null,null,null,null,null,null,null,null,null,null,null,null,"合　計",{"$f":"SUM(AM3:AM6)","v":0},null,"　総合計",{"$f":"AP5+AP6","v":0}]
[null,null,null,null,null,null,null,null,null,null,null,null,null,null,null,null,null,null,null,null,null,null,null,null,null,null,null,null,null,null,null,null,null,{"$f":"A8","v":0},"日数(日)","勤務時間(h)"," 早退（h）","合計(h)","金額(円)"]
["残業",null,null,null,null,null,null,null,null,null,null,null,null,null,null,null,null,null,null,null,null,null,null,null,null,null,null,null,null,null,null,null,{"$f":"SUM(B9:AF9)","v":0},"　出勤",{"$f":"COUNTIF(B8:AF8,\"出\")","v":0},{"$f":"AI9*7.8","v":0},{"$f":"AG10","v":0},{"$f":"AJ9-AK9","v":0},{"$f":"ROUNDDOWN(AL9*請求書・納品書!$M$11,)","v":0},null,"管理費に入れない人数"]
["遅・早(出)",null,null,null,null,null,null,null,null,null,null,null,null,null,null,null,null,null,null,null,null,null,null,null,null,null,null,null,null,null,null,null,{"$f":"SUM(B10:AF10)","v":0},"　残業",null,null,null,{"$f":"AG9","v":0},{"$f":"ROUNDDOWN(AL10*請求書・納品書!$M$12,)","v":0}]
["遅・早(公)",null,null,null,null,null,null,null,null,null,null,null,null,null,null,null,null,null,null,null,null,null,null,null,null,null,null,null,null,null,null,null,{"$f":"SUM(B11:AF11)","v":0},"　公出",{"$f":"COUNTIF(B8:AF8,\"公\")","v":0},{"$f":"AI11*7.8","v":0},{"$f":"AG11","v":0},{"$f":"AJ11-AK11","v":0},{"$f":"ROUNDDOWN(AL11*請求書・納品書!$M$13,)","v":0}]
["連続",null,null,null,null,null,null,null,null,null,null,null,null,null,null,null,null,null,null,null,null,null,null,null,null,null,null,null,null,null,null,null,{"$f":"SUM(B12:AF12)","v":0},"　連続",null,null,null,{"$f":"AG12","v":0},{"$f":"AL12*請求書・納品書!$M$14","v":0}]
[null,null,null,null,null,null,null,null,null,null,null,null,null,null,null,null,null,null,null,null,null,null,null,null,null,null,null,null,null,null,null,null,null,null,null,null,null,"合　計",{"$f":"SUM(AM9:AM12)","v":0}]
[null,null,null,null,null,null,null,null,null,null,null,null,null,null,null,null,null,null,null,null,null,null,null,null,null,null,null,null,null,null,null,null,null,{"$f":"A14","v":0},"日数(日)","勤務時間(h)"," 早退（h）","合計(h)","金額(円)"]
["残業",null,null,null,null,null,null,null,null,null,null,null,null,null,null,null,null,null,null,null,null,null,null,null,null,null,null,null,null,null,null,null,{"$f":"SUM(B15:AF15)","v":0},"　出勤",{"$f":"COUNTIF(B14:AF14,\"出\")","v":0},{"$f":"AI15*7.8","v":0},{"$f":"AG16","v":0},{"$f":"AJ15-AK15","v":0},{"$f":"ROUNDDOWN(AL15*請求書・納品書!$M$11,)","v":0}]
["遅・早(出)",null,null,null,null,null,null,null,null,null,null,null,null,null,null,null,null,null,null,null,null,null,null,null,null,null,null,null,null,null,null,null,{"$f":"SUM(B16:AF16)","v":0},"　残業",null,null,null,{"$f":"AG15","v":0},{"$f":"ROUNDDOWN(AL16*請求書・納品書!$M$12,)","v":0}]
["遅・早(公)",null,null,null,null,null,null,null,null,null,null,null,null,null,null,null,null,null,null,null,null,null,null,null,null,null,null,null,null,null,null,null,{"$f":"SUM(B17:AF17)","v":0},"　公出",{"$f":"COUNTIF(B14:AF14,\"公\")","v":0},{"$f":"AI17*7.8","v":0},{"$f":"AG17","v":0},{"$f":"AJ17-AK17","v":0},{"$f":"ROUNDDOWN(AL17*請求書・納品書!$M$13,)","v":0}]
["連続",null,null,null,null,null,null,null,null,null,null,null,null,null,null,null,null,null,null,null,null,null,null,null,null,null,null,null,null,null,null,null,{"$f":"SUM(B18:AF18)","v":0},"　連続",null,null,null,{"$f":"AG18","v":0},{"$f":"AL18*請求書・納品書!$M$14","v":0}]
[null,null,null,null,null,null,null,null,null,null,null,null,null,null,null,null,null,null,null,null,null,null,null,null,null,null,null,null,null,null,null,null,null,null,null,null,null,"合　計",{"$f":"SUM(AM15:AM18)","v":0}]
[null,null,null,null,null,null,null,null,null,null,null,null,null,null,null,null,null,null,null,null,null,null,null,null,null,null,null,null,null,null,null,null,null,{"$f":"A20","v":0},"日数(日)","勤務時間(h)"," 早退（h）","合計(h)","金額(円)"]
["残業",null,null,null,null,null,null,null,null,null,null,null,null,null,null,null,null,null,null,null,null,null,null,null,null,null,null,null,null,null,null,null,{"$f":"SUM(B21:AF21)","v":0},"　出勤",{"$f":"COUNTIF(B20:AF20,\"出\")","v":0},{"$f":"AI21*7.8","v":0},{"$f":"AG22","v":0},{"$f":"AJ21-AK21","v":0},{"$f":"ROUNDDOWN(AL21*請求書・納品書!$M$11,)","v":0}]
["遅・早(出)",null,null,null,null,null,null,null,null,null,null,null,null,null,null,null,null,null,null,null,null,null,null,null,null,null,null,null,null,null,null,null,{"$f":"SUM(B22:AF22)","v":0},"　残業",null,null,null,{"$f":"AG21","v":0},{"$f":"ROUNDDOWN(AL22*請求書・納品書!$M$12,)","v":0}]
["遅・早(公)",null,null,null,null,null,null,null,null,null,null,null,null,null,null,null,null,null,null,null,null,null,null,null,null,null,null,null,null,null,null,null,{"$f":"SUM(B23:AF23)","v":0},"　公出",{"$f":"COUNTIF(B20:AF20,\"公\")","v":0},{"$f":"AI23*7.8","v":0},{"$f":"AG23","v":0},{"$f":"AJ23-AK23","v":0},{"$f":"ROUNDDOWN(AL23*請求書・納品書!$M$13,)","v":0}]
["連続",null,null,null,null,null,null,null,null,null,null,null,null,null,null,null,null,null,null,null,null,null,null,null,null,null,null,null,null,null,null,null,{"$f":"SUM(B24:AF24)","v":0},"　連続",null,null,null,{"$f":"AG24","v":0},{"$f":"AL24*請求書・納品書!$M$14","v":0}]
[null,null,null,null,null,null,null,null,null,null,null,null,null,null,null,null,null,null,null,null,null,null,null,null,null,null,null,null,null,null,null,null,null,null,null,null,null,"合　計",{"$f":"SUM(AM21:AM24)","v":0},null,{"$f":"AM7+AM13+AM19+AM25","v":0}]
[null,null,null,null,null,null,null,null,null,null,null,null,null,null,null,null,null,null,null,null,null,null,null,null,null,null,null,null,null,null,null,null,null,{"$f":"A26","v":0},"日数(日)","勤務時間(h)"," 早退（h）","合計(h)","金額(円)"]
["残業",null,null,null,null,null,null,null,null,null,null,null,null,null,null,null,null,null,null,null,null,null,null,null,null,null,null,null,null,null,null,null,{"$f":"SUM(B27:AF27)","v":0},"　出勤",{"$f":"COUNTIF(B26:AF26,\"出\")","v":0},{"$f":"AI27*7.8","v":0},{"$f":"AG28","v":0},{"$f":"AJ27-AK27","v":0},{"$f":"ROUNDDOWN(AL27*請求書・納品書!$M$11,)","v":0}]
["遅・早(出)",null,null,null,null,null,null,null,null,null,null,null,null,null,null,null,null,null,null,null,null,null,null,null,null,null,null,null,null,null,null,null,{"$f":"SUM(B28:AF28)","v":0},"　残業",null,null,null,{"$f":"AG27","v":0},{"$f":"ROUNDDOWN(AL28*請求書・納品書!$M$12,)","v":0}]
["遅・早(公)",null,null,null,null,null,null,null,null,null,null,null,null,null,null,null,null,null,null,null,null,null,null,null,null,null,null,null,null,null,null,null,{"$f":"SUM(B29:AF29)","v":0},"　公出",{"$f":"COUNTIF(B26:AF26,\"公\")","v":0},{"$f":"AI29*7.8","v":0},{"$f":"AG29","v":0},{"$f":"AJ29-AK29","v":0},{"$f":"ROUNDDOWN(AL29*請求書・納品書!$M$13,)","v":0}]
["連続",null,null,null,null,null,null,null,null,null,null,null,null,null,null,null,null,null,null,null,null,null,null,null,null,null,null,null,null,null,null,null,{"$f":"SUM(B30:AF30)","v":0},"　連続",null,null,null,{"$f":"AG30","v":0},{"$f":"AL30*請求書・納品書!$M$14","v":0}]
[null,null,null,null,null,null,null,null,null,null,null,null,null,null,null,null,null,null,null,null,null,null,null,null,null,null,null,null,null,null,null,null,null,null,null,null,null,"合　計",{"$f":"SUM(AM27:AM30)","v":0}]
[null,null,null,null,null,null,null,null,null,null,null,null,null,null,null,null,null,null,null,null,null,null,null,null,null,null,null,null,null,null,null,null,null,{"$f":"A32","v":0},"日数(日)","勤務時間(h)"," 早退（h）","合計(h)","金額(円)"]
["残業",null,null,null,null,null,null,null,null,null,null,null,null,null,null,null,null,null,null,null,null,null,null,null,null,null,null,null,null,null,null,null,{"$f":"SUM(B33:AF33)","v":0},"　出勤",{"$f":"COUNTIF(B32:AF32,\"出\")","v":0},{"$f":"AI33*7.8","v":0},{"$f":"AG34","v":0},{"$f":"AJ33-AK33","v":0},{"$f":"ROUNDDOWN(AL33*請求書・納品書!$M$11,)","v":0}]
["遅・早(出)",null,null,null,null,null,null,null,null,null,null,null,null,null,null,null,null,null,null,null,null,null,null,null,null,null,null,null,null,null,null,null,{"$f":"SUM(B34:AF34)","v":0},"　残業",null,null,null,{"$f":"AG33","v":0},{"$f":"ROUNDDOWN(AL34*請求書・納品書!$M$12,)","v":0}]
["遅・早(公)",null,null,null,null,null,null,null,null,null,null,null,null,null,null,null,null,null,null,null,null,null,null,null,null,null,null,null,null,null,null,null,{"$f":"SUM(B35:AF35)","v":0},"　公出",{"$f":"COUNTIF(B32:AF32,\"公\")","v":0},{"$f":"AI35*7.8","v":0},{"$f":"AG35","v":0},{"$f":"AJ35-AK35","v":0},{"$f":"ROUNDDOWN(AL35*請求書・納品書!$M$13,)","v":0}]
["連続",null,null,null,null,null,null,null,null,null,null,null,null,null,null,null,null,null,null,null,null,null,null,null,null,null,null,null,null,null,null,null,{"$f":"SUM(B36:AF36)","v":0},"　連続",null,null,null,{"$f":"AG36","v":0},{"$f":"AL36*請求書・納品書!$M$14","v":0}]
[null,null,null,null,null,null,null,null,null,null,null,null,null,null,null,null,null,null,null,null,null,null,null,null,null,null,null,null,null,null,null,null,null,null,null,null,null,"合　計",{"$f":"SUM(AM33:AM36)","v":0}]
[null,null,null,null,null,null,null,null,null,null,null,null,null,null,null,null,null,null,null,null,null,null,null,null,null,null,null,null,null,null,null,null,null,{"$f":"A38","v":0},"日数(日)","勤務時間(h)"," 早退（h）","合計(h)","金額(円)"]
["残業",null,null,null,null,null,null,null,null,null,null,null,null,null,null,null,null,null,null,null,null,null,null,null,null,null,null,null,null,null,null,null,{"$f":"SUM(B39:AF39)","v":0},"　出勤",{"$f":"COUNTIF(B38:AF38,\"出\")","v":0},{"$f":"AI39*7.8","v":0},{"$f":"AG40","v":0},{"$f":"AJ39-AK39","v":0},{"$f":"ROUNDDOWN(AL39*請求書・納品書!$M$11,)","v":0}]
["遅・早(出)",null,null,null,null,null,null,null,null,null,null,null,null,null,null,null,null,null,null,null,null,null,null,null,null,null,null,null,null,null,null,null,{"$f":"SUM(B40:AF40)","v":0},"　残業",null,null,null,{"$f":"AG39","v":0},{"$f":"ROUNDDOWN(AL40*請求書・納品書!$M$12,)","v":0}]
["遅・早(公)",null,null,null,null,null,null,null,null,null,null,null,null,null,null,null,null,null,null,null,null,null,null,null,null,null,null,null,null,null,null,null,{"$f":"SUM(B41:AF41)","v":0},"　公出",{"$f":"COUNTIF(B38:AF38,\"公\")","v":0},{"$f":"AI41*7.8","v":0},{"$f":"AG41","v":0},{"$f":"AJ41-AK41","v":0},{"$f":"ROUNDDOWN(AL41*請求書・納品書!$M$13,)","v":0}]
["連続",null,null,null,null,null,null,null,null,null,null,null,null,null,null,null,null,null,null,null,null,null,null,null,null,null,null,null,null,null,null,null,{"$f":"SUM(B42:AF42)","v":0},"　連続",null,null,null,{"$f":"AG42","v":0},{"$f":"AL42*請求書・納品書!$M$14","v":0}]
[null,null,null,null,null,null,null,null,null,null,null,null,null,null,null,null,null,null,null,null,null,null,null,null,null,null,null,null,null,null,null,null,null,null,null,null,null,"合　計",{"$f":"SUM(AM39:AM42)","v":0}]
[null,null,null,null,null,null,null,null,null,null,null,null,null,null,null,null,null,null,null,null,null,null,null,null,null,null,null,null,null,null,null,null,null,{"$f":"A44","v":0},"日数(日)","勤務時間(h)"," 早退（h）","合計(h)","金額(円)"]
["残業",null,null,null,null,null,null,null,null,null,null,null,null,null,null,null,null,null,null,null,null,null,null,null,null,null,null,null,null,null,null,null,{"$f":"SUM(B45:AF45)","v":0},"　出勤",{"$f":"COUNTIF(B44:AF44,\"出\")","v":0},{"$f":"AI45*7.8","v":0},{"$f":"AG46","v":0},{"$f":"AJ45-AK45","v":0},{"$f":"ROUNDDOWN(AL45*請求書・納品書!$M$11,)","v":0}]
["遅・早(出)",null,null,null,null,null,null,null,null,null,null,null,null,null,null,null,null,null,null,null,null,null,null,null,null,null,null,null,null,null,null,null,{"$f":"SUM(B46:AF46)","v":0},"　残業",null,null,null,{"$f":"AG45","v":0},{"$f":"ROUNDDOWN(AL46*請求書・納品書!$M$12,)","v":0}]
["遅・早(公)",null,null,null,null,null,null,null,null,null,null,null,null,null,null,null,null,null,null,null,null,null,null,null,null,null,null,null,null,null,null,null,{"$f":"SUM(B47:AF47)","v":0},"　公出",{"$f":"COUNTIF(B44:AF44,\"公\")","v":0},{"$f":"AI47*7.8","v":0},{"$f":"AG47","v":0},{"$f":"AJ47-AK47","v":0},{"$f":"ROUNDDOWN(AL47*請求書・納品書!$M$13,)","v":0}]
["連続",null,null,null,null,null,null,null,null,null,null,null,null,null,null,null,null,null,null,null,null,null,null,null,null,null,null,null,null,null,null,null,{"$f":"SUM(B48:AF48)","v":0},"　連続",null,null,null,{"$f":"AG48","v":0},{"$f":"AL48*請求書・納品書!$M$14","v":0}]
[null,null,null,null,null,null,null,null,null,null,null,null,null,null,null,null,null,null,null,null,null,null,null,null,null,null,null,null,null,null,null,null,null,null,null,null,null,"合　計",{"$f":"SUM(AM45:AM48)","v":0},null,{"$f":"AM31+AM37+AM43+AM49","v":0}]
[null,null,null,null,null,null,null,null,null,null,null,null,null,null,null,null,null,null,null,null,null,null,null,null,null,null,null,null,null,null,null,null,null,{"$f":"A50","v":0},"日数(日)","勤務時間(h)"," 早退（h）","合計(h)","金額(円)"]
["残業",null,null,null,null,null,null,null,null,null,null,null,null,null,null,null,null,null,null,null,null,null,null,null,null,null,null,null,null,null,null,null,{"$f":"SUM(B51:AF51)","v":0},"　出勤",{"$f":"COUNTIF(B50:AF50,\"出\")","v":0},{"$f":"AI51*7.8","v":0},{"$f":"AG52","v":0},{"$f":"AJ51-AK51","v":0},{"$f":"ROUNDDOWN(AL51*請求書・納品書!$M$11,)","v":0}]
["遅・早(出)",null,null,null,null,null,null,null,null,null,null,null,null,null,null,null,null,null,null,null,null,null,null,null,null,null,null,null,null,null,null,null,{"$f":"SUM(B52:AF52)","v":0},"　残業",null,null,null,{"$f":"AG51","v":0},{"$f":"ROUNDDOWN(AL52*請求書・納品書!$M$12,)","v":0}]
["遅・早(公)",null,null,null,null,null,null,null,null,null,null,null,null,null,null,null,null,null,null,null,null,null,null,null,null,null,null,null,null,null,null,null,{"$f":"SUM(B53:AF53)","v":0},"　公出",{"$f":"COUNTIF(B50:AF50,\"公\")","v":0},{"$f":"AI53*7.8","v":0},{"$f":"AG53","v":0},{"$f":"AJ53-AK53","v":0},{"$f":"ROUNDDOWN(AL53*請求書・納品書!$M$13,)","v":0}]
["連続",null,null,null,null,null,null,null,null,null,null,null,null,null,null,null,null,null,null,null,null,null,null,null,null,null,null,null,null,null,null,null,{"$f":"SUM(B54:AF54)","v":0},"　連続",null,null,null,{"$f":"AG54","v":0},{"$f":"AL54*請求書・納品書!$M$14","v":0}]
[null,null,null,null,null,null,null,null,null,null,null,null,null,null,null,null,null,null,null,null,null,null,null,null,null,null,null,null,null,null,null,null,null,null,null,null,null,"合　計",{"$f":"SUM(AM51:AM54)","v":0}]
[null,null,null,null,null,null,null,null,null,null,null,null,null,null,null,null,null,null,null,null,null,null,null,null,null,null,null,null,null,null,null,null,null,{"$f":"A56","v":0},"日数(日)","勤務時間(h)"," 早退（h）","合計(h)","金額(円)"]
["残業",null,null,null,null,null,null,null,null,null,null,null,null,null,null,null,null,null,null,null,null,null,null,null,null,null,null,null,null,null,null,null,{"$f":"SUM(B57:AF57)","v":0},"　出勤",{"$f":"COUNTIF(B56:AF56,\"出\")","v":0},{"$f":"AI57*7.8","v":0},{"$f":"AG58","v":0},{"$f":"AJ57-AK57","v":0},{"$f":"ROUNDDOWN(AL57*請求書・納品書!$M$11,)","v":0}]
["遅・早(出)",null,null,null,null,null,null,null,null,null,null,null,null,null,null,null,null,null,null,null,null,null,null,null,null,null,null,null,null,null,null,null,{"$f":"SUM(B58:AF58)","v":0},"　残業",null,null,null,{"$f":"AG57","v":0},{"$f":"ROUNDDOWN(AL58*請求書・納品書!$M$12,)","v":0}]
["遅・早(公)",null,null,null,null,null,null,null,null,null,null,null,null,null,null,null,null,null,null,null,null,null,null,null,null,null,null,null,null,null,null,null,{"$f":"SUM(B59:AF59)","v":0},"　公出",{"$f":"COUNTIF(B56:AF56,\"公\")","v":0},{"$f":"AI59*7.8","v":0},{"$f":"AG59","v":0},{"$f":"AJ59-AK59","v":0},{"$f":"ROUNDDOWN(AL59*請求書・納品書!$M$13,)","v":0}]
["連続",null,null,null,null,null,null,null,null,null,null,null,null,null,null,null,null,null,null,null,null,null,null,null,null,null,null,null,null,null,null,null,{"$f":"SUM(B60:AF60)","v":0},"　連続",null,null,null,{"$f":"AG60","v":0},{"$f":"AL60*請求書・納品書!$M$14","v":0}]
[null,null,null,null,null,null,null,null,null,null,null,null,null,null,null,null,null,null,null,null,null,null,null,null,null,null,null,null,null,null,null,null,null,null,null,null,null,"合　計",{"$f":"SUM(AM57:AM60)","v":0}]
[null,null,null,null,null,null,null,null,null,null,null,null,null,null,null,null,null,null,null,null,null,null,null,null,null,null,null,null,null,null,null,null,null,{"$f":"A62","v":0},"日数(日)","勤務時間(h)"," 早退（h）","合計(h)","金額(円)"]
["残業",null,null,null,null,null,null,null,null,null,null,null,null,null,null,null,null,null,null,null,null,null,null,null,null,null,null,null,null,null,null,null,{"$f":"SUM(B63:AF63)","v":0},"　出勤",{"$f":"COUNTIF(B62:AF62,\"出\")","v":0},{"$f":"AI63*7.8","v":0},{"$f":"AG64","v":0},{"$f":"AJ63-AK63","v":0},{"$f":"ROUNDDOWN(AL63*請求書・納品書!$M$11,)","v":0}]
["遅・早(出)",null,null,null,null,null,null,null,null,null,null,null,null,null,null,null,null,null,null,null,null,null,null,null,null,null,null,null,null,null,null,null,{"$f":"SUM(B64:AF64)","v":0},"　残業",null,null,null,{"$f":"AG63","v":0},{"$f":"ROUNDDOWN(AL64*請求書・納品書!$M$12,)","v":0}]
["遅・早(公)",null,null,null,null,null,null,null,null,null,null,null,null,null,null,null,null,null,null,null,null,null,null,null,null,null,null,null,null,null,null,null,{"$f":"SUM(B65:AF65)","v":0},"　公出",{"$f":"COUNTIF(B62:AF62,\"公\")","v":0},{"$f":"AI65*7.8","v":0},{"$f":"AG65","v":0},{"$f":"AJ65-AK65","v":0},{"$f":"ROUNDDOWN(AL65*請求書・納品書!$M$13,)","v":0}]
["連続",null,null,null,null,null,null,null,null,null,null,null,null,null,null,null,null,null,null,null,null,null,null,null,null,null,null,null,null,null,null,null,{"$f":"SUM(B66:AF66)","v":0},"　連続",null,null,null,{"$f":"AG66","v":0},{"$f":"AL66*請求書・納品書!$M$14","v":0}]
[null,null,null,null,null,null,null,null,null,null,null,null,null,null,null,null,null,null,null,null,null,null,null,null,null,null,null,null,null,null,null,null,null,null,null,null,null,"合　計",{"$f":"SUM(AM63:AM66)","v":0}]
[null,null,null,null,null,null,null,null,null,null,null,null,null,null,null,null,null,null,null,null,null,null,null,null,null,null,null,null,null,null,null,null,null,{"$f":"A68","v":0},"日数(日)","勤務時間(h)"," 早退（h）","合計(h)","金額(円)"]
["残業",null,null,null,null,null,null,null,null,null,null,null,null,null,null,null,null,null,null,null,null,null,null,null,null,null,null,null,null,null,null,null,{"$f":"SUM(B69:AF69)","v":0},"　出勤",{"$f":"COUNTIF(B68:AF68,\"出\")","v":0},{"$f":"AI69*7.8","v":0},{"$f":"AG70","v":0},{"$f":"AJ69-AK69","v":0},{"$f":"ROUNDDOWN(AL69*請求書・納品書!$M$11,)","v":0}]
["遅・早(出)",null,null,null,null,null,null,null,null,null,null,null,null,null,null,null,null,null,null,null,null,null,null,null,null,null,null,null,null,null,null,null,{"$f":"SUM(B70:AF70)","v":0},"　残業",null,null,null,{"$f":"AG69","v":0},{"$f":"ROUNDDOWN(AL70*請求書・納品書!$M$12,)","v":0}]
["遅・早(公)",null,null,null,null,null,null,null,null,null,null,null,null,null,null,null,null,null,null,null,null,null,null,null,null,null,null,null,null,null,null,null,{"$f":"SUM(B71:AF71)","v":0},"　公出",{"$f":"COUNTIF(B68:AF68,\"公\")","v":0},{"$f":"AI71*7.8","v":0},{"$f":"AG71","v":0},{"$f":"AJ71-AK71","v":0},{"$f":"ROUNDDOWN(AL71*請求書・納品書!$M$13,)","v":0}]
["連続",null,null,null,null,null,null,null,null,null,null,null,null,null,null,null,null,null,null,null,null,null,null,null,null,null,null,null,null,null,null,null,{"$f":"SUM(B72:AF72)","v":0},"　連続",null,null,null,{"$f":"AG72","v":0},{"$f":"AL72*請求書・納品書!$M$14","v":0}]
[null,null,null,null,null,null,null,null,null,null,null,null,null,null,null,null,null,null,null,null,null,null,null,null,null,null,null,null,null,null,null,null,null,null,null,null,null,"合　計",{"$f":"SUM(AM69:AM72)","v":0},null,{"$f":"AM55+AM61+AM67+AM73","v":0}]
[null,null,null,null,null,null,null,null,null,null,null,null,null,null,null,null,null,null,null,null,null,null,null,null,null,null,null,null,null,null,null,null,null,{"$f":"A74","v":0},"日数(日)","勤務時間(h)"," 早退（h）","合計(h)","金額(円)"]
["残業",null,null,null,null,null,null,null,null,null,null,null,null,null,null,null,null,null,null,null,null,null,null,null,null,null,null,null,null,null,null,null,{"$f":"SUM(B75:AF75)","v":0},"　出勤",{"$f":"COUNTIF(B74:AF74,\"出\")","v":0},{"$f":"AI75*7.8","v":0},{"$f":"AG76","v":0},{"$f":"AJ75-AK75","v":0},{"$f":"ROUNDDOWN(AL75*請求書・納品書!$M$11,)","v":0}]
["遅・早(出)",null,null,null,null,null,null,null,null,null,null,null,null,null,null,null,null,null,null,null,null,null,null,null,null,null,null,null,null,null,null,null,{"$f":"SUM(B76:AF76)","v":0},"　残業",null,null,null,{"$f":"AG75","v":0},{"$f":"ROUNDDOWN(AL76*請求書・納品書!$M$12,)","v":0}]
["遅・早(公)",null,null,null,null,null,null,null,null,null,null,null,null,null,null,null,null,null,null,null,null,null,null,null,null,null,null,null,null,null,null,null,{"$f":"SUM(B77:AF77)","v":0},"　公出",{"$f":"COUNTIF(B74:AF74,\"公\")","v":0},{"$f":"AI77*7.8","v":0},{"$f":"AG77","v":0},{"$f":"AJ77-AK77","v":0},{"$f":"ROUNDDOWN(AL77*請求書・納品書!$M$13,)","v":0}]
["連続",null,null,null,null,null,null,null,null,null,null,null,null,null,null,null,null,null,null,null,null,null,null,null,null,null,null,null,null,null,null,null,{"$f":"SUM(B78:AF78)","v":0},"　連続",null,null,null,{"$f":"AG78","v":0},{"$f":"AL78*請求書・納品書!$M$14","v":0}]
[null,null,null,null,null,null,null,null,null,null,null,null,null,null,null,null,null,null,null,null,null,null,null,null,null,null,null,null,null,null,null,null,null,null,null,null,null,"合　計",{"$f":"SUM(AM75:AM78)","v":0}]
[null,null,null,null,null,null,null,null,null,null,null,null,null,null,null,null,null,null,null,null,null,null,null,null,null,null,null,null,null,null,null,null,null,{"$f":"A80","v":0},"日数(日)","勤務時間(h)"," 早退（h）","合計(h)","金額(円)"]
["残業",null,null,null,null,null,null,null,null,null,null,null,null,null,null,null,null,null,null,null,null,null,null,null,null,null,null,null,null,null,null,null,{"$f":"SUM(B81:AF81)","v":0},"　出勤",{"$f":"COUNTIF(B80:AF80,\"出\")","v":0},{"$f":"AI81*7.8","v":0},{"$f":"AG82","v":0},{"$f":"AJ81-AK81","v":0},{"$f":"ROUNDDOWN(AL81*請求書・納品書!$M$11,)","v":0}]
["遅・早(出)",null,null,null,null,null,null,null,null,null,null,null,null,null,null,null,null,null,null,null,null,null,null,null,null,null,null,null,null,null,null,null,{"$f":"SUM(B82:AF82)","v":0},"　残業",null,null,null,{"$f":"AG81","v":0},{"$f":"ROUNDDOWN(AL82*請求書・納品書!$M$12,)","v":0}]
["遅・早(公)",null,null,null,null,null,null,null,null,null,null,null,null,null,null,null,null,null,null,null,null,null,null,null,null,null,null,null,null,null,null,null,{"$f":"SUM(B83:AF83)","v":0},"　公出",{"$f":"COUNTIF(B80:AF80,\"公\")","v":0},{"$f":"AI83*7.8","v":0},{"$f":"AG83","v":0},{"$f":"AJ83-AK83","v":0},{"$f":"ROUNDDOWN(AL83*請求書・納品書!$M$13,)","v":0}]
["連続",null,null,null,null,null,null,null,null,null,null,null,null,null,null,null,null,null,null,null,null,null,null,null,null,null,null,null,null,null,null,null,{"$f":"SUM(B84:AF84)","v":0},"　連続",null,null,null,{"$f":"AG84","v":0},{"$f":"AL84*請求書・納品書!$M$14","v":0}]
[null,null,null,null,null,null,null,null,null,null,null,null,null,null,null,null,null,null,null,null,null,null,null,null,null,null,null,null,null,null,null,null,null,null,null,null,null,"合　計",{"$f":"SUM(AM81:AM84)","v":0}]
[null,null,null,null,null,null,null,null,null,null,null,null,null,null,null,null,null,null,null,null,null,null,null,null,null,null,null,null,null,null,null,null,null,{"$f":"A86","v":0},"日数(日)","勤務時間(h)"," 早退（h）","合計(h)","金額(円)"]
["残業",null,null,null,null,null,null,null,null,null,null,null,null,null,null,null,null,null,null,null,null,null,null,null,null,null,null,null,null,null,null,null,{"$f":"SUM(B87:AF87)","v":0},"　出勤",{"$f":"COUNTIF(B86:AF86,\"出\")","v":0},{"$f":"AI87*7.8","v":0},{"$f":"AG88","v":0},{"$f":"AJ87-AK87","v":0},{"$f":"ROUNDDOWN(AL87*請求書・納品書!$M$11,)","v":0}]
["遅・早(出)",null,null,null,null,null,null,null,null,null,null,null,null,null,null,null,null,null,null,null,null,null,null,null,null,null,null,null,null,null,null,null,{"$f":"SUM(B88:AF88)","v":0},"　残業",null,null,null,{"$f":"AG87","v":0},{"$f":"ROUNDDOWN(AL88*請求書・納品書!$M$12,)","v":0}]
["遅・早(公)",null,null,null,null,null,null,null,null,null,null,null,null,null,null,null,null,null,null,null,null,null,null,null,null,null,null,null,null,null,null,null,{"$f":"SUM(B89:AF89)","v":0},"　公出",{"$f":"COUNTIF(B86:AF86,\"公\")","v":0},{"$f":"AI89*7.8","v":0},{"$f":"AG89","v":0},{"$f":"AJ89-AK89","v":0},{"$f":"ROUNDDOWN(AL89*請求書・納品書!$M$13,)","v":0}]
["連続",null,null,null,null,null,null,null,null,null,null,null,null,null,null,null,null,null,null,null,null,null,null,null,null,null,null,null,null,null,null,null,{"$f":"SUM(B90:AF90)","v":0},"　連続",null,null,null,{"$f":"AG90","v":0},{"$f":"AL90*請求書・納品書!$M$14","v":0}]
[null,null,null,null,null,null,null,null,null,null,null,null,null,null,null,null,null,null,null,null,null,null,null,null,null,null,null,null,null,null,null,null,null,null,null,null,null,"合　計",{"$f":"SUM(AM87:AM90)","v":0}]
[null,null,null,null,null,null,null,null,null,null,null,null,null,null,null,null,null,null,null,null,null,null,null,null,null,null,null,null,null,null,null,null,null,{"$f":"A92","v":0},"日数(日)","勤務時間(h)"," 早退（h）","合計(h)","金額(円)"]
["残業",null,null,null,null,null,null,null,null,null,null,null,null,null,null,null,null,null,null,null,null,null,null,null,null,null,null,null,null,null,null,null,{"$f":"SUM(B93:AF93)","v":0},"　出勤",{"$f":"COUNTIF(B92:AF92,\"出\")","v":0},{"$f":"AI93*7.8","v":0},{"$f":"AG94","v":0},{"$f":"AJ93-AK93","v":0},{"$f":"ROUNDDOWN(AL93*請求書・納品書!$M$11,)","v":0}]
["遅・早(出)",null,null,null,null,null,null,null,null,null,null,null,null,null,null,null,null,null,null,null,null,null,null,null,null,null,null,null,null,null,null,null,{"$f":"SUM(B94:AF94)","v":0},"　残業",null,null,null,{"$f":"AG93","v":0},{"$f":"ROUNDDOWN(AL94*請求書・納品書!$M$12,)","v":0}]
["遅・早(公)",null,null,null,null,null,null,null,null,null,null,null,null,null,null,null,null,null,null,null,null,null,null,null,null,null,null,null,null,null,null,null,{"$f":"SUM(B95:AF95)","v":0},"　公出",{"$f":"COUNTIF(B92:AF92,\"公\")","v":0},{"$f":"AI95*7.8","v":0},{"$f":"AG95","v":0},{"$f":"AJ95-AK95","v":0},{"$f":"ROUNDDOWN(AL95*請求書・納品書!$M$13,)","v":0}]
["連続",null,null,null,null,null,null,null,null,null,null,null,null,null,null,null,null,null,null,null,null,null,null,null,null,null,null,null,null,null,null,null,{"$f":"SUM(B96:AF96)","v":0},"　連続",null,null,null,{"$f":"AG96","v":0},{"$f":"AL96*請求書・納品書!$M$14","v":0}]
[null,null,null,null,null,null,null,null,null,null,null,null,null,null,null,null,null,null,null,null,null,null,null,null,null,null,null,null,null,null,null,null,null,null,null,null,null,"合　計",{"$f":"SUM(AM93:AM96)","v":0},null,{"$f":"AM79+AM85+AM91+AM97","v":0}]
[null,null,null,null,null,null,null,null,null,null,null,null,null,null,null,null,null,null,null,null,null,null,null,null,null,null,null,null,null,null,null,null,null,{"$f":"A98","v":0},"日数(日)","勤務時間(h)"," 早退（h）","合計(h)","金額(円)"]
["残業",null,null,null,null,null,null,null,null,null,null,null,null,null,null,null,null,null,null,null,null,null,null,null,null,null,null,null,null,null,null,null,{"$f":"SUM(B99:AF99)","v":0},"　出勤",{"$f":"COUNTIF(B98:AF98,\"出\")","v":0},{"$f":"AI99*7.8","v":0},{"$f":"AG100","v":0},{"$f":"AJ99-AK99","v":0},{"$f":"ROUNDDOWN(AL99*請求書・納品書!$M$11,)","v":0}]
["遅・早(出)",null,null,null,null,null,null,null,null,null,null,null,null,null,null,null,null,null,null,null,null,null,null,null,null,null,null,null,null,null,null,null,{"$f":"SUM(B100:AF100)","v":0},"　残業",null,null,null,{"$f":"AG99","v":0},{"$f":"ROUNDDOWN(AL100*請求書・納品書!$M$12,)","v":0}]
["遅・早(公)",null,null,null,null,null,null,null,null,null,null,null,null,null,null,null,null,null,null,null,null,null,null,null,null,null,null,null,null,null,null,null,{"$f":"SUM(B101:AF101)","v":0},"　公出",{"$f":"COUNTIF(B98:AF98,\"公\")","v":0},{"$f":"AI101*7.8","v":0},{"$f":"AG101","v":0},{"$f":"AJ101-AK101","v":0},{"$f":"ROUNDDOWN(AL101*請求書・納品書!$M$13,)","v":0}]
["連続",null,null,null,null,null,null,null,null,null,null,null,null,null,null,null,null,null,null,null,null,null,null,null,null,null,null,null,null,null,null,null,{"$f":"SUM(B102:AF102)","v":0},"　連続",null,null,null,{"$f":"AG102","v":0},{"$f":"AL102*請求書・納品書!$M$14","v":0}]
[null,null,null,null,null,null,null,null,null,null,null,null,null,null,null,null,null,null,null,null,null,null,null,null,null,null,null,null,null,null,null,null,null,null,null,null,null,"合　計",{"$f":"SUM(AM99:AM102)","v":0}]
[null,null,null,null,null,null,null,null,null,null,null,null,null,null,null,null,null,null,null,null,null,null,null,null,null,null,null,null,null,null,null,null,null,{"$f":"A104","v":0},"日数(日)","勤務時間(h)"," 早退（h）","合計(h)","金額(円)"]
["残業",null,null,null,null,null,null,null,null,null,null,null,null,null,null,null,null,null,null,null,null,null,null,null,null,null,null,null,null,null,null,null,{"$f":"SUM(B105:AF105)","v":0},"　出勤",{"$f":"COUNTIF(B104:AF104,\"出\")","v":0},{"$f":"AI105*7.8","v":0},{"$f":"AG106","v":0},{"$f":"AJ105-AK105","v":0},{"$f":"ROUNDDOWN(AL105*請求書・納品書!$M$11,)","v":0}]
["遅・早(出)",null,null,null,null,null,null,null,null,null,null,null,null,null,null,null,null,null,null,null,null,null,null,null,null,null,null,null,null,null,null,null,{"$f":"SUM(B106:AF106)","v":0},"　残業",null,null,null,{"$f":"AG105","v":0},{"$f":"ROUNDDOWN(AL106*請求書・納品書!$M$12,)","v":0}]
["遅・早(公)",null,null,null,null,null,null,null,null,null,null,null,null,null,null,null,null,null,null,null,null,null,null,null,null,null,null,null,null,null,null,null,{"$f":"SUM(B107:AF107)","v":0},"　公出",{"$f":"COUNTIF(B104:AF104,\"公\")","v":0},{"$f":"AI107*7.8","v":0},{"$f":"AG107","v":0},{"$f":"AJ107-AK107","v":0},{"$f":"ROUNDDOWN(AL107*請求書・納品書!$M$13,)","v":0}]
["連続",null,null,null,null,null,null,null,null,null,null,null,null,null,null,null,null,null,null,null,null,null,null,null,null,null,null,null,null,null,null,null,{"$f":"SUM(B108:AF108)","v":0},"　連続",null,null,null,{"$f":"AG108","v":0},{"$f":"AL108*請求書・納品書!$M$14","v":0}]
[null,null,null,null,null,null,null,null,null,null,null,null,null,null,null,null,null,null,null,null,null,null,null,null,null,null,null,null,null,null,null,null,null,null,null,null,null,"合　計",{"$f":"SUM(AM105:AM108)","v":0}]
[null,null,null,null,null,null,null,null,null,null,null,null,null,null,null,null,null,null,null,null,null,null,null,null,null,null,null,null,null,null,null,null,null,{"$f":"A110","v":0},"日数(日)","勤務時間(h)"," 早退（h）","合計(h)","金額(円)"]
["残業",null,null,null,null,null,null,null,null,null,null,null,null,null,null,null,null,null,null,null,null,null,null,null,null,null,null,null,null,null,null,null,{"$f":"SUM(B111:AF111)","v":0},"　出勤",{"$f":"COUNTIF(B110:AF110,\"出\")","v":0},{"$f":"AI111*7.8","v":0},{"$f":"AG112","v":0},{"$f":"AJ111-AK111","v":0},{"$f":"ROUNDDOWN(AL111*請求書・納品書!$M$11,)","v":0}]
["遅・早(出)",null,null,null,null,null,null,null,null,null,null,null,null,null,null,null,null,null,null,null,null,null,null,null,null,null,null,null,null,null,null,null,{"$f":"SUM(B112:AF112)","v":0},"　残業",null,null,null,{"$f":"AG111","v":0},{"$f":"ROUNDDOWN(AL112*請求書・納品書!$M$12,)","v":0}]
["遅・早(公)",null,null,null,null,null,null,null,null,null,null,null,null,null,null,null,null,null,null,null,null,null,null,null,null,null,null,null,null,null,null,null,{"$f":"SUM(B113:AF113)","v":0},"　公出",{"$f":"COUNTIF(B110:AF110,\"公\")","v":0},{"$f":"AI113*7.8","v":0},{"$f":"AG113","v":0},{"$f":"AJ113-AK113","v":0},{"$f":"ROUNDDOWN(AL113*請求書・納品書!$M$13,)","v":0}]
["連続",null,null,null,null,null,null,null,null,null,null,null,null,null,null,null,null,null,null,null,null,null,null,null,null,null,null,null,null,null,null,null,{"$f":"SUM(B114:AF114)","v":0},"　連続",null,null,null,{"$f":"AG114","v":0},{"$f":"AL114*請求書・納品書!$M$14","v":0}]
[null,null,null,null,null,null,null,null,null,null,null,null,null,null,null,null,null,null,null,null,null,null,null,null,null,null,null,null,null,null,null,null,null,null,null,null,null,"合　計",{"$f":"SUM(AM111:AM114)","v":0}]
[null,null,null,null,null,null,null,null,null,null,null,null,null,null,null,null,null,null,null,null,null,null,null,null,null,null,null,null,null,null,null,null,null,{"$f":"A116","v":0},"日数(日)","勤務時間(h)"," 早退（h）","合計(h)","金額(円)"]
["残業",null,null,null,null,null,null,null,null,null,null,null,null,null,null,null,null,null,null,null,null,null,null,null,null,null,null,null,null,null,null,null,{"$f":"SUM(B117:AF117)","v":0},"　出勤",{"$f":"COUNTIF(B116:AF116,\"出\")","v":0},{"$f":"AI117*7.8","v":0},{"$f":"AG118","v":0},{"$f":"AJ117-AK117","v":0},{"$f":"ROUNDDOWN(AL117*請求書・納品書!$M$11,)","v":0}]
["遅・早(出)",null,null,null,null,null,null,null,null,null,null,null,null,null,null,null,null,null,null,null,null,null,null,null,null,null,null,null,null,null,null,null,{"$f":"SUM(B118:AF118)","v":0},"　残業",null,null,null,{"$f":"AG117","v":0},{"$f":"ROUNDDOWN(AL118*請求書・納品書!$M$12,)","v":0}]
["遅・早(公)",null,null,null,null,null,null,null,null,null,null,null,null,null,null,null,null,null,null,null,null,null,null,null,null,null,null,null,null,null,null,null,{"$f":"SUM(B119:AF119)","v":0},"　公出",{"$f":"COUNTIF(B116:AF116,\"公\")","v":0},{"$f":"AI119*7.8","v":0},{"$f":"AG119","v":0},{"$f":"AJ119-AK119","v":0},{"$f":"ROUNDDOWN(AL119*請求書・納品書!$M$13,)","v":0}]
["連続",null,null,null,null,null,null,null,null,null,null,null,null,null,null,null,null,null,null,null,null,null,null,null,null,null,null,null,null,null,null,null,{"$f":"SUM(B120:AF120)","v":0},"　連続",null,null,null,{"$f":"AG120","v":0},{"$f":"AL120*請求書・納品書!$M$14","v":0}]
[null,null,null,null,null,null,null,null,null,null,null,null,null,null,null,null,null,null,null,null,null,null,null,null,null,null,null,null,null,null,null,null,null,null,null,null,null,"合　計",{"$f":"SUM(AM117:AM120)","v":0},null,{"$f":"AM103+AM109+AM115+AM121","v":0}]
[null,null,null,null,null,null,null,null,null,null,null,null,null,null,null,null,null,null,null,null,null,null,null,null,null,null,null,null,null,null,null,null,null,{"$f":"A122","v":0},"日数(日)","勤務時間(h)"," 早退（h）","合計(h)","金額(円)"]
["残業",null,null,null,null,null,null,null,null,null,null,null,null,null,null,null,null,null,null,null,null,null,null,null,null,null,null,null,null,null,null,null,{"$f":"SUM(B123:AF123)","v":0},"　出勤",{"$f":"COUNTIF(B122:AF122,\"出\")","v":0},{"$f":"AI123*7.8","v":0},{"$f":"AG124","v":0},{"$f":"AJ123-AK123","v":0},{"$f":"ROUNDDOWN(AL123*請求書・納品書!$M$11,)","v":0}]
["遅・早(出)",null,null,null,null,null,null,null,null,null,null,null,null,null,null,null,null,null,null,null,null,null,null,null,null,null,null,null,null,null,null,null,{"$f":"SUM(B124:AF124)","v":0},"　残業",null,null,null,{"$f":"AG123","v":0},{"$f":"ROUNDDOWN(AL124*請求書・納品書!$M$12,)","v":0}]
["遅・早(公)",null,null,null,null,null,null,null,null,null,null,null,null,null,null,null,null,null,null,null,null,null,null,null,null,null,null,null,null,null,null,null,{"$f":"SUM(B125:AF125)","v":0},"　公出",{"$f":"COUNTIF(B122:AF122,\"公\")","v":0},{"$f":"AI125*7.8","v":0},{"$f":"AG125","v":0},{"$f":"AJ125-AK125","v":0},{"$f":"ROUNDDOWN(AL125*請求書・納品書!$M$13,)","v":0}]
["連続",null,null,null,null,null,null,null,null,null,null,null,null,null,null,null,null,null,null,null,null,null,null,null,null,null,null,null,null,null,null,null,{"$f":"SUM(B126:AF126)","v":0},"　連続",null,null,null,{"$f":"AG126","v":0},{"$f":"AL126*請求書・納品書!$M$14","v":0}]
[null,null,null,null,null,null,null,null,null,null,null,null,null,null,null,null,null,null,null,null,null,null,null,null,null,null,null,null,null,null,null,null,null,null,null,null,null,"合　計",{"$f":"SUM(AM123:AM126)","v":0}]
[null,null,null,null,null,null,null,null,null,null,null,null,null,null,null,null,null,null,null,null,null,null,null,null,null,null,null,null,null,null,null,null,null,{"$f":"A128","v":0},"日数(日)","勤務時間(h)"," 早退（h）","合計(h)","金額(円)"]
["残業",null,null,null,null,null,null,null,null,null,null,null,null,null,null,null,null,null,null,null,null,null,null,null,null,null,null,null,null,null,null,null,{"$f":"SUM(B129:AF129)","v":0},"　出勤",{"$f":"COUNTIF(B128:AF128,\"出\")","v":0},{"$f":"AI129*7.8","v":0},{"$f":"AG130","v":0},{"$f":"AJ129-AK129","v":0},{"$f":"ROUNDDOWN(AL129*請求書・納品書!$M$11,)","v":0}]
["遅・早(出)",null,null,null,null,null,null,null,null,null,null,null,null,null,null,null,null,null,null,null,null,null,null,null,null,null,null,null,null,null,null,null,{"$f":"SUM(B130:AF130)","v":0},"　残業",null,null,null,{"$f":"AG129","v":0},{"$f":"ROUNDDOWN(AL130*請求書・納品書!$M$12,)","v":0}]
["遅・早(公)",null,null,null,null,null,null,null,null,null,null,null,null,null,null,null,null,null,null,null,null,null,null,null,null,null,null,null,null,null,null,null,{"$f":"SUM(B131:AF131)","v":0},"　公出",{"$f":"COUNTIF(B128:AF128,\"公\")","v":0},{"$f":"AI131*7.8","v":0},{"$f":"AG131","v":0},{"$f":"AJ131-AK131","v":0},{"$f":"ROUNDDOWN(AL131*請求書・納品書!$M$13,)","v":0}]
["連続",null,null,null,null,null,null,null,null,null,null,null,null,null,null,null,null,null,null,null,null,null,null,null,null,null,null,null,null,null,null,null,{"$f":"SUM(B132:AF132)","v":0},"　連続",null,null,null,{"$f":"AG132","v":0},{"$f":"AL132*請求書・納品書!$M$14","v":0}]
[null,null,null,null,null,null,null,null,null,null,null,null,null,null,null,null,null,null,null,null,null,null,null,null,null,null,null,null,null,null,null,null,null,null,null,null,null,"合　計",{"$f":"SUM(AM129:AM132)","v":0}]
[null,null,null,null,null,null,null,null,null,null,null,null,null,null,null,null,null,null,null,null,null,null,null,null,null,null,null,null,null,null,null,null,null,{"$f":"A134","v":0},"日数(日)","勤務時間(h)"," 早退（h）","合計(h)","金額(円)"]
["残業",null,null,null,null,null,null,null,null,null,null,null,null,null,null,null,null,null,null,null,null,null,null,null,null,null,null,null,null,null,null,null,{"$f":"SUM(B135:AF135)","v":0},"　出勤",{"$f":"COUNTIF(B134:AF134,\"出\")","v":0},{"$f":"AI135*7.8","v":0},{"$f":"AG136","v":0},{"$f":"AJ135-AK135","v":0},{"$f":"ROUNDDOWN(AL135*請求書・納品書!$M$11,)","v":0}]
["遅・早(出)",null,null,null,null,null,null,null,null,null,null,null,null,null,null,null,null,null,null,null,null,null,null,null,null,null,null,null,null,null,null,null,{"$f":"SUM(B136:AF136)","v":0},"　残業",null,null,null,{"$f":"AG135","v":0},{"$f":"ROUNDDOWN(AL136*請求書・納品書!$M$12,)","v":0}]
["遅・早(公)",null,null,null,null,null,null,null,null,null,null,null,null,null,null,null,null,null,null,null,null,null,null,null,null,null,null,null,null,null,null,null,{"$f":"SUM(B137:AF137)","v":0},"　公出",{"$f":"COUNTIF(B134:AF134,\"公\")","v":0},{"$f":"AI137*7.8","v":0},{"$f":"AG137","v":0},{"$f":"AJ137-AK137","v":0},{"$f":"ROUNDDOWN(AL137*請求書・納品書!$M$13,)","v":0}]
["連続",null,null,null,null,null,null,null,null,null,null,null,null,null,null,null,null,null,null,null,null,null,null,null,null,null,null,null,null,null,null,null,{"$f":"SUM(B138:AF138)","v":0},"　連続",null,null,null,{"$f":"AG138","v":0},{"$f":"AL138*請求書・納品書!$M$14","v":0}]
[null,null,null,null,null,null,null,null,null,null,null,null,null,null,null,null,null,null,null,null,null,null,null,null,null,null,null,null,null,null,null,null,null,null,null,null,null,"合　計",{"$f":"SUM(AM135:AM138)","v":0}]
[null,null,null,null,null,null,null,null,null,null,null,null,null,null,null,null,null,null,null,null,null,null,null,null,null,null,null,null,null,null,null,null,null,{"$f":"A140","v":0},"日数(日)","勤務時間(h)"," 早退（h）","合計(h)","金額(円)"]
["残業",null,null,null,null,null,null,null,null,null,null,null,null,null,null,null,null,null,null,null,null,null,null,null,null,null,null,null,null,null,null,null,{"$f":"SUM(B141:AF141)","v":0},"　出勤",{"$f":"COUNTIF(B140:AF140,\"出\")","v":0},{"$f":"AI141*7.8","v":0},{"$f":"AG142","v":0},{"$f":"AJ141-AK141","v":0},{"$f":"ROUNDDOWN(AL141*請求書・納品書!$M$11,)","v":0}]
["遅・早(出)",null,null,null,null,null,null,null,null,null,null,null,null,null,null,null,null,null,null,null,null,null,null,null,null,null,null,null,null,null,null,null,{"$f":"SUM(B142:AF142)","v":0},"　残業",null,null,null,{"$f":"AG141","v":0},{"$f":"ROUNDDOWN(AL142*請求書・納品書!$M$12,)","v":0}]
["遅・早(公)",null,null,null,null,null,null,null,null,null,null,null,null,null,null,null,null,null,null,null,null,null,null,null,null,null,null,null,null,null,null,null,{"$f":"SUM(B143:AF143)","v":0},"　公出",{"$f":"COUNTIF(B140:AF140,\"公\")","v":0},{"$f":"AI143*7.8","v":0},{"$f":"AG143","v":0},{"$f":"AJ143-AK143","v":0},{"$f":"ROUNDDOWN(AL143*請求書・納品書!$M$13,)","v":0}]
["連続",null,null,null,null,null,null,null,null,null,null,null,null,null,null,null,null,null,null,null,null,null,null,null,null,null,null,null,null,null,null,null,{"$f":"SUM(B144:AF144)","v":0},"　連続",null,null,null,{"$f":"AG144","v":0},{"$f":"AL144*請求書・納品書!$M$14","v":0}]
[null,null,null,null,null,null,null,null,null,null,null,null,null,null,null,null,null,null,null,null,null,null,null,null,null,null,null,null,null,null,null,null,null,null,null,null,null,"合　計",{"$f":"SUM(AM141:AM144)","v":0},null,{"$f":"AM127+AM133+AM139+AM145","v":0}]
[null,null,null,null,null,null,null,null,null,null,null,null,null,null,null,null,null,null,null,null,null,null,null,null,null,null,null,null,null,null,null,null,null,{"$f":"A146","v":0},"日数(日)","勤務時間(h)"," 早退（h）","合計(h)","金額(円)"]
["残業",null,null,null,null,null,null,null,null,null,null,null,null,null,null,null,null,null,null,null,null,null,null,null,null,null,null,null,null,null,null,null,{"$f":"SUM(B147:AF147)","v":0},"　出勤",{"$f":"COUNTIF(B146:AF146,\"出\")","v":0},{"$f":"AI147*7.8","v":0},{"$f":"AG148","v":0},{"$f":"AJ147-AK147","v":0},{"$f":"ROUNDDOWN(AL147*請求書・納品書!$M$11,)","v":0}]
["遅・早(出)",null,null,null,null,null,null,null,null,null,null,null,null,null,null,null,null,null,null,null,null,null,null,null,null,null,null,null,null,null,null,null,{"$f":"SUM(B148:AF148)","v":0},"　残業",null,null,null,{"$f":"AG147","v":0},{"$f":"ROUNDDOWN(AL148*請求書・納品書!$M$12,)","v":0}]
["遅・早(公)",null,null,null,null,null,null,null,null,null,null,null,null,null,null,null,null,null,null,null,null,null,null,null,null,null,null,null,null,null,null,null,{"$f":"SUM(B149:AF149)","v":0},"　公出",{"$f":"COUNTIF(B146:AF146,\"公\")","v":0},{"$f":"AI149*7.8","v":0},{"$f":"AG149","v":0},{"$f":"AJ149-AK149","v":0},{"$f":"ROUNDDOWN(AL149*請求書・納品書!$M$13,)","v":0}]
["連続",null,null,null,null,null,null,null,null,null,null,null,null,null,null,null,null,null,null,null,null,null,null,null,null,null,null,null,null,null,null,null,{"$f":"SUM(B150:AF150)","v":0},"　連続",null,null,null,{"$f":"AG150","v":0},{"$f":"AL150*請求書・納品書!$M$14","v":0}]
[null,null,null,null,null,null,null,null,null,null,null,null,null,null,null,null,null,null,null,null,null,null,null,null,null,null,null,null,null,null,null,null,null,null,null,null,null,"合　計",{"$f":"SUM(AM147:AM150)","v":0}]
[null,null,null,null,null,null,null,null,null,null,null,null,null,null,null,null,null,null,null,null,null,null,null,null,null,null,null,null,null,null,null,null,null,{"$f":"A152","v":0},"日数(日)","勤務時間(h)"," 早退（h）","合計(h)","金額(円)"]
["残業",null,null,null,null,null,null,null,null,null,null,null,null,null,null,null,null,null,null,null,null,null,null,null,null,null,null,null,null,null,null,null,{"$f":"SUM(B153:AF153)","v":0},"　出勤",{"$f":"COUNTIF(B152:AF152,\"出\")","v":0},{"$f":"AI153*7.8","v":0},{"$f":"AG154","v":0},{"$f":"AJ153-AK153","v":0},{"$f":"ROUNDDOWN(AL153*請求書・納品書!$M$11,)","v":0}]
["遅・早(出)",null,null,null,null,null,null,null,null,null,null,null,null,null,null,null,null,null,null,null,null,null,null,null,null,null,null,null,null,null,null,null,{"$f":"SUM(B154:AF154)","v":0},"　残業",null,null,null,{"$f":"AG153","v":0},{"$f":"ROUNDDOWN(AL154*請求書・納品書!$M$12,)","v":0}]
["遅・早(公)",null,null,null,null,null,null,null,null,null,null,null,null,null,null,null,null,null,null,null,null,null,null,null,null,null,null,null,null,null,null,null,{"$f":"SUM(B155:AF155)","v":0},"　公出",{"$f":"COUNTIF(B152:AF152,\"公\")","v":0},{"$f":"AI155*7.8","v":0},{"$f":"AG155","v":0},{"$f":"AJ155-AK155","v":0},{"$f":"ROUNDDOWN(AL155*請求書・納品書!$M$13,)","v":0}]
["連続",null,null,null,null,null,null,null,null,null,null,null,null,null,null,null,null,null,null,null,null,null,null,null,null,null,null,null,null,null,null,null,{"$f":"SUM(B156:AF156)","v":0},"　連続",null,null,null,{"$f":"AG156","v":0},{"$f":"AL156*請求書・納品書!$M$14","v":0}]
[null,null,null,null,null,null,null,null,null,null,null,null,null,null,null,null,null,null,null,null,null,null,null,null,null,null,null,null,null,null,null,null,null,null,null,null,null,"合　計",{"$f":"SUM(AM153:AM156)","v":0}]
[null,null,null,null,null,null,null,null,null,null,null,null,null,null,null,null,null,null,null,null,null,null,null,null,null,null,null,null,null,null,null,null,null,{"$f":"A158","v":0},"日数(日)","勤務時間(h)"," 早退（h）","合計(h)","金額(円)"]
["残業",null,null,null,null,null,null,null,null,null,null,null,null,null,null,null,null,null,null,null,null,null,null,null,null,null,null,null,null,null,null,null,{"$f":"SUM(B159:AF159)","v":0},"　出勤",{"$f":"COUNTIF(B158:AF158,\"出\")","v":0},{"$f":"AI159*7.8","v":0},{"$f":"AG160","v":0},{"$f":"AJ159-AK159","v":0},{"$f":"ROUNDDOWN(AL159*請求書・納品書!$M$11,)","v":0}]
["遅・早(出)",null,null,null,null,null,null,null,null,null,null,null,null,null,null,null,null,null,null,null,null,null,null,null,null,null,null,null,null,null,null,null,{"$f":"SUM(B160:AF160)","v":0},"　残業",null,null,null,{"$f":"AG159","v":0},{"$f":"ROUNDDOWN(AL160*請求書・納品書!$M$12,)","v":0}]
["遅・早(公)",null,null,null,null,null,null,null,null,null,null,null,null,null,null,null,null,null,null,null,null,null,null,null,null,null,null,null,null,null,null,null,{"$f":"SUM(B161:AF161)","v":0},"　公出",{"$f":"COUNTIF(B158:AF158,\"公\")","v":0},{"$f":"AI161*7.8","v":0},{"$f":"AG161","v":0},{"$f":"AJ161-AK161","v":0},{"$f":"ROUNDDOWN(AL161*請求書・納品書!$M$13,)","v":0}]
["連続",null,null,null,null,null,null,null,null,null,null,null,null,null,null,null,null,null,null,null,null,null,null,null,null,null,null,null,null,null,null,null,{"$f":"SUM(B162:AF162)","v":0},"　連続",null,null,null,{"$f":"AG162","v":0},{"$f":"AL162*請求書・納品書!$M$14","v":0}]
[null,null,null,null,null,null,null,null,null,null,null,null,null,null,null,null,null,null,null,null,null,null,null,null,null,null,null,null,null,null,null,null,null,null,null,null,null,"合　計",{"$f":"SUM(AM159:AM162)","v":0}]
[null,null,null,null,null,null,null,null,null,null,null,null,null,null,null,null,null,null,null,null,null,null,null,null,null,null,null,null,null,null,null,null,null,{"$f":"A164","v":0},"日数(日)","勤務時間(h)"," 早退（h）","合計(h)","金額(円)"]
["残業",null,null,null,null,null,null,null,null,null,null,null,null,null,null,null,null,null,null,null,null,null,null,null,null,null,null,null,null,null,null,null,{"$f":"SUM(B165:AF165)","v":0},"　出勤",{"$f":"COUNTIF(B164:AF164,\"出\")","v":0},{"$f":"AI165*7.8","v":0},{"$f":"AG166","v":0},{"$f":"AJ165-AK165","v":0},{"$f":"ROUNDDOWN(AL165*請求書・納品書!$M$11,)","v":0}]
["遅・早(出)",null,null,null,null,null,null,null,null,null,null,null,null,null,null,null,null,null,null,null,null,null,null,null,null,null,null,null,null,null,null,null,{"$f":"SUM(B166:AF166)","v":0},"　残業",null,null,null,{"$f":"AG165","v":0},{"$f":"ROUNDDOWN(AL166*請求書・納品書!$M$12,)","v":0}]
["遅・早(公)",null,null,null,null,null,null,null,null,null,null,null,null,null,null,null,null,null,null,null,null,null,null,null,null,null,null,null,null,null,null,null,{"$f":"SUM(B167:AF167)","v":0},"　公出",{"$f":"COUNTIF(B164:AF164,\"公\")","v":0},{"$f":"AI167*7.8","v":0},{"$f":"AG167","v":0},{"$f":"AJ167-AK167","v":0},{"$f":"ROUNDDOWN(AL167*請求書・納品書!$M$13,)","v":0}]
["連続",null,null,null,null,null,null,null,null,null,null,null,null,null,null,null,null,null,null,null,null,null,null,null,null,null,null,null,null,null,null,null,{"$f":"SUM(B168:AF168)","v":0},"　連続",null,null,null,{"$f":"AG168","v":0},{"$f":"AL168*請求書・納品書!$M$14","v":0}]
[null,null,null,null,null,null,null,null,null,null,null,null,null,null,null,null,null,null,null,null,null,null,null,null,null,null,null,null,null,null,null,null,null,null,null,null,null,"合　計",{"$f":"SUM(AM165:AM168)","v":0},null,{"$f":"AM151+AM157+AM163+AM169","v":0}]
[null,null,null,null,null,null,null,null,null,null,null,null,null,null,null,null,null,null,null,null,null,null,null,null,null,null,null,null,null,null,null,null,null,{"$f":"A170","v":0},"日数(日)","勤務時間(h)"," 早退（h）","合計(h)","金額(円)"]
["残業",null,null,null,null,null,null,null,null,null,null,null,null,null,null,null,null,null,null,null,null,null,null,null,null,null,null,null,null,null,null,null,{"$f":"SUM(B171:AF171)","v":0},"　出勤",{"$f":"COUNTIF(B170:AF170,\"出\")","v":0},{"$f":"AI171*7.8","v":0},{"$f":"AG172","v":0},{"$f":"AJ171-AK171","v":0},{"$f":"ROUNDDOWN(AL171*請求書・納品書!$M$11,)","v":0}]
["遅・早(出)",null,null,null,null,null,null,null,null,null,null,null,null,null,null,null,null,null,null,null,null,null,null,null,null,null,null,null,null,null,null,null,{"$f":"SUM(B172:AF172)","v":0},"　残業",null,null,null,{"$f":"AG171","v":0},{"$f":"ROUNDDOWN(AL172*請求書・納品書!$M$12,)","v":0}]
["遅・早(公)",null,null,null,null,null,null,null,null,null,null,null,null,null,null,null,null,null,null,null,null,null,null,null,null,null,null,null,null,null,null,null,{"$f":"SUM(B173:AF173)","v":0},"　公出",{"$f":"COUNTIF(B170:AF170,\"公\")","v":0},{"$f":"AI173*7.8","v":0},{"$f":"AG173","v":0},{"$f":"AJ173-AK173","v":0},{"$f":"ROUNDDOWN(AL173*請求書・納品書!$M$13,)","v":0}]
["連続",null,null,null,null,null,null,null,null,null,null,null,null,null,null,null,null,null,null,null,null,null,null,null,null,null,null,null,null,null,null,null,{"$f":"SUM(B174:AF174)","v":0},"　連続",null,null,null,{"$f":"AG174","v":0},{"$f":"AL174*請求書・納品書!$M$14","v":0}]
[null,null,null,null,null,null,null,null,null,null,null,null,null,null,null,null,null,null,null,null,null,null,null,null,null,null,null,null,null,null,null,null,null,null,null,null,null,"合　計",{"$f":"SUM(AM171:AM174)","v":0}]
[null,null,null,null,null,null,null,null,null,null,null,null,null,null,null,null,null,null,null,null,null,null,null,null,null,null,null,null,null,null,null,null,null,{"$f":"A176","v":0},"日数(日)","勤務時間(h)"," 早退（h）","合計(h)","金額(円)"]
["残業",null,null,null,null,null,null,null,null,null,null,null,null,null,null,null,null,null,null,null,null,null,null,null,null,null,null,null,null,null,null,null,{"$f":"SUM(B177:AF177)","v":0},"　出勤",{"$f":"COUNTIF(B176:AF176,\"出\")","v":0},{"$f":"AI177*7.8","v":0},{"$f":"AG178","v":0},{"$f":"AJ177-AK177","v":0},{"$f":"ROUNDDOWN(AL177*請求書・納品書!$M$11,)","v":0}]
["遅・早(出)",null,null,null,null,null,null,null,null,null,null,null,null,null,null,null,null,null,null,null,null,null,null,null,null,null,null,null,null,null,null,null,{"$f":"SUM(B178:AF178)","v":0},"　残業",null,null,null,{"$f":"AG177","v":0},{"$f":"ROUNDDOWN(AL178*請求書・納品書!$M$12,)","v":0}]
["遅・早(公)",null,null,null,null,null,null,null,null,null,null,null,null,null,null,null,null,null,null,null,null,null,null,null,null,null,null,null,null,null,null,null,{"$f":"SUM(B179:AF179)","v":0},"　公出",{"$f":"COUNTIF(B176:AF176,\"公\")","v":0},{"$f":"AI179*7.8","v":0},{"$f":"AG179","v":0},{"$f":"AJ179-AK179","v":0},{"$f":"ROUNDDOWN(AL179*請求書・納品書!$M$13,)","v":0}]
["連続",null,null,null,null,null,null,null,null,null,null,null,null,null,null,null,null,null,null,null,null,null,null,null,null,null,null,null,null,null,null,null,{"$f":"SUM(B180:AF180)","v":0},"　連続",null,null,null,{"$f":"AG180","v":0},{"$f":"AL180*請求書・納品書!$M$14","v":0}]
[null,null,null,null,null,null,null,null,null,null,null,null,null,null,null,null,null,null,null,null,null,null,null,null,null,null,null,null,null,null,null,null,null,null,null,null,null,"合　計",{"$f":"SUM(AM177:AM180)","v":0}]
[null,null,null,null,null,null,null,null,null,null,null,null,null,null,null,null,null,null,null,null,null,null,null,null,null,null,null,null,null,null,null,null,null,{"$f":"A182","v":0},"日数(日)","勤務時間(h)"," 早退（h）","合計(h)","金額(円)"]
["残業",null,null,null,null,null,null,null,null,null,null,null,null,null,null,null,null,null,null,null,null,null,null,null,null,null,null,null,null,null,null,null,{"$f":"SUM(B183:AF183)","v":0},"　出勤",{"$f":"COUNTIF(B182:AF182,\"出\")","v":0},{"$f":"AI183*7.8","v":0},{"$f":"AG184","v":0},{"$f":"AJ183-AK183","v":0},{"$f":"ROUNDDOWN(AL183*請求書・納品書!$M$11,)","v":0}]
["遅・早(出)",null,null,null,null,null,null,null,null,null,null,null,null,null,null,null,null,null,null,null,null,null,null,null,null,null,null,null,null,null,null,null,{"$f":"SUM(B184:AF184)","v":0},"　残業",null,null,null,{"$f":"AG183","v":0},{"$f":"ROUNDDOWN(AL184*請求書・納品書!$M$12,)","v":0}]
["遅・早(公)",null,null,null,null,null,null,null,null,null,null,null,null,null,null,null,null,null,null,null,null,null,null,null,null,null,null,null,null,null,null,null,{"$f":"SUM(B185:AF185)","v":0},"　公出",{"$f":"COUNTIF(B182:AF182,\"公\")","v":0},{"$f":"AI185*7.8","v":0},{"$f":"AG185","v":0},{"$f":"AJ185-AK185","v":0},{"$f":"ROUNDDOWN(AL185*請求書・納品書!$M$13,)","v":0}]
["連続",null,null,null,null,null,null,null,null,null,null,null,null,null,null,null,null,null,null,null,null,null,null,null,null,null,null,null,null,null,null,null,{"$f":"SUM(B186:AF186)","v":0},"　連続",null,null,null,{"$f":"AG186","v":0},{"$f":"AL186*請求書・納品書!$M$14","v":0}]
[null,null,null,null,null,null,null,null,null,null,null,null,null,null,null,null,null,null,null,null,null,null,null,null,null,null,null,null,null,null,null,null,null,null,null,null,null,"合　計",{"$f":"SUM(AM183:AM186)","v":0}]
[null,null,null,null,null,null,null,null,null,null,null,null,null,null,null,null,null,null,null,null,null,null,null,null,null,null,null,null,null,null,null,null,null,{"$f":"A188","v":0},"日数(日)","勤務時間(h)"," 早退（h）","合計(h)","金額(円)"]
["残業",null,null,null,null,null,null,null,null,null,null,null,null,null,null,null,null,null,null,null,null,null,null,null,null,null,null,null,null,null,null,null,{"$f":"SUM(B189:AF189)","v":0},"　出勤",{"$f":"COUNTIF(B188:AF188,\"出\")","v":0},{"$f":"AI189*7.8","v":0},{"$f":"AG190","v":0},{"$f":"AJ189-AK189","v":0},{"$f":"ROUNDDOWN(AL189*請求書・納品書!$M$11,)","v":0}]
["遅・早(出)",null,null,null,null,null,null,null,null,null,null,null,null,null,null,null,null,null,null,null,null,null,null,null,null,null,null,null,null,null,null,null,{"$f":"SUM(B190:AF190)","v":0},"　残業",null,null,null,{"$f":"AG189","v":0},{"$f":"ROUNDDOWN(AL190*請求書・納品書!$M$12,)","v":0}]
["遅・早(公)",null,null,null,null,null,null,null,null,null,null,null,null,null,null,null,null,null,null,null,null,null,null,null,null,null,null,null,null,null,null,null,{"$f":"SUM(B191:AF191)","v":0},"　公出",{"$f":"COUNTIF(B188:AF188,\"公\")","v":0},{"$f":"AI191*7.8","v":0},{"$f":"AG191","v":0},{"$f":"AJ191-AK191","v":0},{"$f":"ROUNDDOWN(AL191*請求書・納品書!$M$13,)","v":0}]
["連続",null,null,null,null,null,null,null,null,null,null,null,null,null,null,null,null,null,null,null,null,null,null,null,null,null,null,null,null,null,null,null,{"$f":"SUM(B192:AF192)","v":0},"　連続",null,null,null,{"$f":"AG192","v":0},{"$f":"AL192*請求書・納品書!$M$14","v":0}]
[null,null,null,null,null,null,null,null,null,null,null,null,null,null,null,null,null,null,null,null,null,null,null,null,null,null,null,null,null,null,null,null,null,null,null,null,null,"合　計",{"$f":"SUM(AM189:AM192)","v":0},null,{"$f":"AM175+AM181+AM187+AM193","v":0}]

{"sheet":"9","index":5,"n_rows":193,"n_cols":42,"rows_kept":193,"cut":false,"hidden":false,"merged":[]}
[{"$f":"'4'!A1","v":2010},1,2,3,4,5,6,7,8,9,10,11,12,13,14,15,16,17,18,19,20,21,22,23,24,25,26,27,28,29,30,31,"計",{"$f":"A1&\"年\"&MID(CELL(\"filename\",$A$1),FIND(\"]\",CELL(\"filename\",$A$1))+1,31) &\"月\"","v":"2010年9月"}]
[null,null,null,null,null,null,null,null,null,null,null,null,null,null,null,null,null,null,null,null,null,null,null,null,null,null,null,null,null,null,null,null,null,{"$f":"A2","v":0},"日数(日)","勤務時間(h)"," 早退（h）","合計(h)","金額(円)","出","　合計",{"$f":"SUM(AM:AM)/2","v":0}]
["残業",null,null,null,null,null,null,null,null,null,null,null,null,null,null,null,null,null,null,null,null,null,null,null,null,null,null,null,null,null,null,null,{"$f":"SUM(B3:AF3)","v":0},"　出勤",{"$f":"COUNTIF(B2:AF2,\"出\")","v":0},{"$f":"AI3*7.8","v":0},{"$f":"AG4","v":0},{"$f":"AJ3-AK3","v":0},{"$f":"ROUNDDOWN(AL3*請求書・納品書!$M$11,)","v":0},"公","　人数",{"$f":"COUNTA(AH:AH)-COUNTIF(AH:AH,0)-32*4-1","v":0}]
["遅・早(出)",null,null,null,null,null,null,null,null,null,null,null,null,null,null,null,null,null,null,null,null,null,null,null,null,null,null,null,null,null,null,null,{"$f":"SUM(B4:AF4)","v":0},"　残業",null,null,null,{"$f":"AG3","v":0},{"$f":"ROUNDDOWN(AL4*請求書・納品書!$M$12,)","v":0},"欠","　管理費",{"$f":"(AP3-AP9)*19400","v":0}]
["遅・早(公)",null,null,null,null,null,null,null,null,null,null,null,null,null,null,null,null,null,null,null,null,null,null,null,null,null,null,null,null,null,null,null,{"$f":"SUM(B5:AF5)","v":0},"　公出",{"$f":"COUNTIF(B2:AF2,\"公\")","v":0},{"$f":"AI5*7.8","v":0},{"$f":"AG5","v":0},{"$f":"AJ5-AK5","v":0},{"$f":"ROUNDDOWN(AL5*請求書・納品書!$M$13,)","v":0},"有","　小計",{"$f":"AP2+AP4","v":0}]
["連続",null,null,null,null,null,null,null,null,null,null,null,null,null,null,null,null,null,null,null,null,null,null,null,null,null,null,null,null,null,null,null,{"$f":"SUM(B6:AF6)","v":0},"　連続",null,null,null,{"$f":"AG6","v":0},{"$f":"AL6*請求書・納品書!$M$14","v":0},"半","　消費税",{"$f":"ROUNDDOWN(AP5*0.05,)","v":0}]
[null,null,null,null,null,null,null,null,null,null,null,null,null,null,null,null,null,null,null,null,null,null,null,null,null,null,null,null,null,null,null,null,null,null,null,null,null,"合　計",{"$f":"SUM(AM3:AM6)","v":0},null,"　総合計",{"$f":"AP5+AP6","v":0}]
[null,null,null,null,null,null,null,null,null,null,null,null,null,null,null,null,null,null,null,null,null,null,null,null,null,null,null,null,null,null,null,null,null,{"$f":"A8","v":0},"日数(日)","勤務時間(h)"," 早退（h）","合計(h)","金額(円)"]
["残業",null,null,null,null,null,null,null,null,null,null,null,null,null,null,null,null,null,null,null,null,null,null,null,null,null,null,null,null,null,null,null,{"$f":"SUM(B9:AF9)","v":0},"　出勤",{"$f":"COUNTIF(B8:AF8,\"出\")","v":0},{"$f":"AI9*7.8","v":0},{"$f":"AG10","v":0},{"$f":"AJ9-AK9","v":0},{"$f":"ROUNDDOWN(AL9*請求書・納品書!$M$11,)","v":0},null,"管理費に入れない人数"]
["遅・早(出)",null,null,null,null,null,null,null,null,null,null,null,null,null,null,null,null,null,null,null,null,null,null,null,null,null,null,null,null,null,null,null,{"$f":"SUM(B10:AF10)","v":0},"　残業",null,null,null,{"$f":"AG9","v":0},{"$f":"ROUNDDOWN(AL10*請求書・納品書!$M$12,)","v":0}]
["遅・早(公)",null,null,null,null,null,null,null,null,null,null,null,null,null,null,null,null,null,null,null,null,null,null,null,null,null,null,null,null,null,null,null,{"$f":"SUM(B11:AF11)","v":0},"　公出",{"$f":"COUNTIF(B8:AF8,\"公\")","v":0},{"$f":"AI11*7.8","v":0},{"$f":"AG11","v":0},{"$f":"AJ11-AK11","v":0},{"$f":"ROUNDDOWN(AL11*請求書・納品書!$M$13,)","v":0}]
["連続",null,null,null,null,null,null,null,null,null,null,null,null,null,null,null,null,null,null,null,null,null,null,null,null,null,null,null,null,null,null,null,{"$f":"SUM(B12:AF12)","v":0},"　連続",null,null,null,{"$f":"AG12","v":0},{"$f":"AL12*請求書・納品書!$M$14","v":0}]
[null,null,null,null,null,null,null,null,null,null,null,null,null,null,null,null,null,null,null,null,null,null,null,null,null,null,null,null,null,null,null,null,null,null,null,null,null,"合　計",{"$f":"SUM(AM9:AM12)","v":0}]
[null,null,null,null,null,null,null,null,null,null,null,null,null,null,null,null,null,null,null,null,null,null,null,null,null,null,null,null,null,null,null,null,null,{"$f":"A14","v":0},"日数(日)","勤務時間(h)"," 早退（h）","合計(h)","金額(円)"]
["残業",null,null,null,null,null,null,null,null,null,null,null,null,null,null,null,null,null,null,null,null,null,null,null,null,null,null,null,null,null,null,null,{"$f":"SUM(B15:AF15)","v":0},"　出勤",{"$f":"COUNTIF(B14:AF14,\"出\")","v":0},{"$f":"AI15*7.8","v":0},{"$f":"AG16","v":0},{"$f":"AJ15-AK15","v":0},{"$f":"ROUNDDOWN(AL15*請求書・納品書!$M$11,)","v":0}]
["遅・早(出)",null,null,null,null,null,null,null,null,null,null,null,null,null,null,null,null,null,null,null,null,null,null,null,null,null,null,null,null,null,null,null,{"$f":"SUM(B16:AF16)","v":0},"　残業",null,null,null,{"$f":"AG15","v":0},{"$f":"ROUNDDOWN(AL16*請求書・納品書!$M$12,)","v":0}]
["遅・早(公)",null,null,null,null,null,null,null,null,null,null,null,null,null,null,null,null,null,null,null,null,null,null,null,null,null,null,null,null,null,null,null,{"$f":"SUM(B17:AF17)","v":0},"　公出",{"$f":"COUNTIF(B14:AF14,\"公\")","v":0},{"$f":"AI17*7.8","v":0},{"$f":"AG17","v":0},{"$f":"AJ17-AK17","v":0},{"$f":"ROUNDDOWN(AL17*請求書・納品書!$M$13,)","v":0}]
["連続",null,null,null,null,null,null,null,null,null,null,null,null,null,null,null,null,null,null,null,null,null,null,null,null,null,null,null,null,null,null,null,{"$f":"SUM(B18:AF18)","v":0},"　連続",null,null,null,{"$f":"AG18","v":0},{"$f":"AL18*請求書・納品書!$M$14","v":0}]
[null,null,null,null,null,null,null,null,null,null,null,null,null,null,null,null,null,null,null,null,null,null,null,null,null,null,null,null,null,null,null,null,null,null,null,null,null,"合　計",{"$f":"SUM(AM15:AM18)","v":0}]
[null,null,null,null,null,null,null,null,null,null,null,null,null,null,null,null,null,null,null,null,null,null,null,null,null,null,null,null,null,null,null,null,null,{"$f":"A20","v":0},"日数(日)","勤務時間(h)"," 早退（h）","合計(h)","金額(円)"]
["残業",null,null,null,null,null,null,null,null,null,null,null,null,null,null,null,null,null,null,null,null,null,null,null,null,null,null,null,null,null,null,null,{"$f":"SUM(B21:AF21)","v":0},"　出勤",{"$f":"COUNTIF(B20:AF20,\"出\")","v":0},{"$f":"AI21*7.8","v":0},{"$f":"AG22","v":0},{"$f":"AJ21-AK21","v":0},{"$f":"ROUNDDOWN(AL21*請求書・納品書!$M$11,)","v":0}]
["遅・早(出)",null,null,null,null,null,null,null,null,null,null,null,null,null,null,null,null,null,null,null,null,null,null,null,null,null,null,null,null,null,null,null,{"$f":"SUM(B22:AF22)","v":0},"　残業",null,null,null,{"$f":"AG21","v":0},{"$f":"ROUNDDOWN(AL22*請求書・納品書!$M$12,)","v":0}]
["遅・早(公)",null,null,null,null,null,null,null,null,null,null,null,null,null,null,null,null,null,null,null,null,null,null,null,null,null,null,null,null,null,null,null,{"$f":"SUM(B23:AF23)","v":0},"　公出",{"$f":"COUNTIF(B20:AF20,\"公\")","v":0},{"$f":"AI23*7.8","v":0},{"$f":"AG23","v":0},{"$f":"AJ23-AK23","v":0},{"$f":"ROUNDDOWN(AL23*請求書・納品書!$M$13,)","v":0}]
["連続",null,null,null,null,null,null,null,null,null,null,null,null,null,null,null,null,null,null,null,null,null,null,null,null,null,null,null,null,null,null,null,{"$f":"SUM(B24:AF24)","v":0},"　連続",null,null,null,{"$f":"AG24","v":0},{"$f":"AL24*請求書・納品書!$M$14","v":0}]
[null,null,null,null,null,null,null,null,null,null,null,null,null,null,null,null,null,null,null,null,null,null,null,null,null,null,null,null,null,null,null,null,null,null,null,null,null,"合　計",{"$f":"SUM(AM21:AM24)","v":0},null,{"$f":"AM7+AM13+AM19+AM25","v":0}]
[null,null,null,null,null,null,null,null,null,null,null,null,null,null,null,null,null,null,null,null,null,null,null,null,null,null,null,null,null,null,null,null,null,{"$f":"A26","v":0},"日数(日)","勤務時間(h)"," 早退（h）","合計(h)","金額(円)"]
["残業",null,null,null,null,null,null,null,null,null,null,null,null,null,null,null,null,null,null,null,null,null,null,null,null,null,null,null,null,null,null,null,{"$f":"SUM(B27:AF27)","v":0},"　出勤",{"$f":"COUNTIF(B26:AF26,\"出\")","v":0},{"$f":"AI27*7.8","v":0},{"$f":"AG28","v":0},{"$f":"AJ27-AK27","v":0},{"$f":"ROUNDDOWN(AL27*請求書・納品書!$M$11,)","v":0}]
["遅・早(出)",null,null,null,null,null,null,null,null,null,null,null,null,null,null,null,null,null,null,null,null,null,null,null,null,null,null,null,null,null,null,null,{"$f":"SUM(B28:AF28)","v":0},"　残業",null,null,null,{"$f":"AG27","v":0},{"$f":"ROUNDDOWN(AL28*請求書・納品書!$M$12,)","v":0}]
["遅・早(公)",null,null,null,null,null,null,null,null,null,null,null,null,null,null,null,null,null,null,null,null,null,null,null,null,null,null,null,null,null,null,null,{"$f":"SUM(B29:AF29)","v":0},"　公出",{"$f":"COUNTIF(B26:AF26,\"公\")","v":0},{"$f":"AI29*7.8","v":0},{"$f":"AG29","v":0},{"$f":"AJ29-AK29","v":0},{"$f":"ROUNDDOWN(AL29*請求書・納品書!$M$13,)","v":0}]
["連続",null,null,null,null,null,null,null,null,null,null,null,null,null,null,null,null,null,null,null,null,null,null,null,null,null,null,null,null,null,null,null,{"$f":"SUM(B30:AF30)","v":0},"　連続",null,null,null,{"$f":"AG30","v":0},{"$f":"AL30*請求書・納品書!$M$14","v":0}]
[null,null,null,null,null,null,null,null,null,null,null,null,null,null,null,null,null,null,null,null,null,null,null,null,null,null,null,null,null,null,null,null,null,null,null,null,null,"合　計",{"$f":"SUM(AM27:AM30)","v":0}]
[null,null,null,null,null,null,null,null,null,null,null,null,null,null,null,null,null,null,null,null,null,null,null,null,null,null,null,null,null,null,null,null,null,{"$f":"A32","v":0},"日数(日)","勤務時間(h)"," 早退（h）","合計(h)","金額(円)"]
["残業",null,null,null,null,null,null,null,null,null,null,null,null,null,null,null,null,null,null,null,null,null,null,null,null,null,null,null,null,null,null,null,{"$f":"SUM(B33:AF33)","v":0},"　出勤",{"$f":"COUNTIF(B32:AF32,\"出\")","v":0},{"$f":"AI33*7.8","v":0},{"$f":"AG34","v":0},{"$f":"AJ33-AK33","v":0},{"$f":"ROUNDDOWN(AL33*請求書・納品書!$M$11,)","v":0}]
["遅・早(出)",null,null,null,null,null,null,null,null,null,null,null,null,null,null,null,null,null,null,null,null,null,null,null,null,null,null,null,null,null,null,null,{"$f":"SUM(B34:AF34)","v":0},"　残業",null,null,null,{"$f":"AG33","v":0},{"$f":"ROUNDDOWN(AL34*請求書・納品書!$M$12,)","v":0}]
["遅・早(公)",null,null,null,null,null,null,null,null,null,null,null,null,null,null,null,null,null,null,null,null,null,null,null,null,null,null,null,null,null,null,null,{"$f":"SUM(B35:AF35)","v":0},"　公出",{"$f":"COUNTIF(B32:AF32,\"公\")","v":0},{"$f":"AI35*7.8","v":0},{"$f":"AG35","v":0},{"$f":"AJ35-AK35","v":0},{"$f":"ROUNDDOWN(AL35*請求書・納品書!$M$13,)","v":0}]
["連続",null,null,null,null,null,null,null,null,null,null,null,null,null,null,null,null,null,null,null,null,null,null,null,null,null,null,null,null,null,null,null,{"$f":"SUM(B36:AF36)","v":0},"　連続",null,null,null,{"$f":"AG36","v":0},{"$f":"AL36*請求書・納品書!$M$14","v":0}]
[null,null,null,null,null,null,null,null,null,null,null,null,null,null,null,null,null,null,null,null,null,null,null,null,null,null,null,null,null,null,null,null,null,null,null,null,null,"合　計",{"$f":"SUM(AM33:AM36)","v":0}]
[null,null,null,null,null,null,null,null,null,null,null,null,null,null,null,null,null,null,null,null,null,null,null,null,null,null,null,null,null,null,null,null,null,{"$f":"A38","v":0},"日数(日)","勤務時間(h)"," 早退（h）","合計(h)","金額(円)"]
["残業",null,null,null,null,null,null,null,null,null,null,null,null,null,null,null,null,null,null,null,null,null,null,null,null,null,null,null,null,null,null,null,{"$f":"SUM(B39:AF39)","v":0},"　出勤",{"$f":"COUNTIF(B38:AF38,\"出\")","v":0},{"$f":"AI39*7.8","v":0},{"$f":"AG40","v":0},{"$f":"AJ39-AK39","v":0},{"$f":"ROUNDDOWN(AL39*請求書・納品書!$M$11,)","v":0}]
["遅・早(出)",null,null,null,null,null,null,null,null,null,null,null,null,null,null,null,null,null,null,null,null,null,null,null,null,null,null,null,null,null,null,null,{"$f":"SUM(B40:AF40)","v":0},"　残業",null,null,null,{"$f":"AG39","v":0},{"$f":"ROUNDDOWN(AL40*請求書・納品書!$M$12,)","v":0}]
["遅・早(公)",null,null,null,null,null,null,null,null,null,null,null,null,null,null,null,null,null,null,null,null,null,null,null,null,null,null,null,null,null,null,null,{"$f":"SUM(B41:AF41)","v":0},"　公出",{"$f":"COUNTIF(B38:AF38,\"公\")","v":0},{"$f":"AI41*7.8","v":0},{"$f":"AG41","v":0},{"$f":"AJ41-AK41","v":0},{"$f":"ROUNDDOWN(AL41*請求書・納品書!$M$13,)","v":0}]
["連続",null,null,null,null,null,null,null,null,null,null,null,null,null,null,null,null,null,null,null,null,null,null,null,null,null,null,null,null,null,null,null,{"$f":"SUM(B42:AF42)","v":0},"　連続",null,null,null,{"$f":"AG42","v":0},{"$f":"AL42*請求書・納品書!$M$14","v":0}]
[null,null,null,null,null,null,null,null,null,null,null,null,null,null,null,null,null,null,null,null,null,null,null,null,null,null,null,null,null,null,null,null,null,null,null,null,null,"合　計",{"$f":"SUM(AM39:AM42)","v":0}]
[null,null,null,null,null,null,null,null,null,null,null,null,null,null,null,null,null,null,null,null,null,null,null,null,null,null,null,null,null,null,null,null,null,{"$f":"A44","v":0},"日数(日)","勤務時間(h)"," 早退（h）","合計(h)","金額(円)"]
["残業",null,null,null,null,null,null,null,null,null,null,null,null,null,null,null,null,null,null,null,null,null,null,null,null,null,null,null,null,null,null,null,{"$f":"SUM(B45:AF45)","v":0},"　出勤",{"$f":"COUNTIF(B44:AF44,\"出\")","v":0},{"$f":"AI45*7.8","v":0},{"$f":"AG46","v":0},{"$f":"AJ45-AK45","v":0},{"$f":"ROUNDDOWN(AL45*請求書・納品書!$M$11,)","v":0}]
["遅・早(出)",null,null,null,null,null,null,null,null,null,null,null,null,null,null,null,null,null,null,null,null,null,null,null,null,null,null,null,null,null,null,null,{"$f":"SUM(B46:AF46)","v":0},"　残業",null,null,null,{"$f":"AG45","v":0},{"$f":"ROUNDDOWN(AL46*請求書・納品書!$M$12,)","v":0}]
["遅・早(公)",null,null,null,null,null,null,null,null,null,null,null,null,null,null,null,null,null,null,null,null,null,null,null,null,null,null,null,null,null,null,null,{"$f":"SUM(B47:AF47)","v":0},"　公出",{"$f":"COUNTIF(B44:AF44,\"公\")","v":0},{"$f":"AI47*7.8","v":0},{"$f":"AG47","v":0},{"$f":"AJ47-AK47","v":0},{"$f":"ROUNDDOWN(AL47*請求書・納品書!$M$13,)","v":0}]
["連続",null,null,null,null,null,null,null,null,null,null,null,null,null,null,null,null,null,null,null,null,null,null,null,null,null,null,null,null,null,null,null,{"$f":"SUM(B48:AF48)","v":0},"　連続",null,null,null,{"$f":"AG48","v":0},{"$f":"AL48*請求書・納品書!$M$14","v":0}]
[null,null,null,null,null,null,null,null,null,null,null,null,null,null,null,null,null,null,null,null,null,null,null,null,null,null,null,null,null,null,null,null,null,null,null,null,null,"合　計",{"$f":"SUM(AM45:AM48)","v":0},null,{"$f":"AM31+AM37+AM43+AM49","v":0}]
[null,null,null,null,null,null,null,null,null,null,null,null,null,null,null,null,null,null,null,null,null,null,null,null,null,null,null,null,null,null,null,null,null,{"$f":"A50","v":0},"日数(日)","勤務時間(h)"," 早退（h）","合計(h)","金額(円)"]
["残業",null,null,null,null,null,null,null,null,null,null,null,null,null,null,null,null,null,null,null,null,null,null,null,null,null,null,null,null,null,null,null,{"$f":"SUM(B51:AF51)","v":0},"　出勤",{"$f":"COUNTIF(B50:AF50,\"出\")","v":0},{"$f":"AI51*7.8","v":0},{"$f":"AG52","v":0},{"$f":"AJ51-AK51","v":0},{"$f":"ROUNDDOWN(AL51*請求書・納品書!$M$11,)","v":0}]
["遅・早(出)",null,null,null,null,null,null,null,null,null,null,null,null,null,null,null,null,null,null,null,null,null,null,null,null,null,null,null,null,null,null,null,{"$f":"SUM(B52:AF52)","v":0},"　残業",null,null,null,{"$f":"AG51","v":0},{"$f":"ROUNDDOWN(AL52*請求書・納品書!$M$12,)","v":0}]
["遅・早(公)",null,null,null,null,null,null,null,null,null,null,null,null,null,null,null,null,null,null,null,null,null,null,null,null,null,null,null,null,null,null,null,{"$f":"SUM(B53:AF53)","v":0},"　公出",{"$f":"COUNTIF(B50:AF50,\"公\")","v":0},{"$f":"AI53*7.8","v":0},{"$f":"AG53","v":0},{"$f":"AJ53-AK53","v":0},{"$f":"ROUNDDOWN(AL53*請求書・納品書!$M$13,)","v":0}]
["連続",null,null,null,null,null,null,null,null,null,null,null,null,null,null,null,null,null,null,null,null,null,null,null,null,null,null,null,null,null,null,null,{"$f":"SUM(B54:AF54)","v":0},"　連続",null,null,null,{"$f":"AG54","v":0},{"$f":"AL54*請求書・納品書!$M$14","v":0}]
[null,null,null,null,null,null,null,null,null,null,null,null,null,null,null,null,null,null,null,null,null,null,null,null,null,null,null,null,null,null,null,null,null,null,null,null,null,"合　計",{"$f":"SUM(AM51:AM54)","v":0}]
[null,null,null,null,null,null,null,null,null,null,null,null,null,null,null,null,null,null,null,null,null,null,null,null,null,null,null,null,null,null,null,null,null,{"$f":"A56","v":0},"日数(日)","勤務時間(h)"," 早退（h）","合計(h)","金額(円)"]
["残業",null,null,null,null,null,null,null,null,null,null,null,null,null,null,null,null,null,null,null,null,null,null,null,null,null,null,null,null,null,null,null,{"$f":"SUM(B57:AF57)","v":0},"　出勤",{"$f":"COUNTIF(B56:AF56,\"出\")","v":0},{"$f":"AI57*7.8","v":0},{"$f":"AG58","v":0},{"$f":"AJ57-AK57","v":0},{"$f":"ROUNDDOWN(AL57*請求書・納品書!$M$11,)","v":0}]
["遅・早(出)",null,null,null,null,null,null,null,null,null,null,null,null,null,null,null,null,null,null,null,null,null,null,null,null,null,null,null,null,null,null,null,{"$f":"SUM(B58:AF58)","v":0},"　残業",null,null,null,{"$f":"AG57","v":0},{"$f":"ROUNDDOWN(AL58*請求書・納品書!$M$12,)","v":0}]
["遅・早(公)",null,null,null,null,null,null,null,null,null,null,null,null,null,null,null,null,null,null,null,null,null,null,null,null,null,null,null,null,null,null,null,{"$f":"SUM(B59:AF59)","v":0},"　公出",{"$f":"COUNTIF(B56:AF56,\"公\")","v":0},{"$f":"AI59*7.8","v":0},{"$f":"AG59","v":0},{"$f":"AJ59-AK59","v":0},{"$f":"ROUNDDOWN(AL59*請求書・納品書!$M$13,)","v":0}]
["連続",null,null,null,null,null,null,null,null,null,null,null,null,null,null,null,null,null,null,null,null,null,null,null,null,null,null,null,null,null,null,null,{"$f":"SUM(B60:AF60)","v":0},"　連続",null,null,null,{"$f":"AG60","v":0},{"$f":"AL60*請求書・納品書!$M$14","v":0}]
[null,null,null,null,null,null,null,null,null,null,null,null,null,null,null,null,null,null,null,null,null,null,null,null,null,null,null,null,null,null,null,null,null,null,null,null,null,"合　計",{"$f":"SUM(AM57:AM60)","v":0}]
[null,null,null,null,null,null,null,null,null,null,null,null,null,null,null,null,null,null,null,null,null,null,null,null,null,null,null,null,null,null,null,null,null,{"$f":"A62","v":0},"日数(日)","勤務時間(h)"," 早退（h）","合計(h)","金額(円)"]
["残業",null,null,null,null,null,null,null,null,null,null,null,null,null,null,null,null,null,null,null,null,null,null,null,null,null,null,null,null,null,null,null,{"$f":"SUM(B63:AF63)","v":0},"　出勤",{"$f":"COUNTIF(B62:AF62,\"出\")","v":0},{"$f":"AI63*7.8","v":0},{"$f":"AG64","v":0},{"$f":"AJ63-AK63","v":0},{"$f":"ROUNDDOWN(AL63*請求書・納品書!$M$11,)","v":0}]
["遅・早(出)",null,null,null,null,null,null,null,null,null,null,null,null,null,null,null,null,null,null,null,null,null,null,null,null,null,null,null,null,null,null,null,{"$f":"SUM(B64:AF64)","v":0},"　残業",null,null,null,{"$f":"AG63","v":0},{"$f":"ROUNDDOWN(AL64*請求書・納品書!$M$12,)","v":0}]
["遅・早(公)",null,null,null,null,null,null,null,null,null,null,null,null,null,null,null,null,null,null,null,null,null,null,null,null,null,null,null,null,null,null,null,{"$f":"SUM(B65:AF65)","v":0},"　公出",{"$f":"COUNTIF(B62:AF62,\"公\")","v":0},{"$f":"AI65*7.8","v":0},{"$f":"AG65","v":0},{"$f":"AJ65-AK65","v":0},{"$f":"ROUNDDOWN(AL65*請求書・納品書!$M$13,)","v":0}]
["連続",null,null,null,null,null,null,null,null,null,null,null,null,null,null,null,null,null,null,null,null,null,null,null,null,null,null,null,null,null,null,null,{"$f":"SUM(B66:AF66)","v":0},"　連続",null,null,null,{"$f":"AG66","v":0},{"$f":"AL66*請求書・納品書!$M$14","v":0}]
[null,null,null,null,null,null,null,null,null,null,null,null,null,null,null,null,null,null,null,null,null,null,null,null,null,null,null,null,null,null,null,null,null,null,null,null,null,"合　計",{"$f":"SUM(AM63:AM66)","v":0}]
[null,null,null,null,null,null,null,null,null,null,null,null,null,null,null,null,null,null,null,null,null,null,null,null,null,null,null,null,null,null,null,null,null,{"$f":"A68","v":0},"日数(日)","勤務時間(h)"," 早退（h）","合計(h)","金額(円)"]
["残業",null,null,null,null,null,null,null,null,null,null,null,null,null,null,null,null,null,null,null,null,null,null,null,null,null,null,null,null,null,null,null,{"$f":"SUM(B69:AF69)","v":0},"　出勤",{"$f":"COUNTIF(B68:AF68,\"出\")","v":0},{"$f":"AI69*7.8","v":0},{"$f":"AG70","v":0},{"$f":"AJ69-AK69","v":0},{"$f":"ROUNDDOWN(AL69*請求書・納品書!$M$11,)","v":0}]
["遅・早(出)",null,null,null,null,null,null,null,null,null,null,null,null,null,null,null,null,null,null,null,null,null,null,null,null,null,null,null,null,null,null,null,{"$f":"SUM(B70:AF70)","v":0},"　残業",null,null,null,{"$f":"AG69","v":0},{"$f":"ROUNDDOWN(AL70*請求書・納品書!$M$12,)","v":0}]
["遅・早(公)",null,null,null,null,null,null,null,null,null,null,null,null,null,null,null,null,null,null,null,null,null,null,null,null,null,null,null,null,null,null,null,{"$f":"SUM(B71:AF71)","v":0},"　公出",{"$f":"COUNTIF(B68:AF68,\"公\")","v":0},{"$f":"AI71*7.8","v":0},{"$f":"AG71","v":0},{"$f":"AJ71-AK71","v":0},{"$f":"ROUNDDOWN(AL71*請求書・納品書!$M$13,)","v":0}]
["連続",null,null,null,null,null,null,null,null,null,null,null,null,null,null,null,null,null,null,null,null,null,null,null,null,null,null,null,null,null,null,null,{"$f":"SUM(B72:AF72)","v":0},"　連続",null,null,null,{"$f":"AG72","v":0},{"$f":"AL72*請求書・納品書!$M$14","v":0}]
[null,null,null,null,null,null,null,null,null,null,null,null,null,null,null,null,null,null,null,null,null,null,null,null,null,null,null,null,null,null,null,null,null,null,null,null,null,"合　計",{"$f":"SUM(AM69:AM72)","v":0},null,{"$f":"AM55+AM61+AM67+AM73","v":0}]
[null,null,null,null,null,null,null,null,null,null,null,null,null,null,null,null,null,null,null,null,null,null,null,null,null,null,null,null,null,null,null,null,null,{"$f":"A74","v":0},"日数(日)","勤務時間(h)"," 早退（h）","合計(h)","金額(円)"]
["残業",null,null,null,null,null,null,null,null,null,null,null,null,null,null,null,null,null,null,null,null,null,null,null,null,null,null,null,null,null,null,null,{"$f":"SUM(B75:AF75)","v":0},"　出勤",{"$f":"COUNTIF(B74:AF74,\"出\")","v":0},{"$f":"AI75*7.8","v":0},{"$f":"AG76","v":0},{"$f":"AJ75-AK75","v":0},{"$f":"ROUNDDOWN(AL75*請求書・納品書!$M$11,)","v":0}]
["遅・早(出)",null,null,null,null,null,null,null,null,null,null,null,null,null,null,null,null,null,null,null,null,null,null,null,null,null,null,null,null,null,null,null,{"$f":"SUM(B76:AF76)","v":0},"　残業",null,null,null,{"$f":"AG75","v":0},{"$f":"ROUNDDOWN(AL76*請求書・納品書!$M$12,)","v":0}]
["遅・早(公)",null,null,null,null,null,null,null,null,null,null,null,null,null,null,null,null,null,null,null,null,null,null,null,null,null,null,null,null,null,null,null,{"$f":"SUM(B77:AF77)","v":0},"　公出",{"$f":"COUNTIF(B74:AF74,\"公\")","v":0},{"$f":"AI77*7.8","v":0},{"$f":"AG77","v":0},{"$f":"AJ77-AK77","v":0},{"$f":"ROUNDDOWN(AL77*請求書・納品書!$M$13,)","v":0}]
["連続",null,null,null,null,null,null,null,null,null,null,null,null,null,null,null,null,null,null,null,null,null,null,null,null,null,null,null,null,null,null,null,{"$f":"SUM(B78:AF78)","v":0},"　連続",null,null,null,{"$f":"AG78","v":0},{"$f":"AL78*請求書・納品書!$M$14","v":0}]
[null,null,null,null,null,null,null,null,null,null,null,null,null,null,null,null,null,null,null,null,null,null,null,null,null,null,null,null,null,null,null,null,null,null,null,null,null,"合　計",{"$f":"SUM(AM75:AM78)","v":0}]
[null,null,null,null,null,null,null,null,null,null,null,null,null,null,null,null,null,null,null,null,null,null,null,null,null,null,null,null,null,null,null,null,null,{"$f":"A80","v":0},"日数(日)","勤務時間(h)"," 早退（h）","合計(h)","金額(円)"]
["残業",null,null,null,null,null,null,null,null,null,null,null,null,null,null,null,null,null,null,null,null,null,null,null,null,null,null,null,null,null,null,null,{"$f":"SUM(B81:AF81)","v":0},"　出勤",{"$f":"COUNTIF(B80:AF80,\"出\")","v":0},{"$f":"AI81*7.8","v":0},{"$f":"AG82","v":0},{"$f":"AJ81-AK81","v":0},{"$f":"ROUNDDOWN(AL81*請求書・納品書!$M$11,)","v":0}]
["遅・早(出)",null,null,null,null,null,null,null,null,null,null,null,null,null,null,null,null,null,null,null,null,null,null,null,null,null,null,null,null,null,null,null,{"$f":"SUM(B82:AF82)","v":0},"　残業",null,null,null,{"$f":"AG81","v":0},{"$f":"ROUNDDOWN(AL82*請求書・納品書!$M$12,)","v":0}]
["遅・早(公)",null,null,null,null,null,null,null,null,null,null,null,null,null,null,null,null,null,null,null,null,null,null,null,null,null,null,null,null,null,null,null,{"$f":"SUM(B83:AF83)","v":0},"　公出",{"$f":"COUNTIF(B80:AF80,\"公\")","v":0},{"$f":"AI83*7.8","v":0},{"$f":"AG83","v":0},{"$f":"AJ83-AK83","v":0},{"$f":"ROUNDDOWN(AL83*請求書・納品書!$M$13,)","v":0}]
["連続",null,null,null,null,null,null,null,null,null,null,null,null,null,null,null,null,null,null,null,null,null,null,null,null,null,null,null,null,null,null,null,{"$f":"SUM(B84:AF84)","v":0},"　連続",null,null,null,{"$f":"AG84","v":0},{"$f":"AL84*請求書・納品書!$M$14","v":0}]
[null,null,null,null,null,null,null,null,null,null,null,null,null,null,null,null,null,null,null,null,null,null,null,null,null,null,null,null,null,null,null,null,null,null,null,null,null,"合　計",{"$f":"SUM(AM81:AM84)","v":0}]
[null,null,null,null,null,null,null,null,null,null,null,null,null,null,null,null,null,null,null,null,null,null,null,null,null,null,null,null,null,null,null,null,null,{"$f":"A86","v":0},"日数(日)","勤務時間(h)"," 早退（h）","合計(h)","金額(円)"]
["残業",null,null,null,null,null,null,null,null,null,null,null,null,null,null,null,null,null,null,null,null,null,null,null,null,null,null,null,null,null,null,null,{"$f":"SUM(B87:AF87)","v":0},"　出勤",{"$f":"COUNTIF(B86:AF86,\"出\")","v":0},{"$f":"AI87*7.8","v":0},{"$f":"AG88","v":0},{"$f":"AJ87-AK87","v":0},{"$f":"ROUNDDOWN(AL87*請求書・納品書!$M$11,)","v":0}]
["遅・早(出)",null,null,null,null,null,null,null,null,null,null,null,null,null,null,null,null,null,null,null,null,null,null,null,null,null,null,null,null,null,null,null,{"$f":"SUM(B88:AF88)","v":0},"　残業",null,null,null,{"$f":"AG87","v":0},{"$f":"ROUNDDOWN(AL88*請求書・納品書!$M$12,)","v":0}]
["遅・早(公)",null,null,null,null,null,null,null,null,null,null,null,null,null,null,null,null,null,null,null,null,null,null,null,null,null,null,null,null,null,null,null,{"$f":"SUM(B89:AF89)","v":0},"　公出",{"$f":"COUNTIF(B86:AF86,\"公\")","v":0},{"$f":"AI89*7.8","v":0},{"$f":"AG89","v":0},{"$f":"AJ89-AK89","v":0},{"$f":"ROUNDDOWN(AL89*請求書・納品書!$M$13,)","v":0}]
["連続",null,null,null,null,null,null,null,null,null,null,null,null,null,null,null,null,null,null,null,null,null,null,null,null,null,null,null,null,null,null,null,{"$f":"SUM(B90:AF90)","v":0},"　連続",null,null,null,{"$f":"AG90","v":0},{"$f":"AL90*請求書・納品書!$M$14","v":0}]
[null,null,null,null,null,null,null,null,null,null,null,null,null,null,null,null,null,null,null,null,null,null,null,null,null,null,null,null,null,null,null,null,null,null,null,null,null,"合　計",{"$f":"SUM(AM87:AM90)","v":0}]
[null,null,null,null,null,null,null,null,null,null,null,null,null,null,null,null,null,null,null,null,null,null,null,null,null,null,null,null,null,null,null,null,null,{"$f":"A92","v":0},"日数(日)","勤務時間(h)"," 早退（h）","合計(h)","金額(円)"]
["残業",null,null,null,null,null,null,null,null,null,null,null,null,null,null,null,null,null,null,null,null,null,null,null,null,null,null,null,null,null,null,null,{"$f":"SUM(B93:AF93)","v":0},"　出勤",{"$f":"COUNTIF(B92:AF92,\"出\")","v":0},{"$f":"AI93*7.8","v":0},{"$f":"AG94","v":0},{"$f":"AJ93-AK93","v":0},{"$f":"ROUNDDOWN(AL93*請求書・納品書!$M$11,)","v":0}]
["遅・早(出)",null,null,null,null,null,null,null,null,null,null,null,null,null,null,null,null,null,null,null,null,null,null,null,null,null,null,null,null,null,null,null,{"$f":"SUM(B94:AF94)","v":0},"　残業",null,null,null,{"$f":"AG93","v":0},{"$f":"ROUNDDOWN(AL94*請求書・納品書!$M$12,)","v":0}]
["遅・早(公)",null,null,null,null,null,null,null,null,null,null,null,null,null,null,null,null,null,null,null,null,null,null,null,null,null,null,null,null,null,null,null,{"$f":"SUM(B95:AF95)","v":0},"　公出",{"$f":"COUNTIF(B92:AF92,\"公\")","v":0},{"$f":"AI95*7.8","v":0},{"$f":"AG95","v":0},{"$f":"AJ95-AK95","v":0},{"$f":"ROUNDDOWN(AL95*請求書・納品書!$M$13,)","v":0}]
["連続",null,null,null,null,null,null,null,null,null,null,null,null,null,null,null,null,null,null,null,null,null,null,null,null,null,null,null,null,null,null,null,{"$f":"SUM(B96:AF96)","v":0},"　連続",null,null,null,{"$f":"AG96","v":0},{"$f":"AL96*請求書・納品書!$M$14","v":0}]
[null,null,null,null,null,null,null,null,null,null,null,null,null,null,null,null,null,null,null,null,null,null,null,null,null,null,null,null,null,null,null,null,null,null,null,null,null,"合　計",{"$f":"SUM(AM93:AM96)","v":0},null,{"$f":"AM79+AM85+AM91+AM97","v":0}]
[null,null,null,null,null,null,null,null,null,null,null,null,null,null,null,null,null,null,null,null,null,null,null,null,null,null,null,null,null,null,null,null,null,{"$f":"A98","v":0},"日数(日)","勤務時間(h)"," 早退（h）","合計(h)","金額(円)"]
["残業",null,null,null,null,null,null,null,null,null,null,null,null,null,null,null,null,null,null,null,null,null,null,null,null,null,null,null,null,null,null,null,{"$f":"SUM(B99:AF99)","v":0},"　出勤",{"$f":"COUNTIF(B98:AF98,\"出\")","v":0},{"$f":"AI99*7.8","v":0},{"$f":"AG100","v":0},{"$f":"AJ99-AK99","v":0},{"$f":"ROUNDDOWN(AL99*請求書・納品書!$M$11,)","v":0}]
["遅・早(出)",null,null,null,null,null,null,null,null,null,null,null,null,null,null,null,null,null,null,null,null,null,null,null,null,null,null,null,null,null,null,null,{"$f":"SUM(B100:AF100)","v":0},"　残業",null,null,null,{"$f":"AG99","v":0},{"$f":"ROUNDDOWN(AL100*請求書・納品書!$M$12,)","v":0}]
["遅・早(公)",null,null,null,null,null,null,null,null,null,null,null,null,null,null,null,null,null,null,null,null,null,null,null,null,null,null,null,null,null,null,null,{"$f":"SUM(B101:AF101)","v":0},"　公出",{"$f":"COUNTIF(B98:AF98,\"公\")","v":0},{"$f":"AI101*7.8","v":0},{"$f":"AG101","v":0},{"$f":"AJ101-AK101","v":0},{"$f":"ROUNDDOWN(AL101*請求書・納品書!$M$13,)","v":0}]
["連続",null,null,null,null,null,null,null,null,null,null,null,null,null,null,null,null,null,null,null,null,null,null,null,null,null,null,null,null,null,null,null,{"$f":"SUM(B102:AF102)","v":0},"　連続",null,null,null,{"$f":"AG102","v":0},{"$f":"AL102*請求書・納品書!$M$14","v":0}]
[null,null,null,null,null,null,null,null,null,null,null,null,null,null,null,null,null,null,null,null,null,null,null,null,null,null,null,null,null,null,null,null,null,null,null,null,null,"合　計",{"$f":"SUM(AM99:AM102)","v":0}]
[null,null,null,null,null,null,null,null,null,null,null,null,null,null,null,null,null,null,null,null,null,null,null,null,null,null,null,null,null,null,null,null,null,{"$f":"A104","v":0},"日数(日)","勤務時間(h)"," 早退（h）","合計(h)","金額(円)"]
["残業",null,null,null,null,null,null,null,null,null,null,null,null,null,null,null,null,null,null,null,null,null,null,null,null,null,null,null,null,null,null,null,{"$f":"SUM(B105:AF105)","v":0},"　出勤",{"$f":"COUNTIF(B104:AF104,\"出\")","v":0},{"$f":"AI105*7.8","v":0},{"$f":"AG106","v":0},{"$f":"AJ105-AK105","v":0},{"$f":"ROUNDDOWN(AL105*請求書・納品書!$M$11,)","v":0}]
["遅・早(出)",null,null,null,null,null,null,null,null,null,null,null,null,null,null,null,null,null,null,null,null,null,null,null,null,null,null,null,null,null,null,null,{"$f":"SUM(B106:AF106)","v":0},"　残業",null,null,null,{"$f":"AG105","v":0},{"$f":"ROUNDDOWN(AL106*請求書・納品書!$M$12,)","v":0}]
["遅・早(公)",null,null,null,null,null,null,null,null,null,null,null,null,null,null,null,null,null,null,null,null,null,null,null,null,null,null,null,null,null,null,null,{"$f":"SUM(B107:AF107)","v":0},"　公出",{"$f":"COUNTIF(B104:AF104,\"公\")","v":0},{"$f":"AI107*7.8","v":0},{"$f":"AG107","v":0},{"$f":"AJ107-AK107","v":0},{"$f":"ROUNDDOWN(AL107*請求書・納品書!$M$13,)","v":0}]
["連続",null,null,null,null,null,null,null,null,null,null,null,null,null,null,null,null,null,null,null,null,null,null,null,null,null,null,null,null,null,null,null,{"$f":"SUM(B108:AF108)","v":0},"　連続",null,null,null,{"$f":"AG108","v":0},{"$f":"AL108*請求書・納品書!$M$14","v":0}]
[null,null,null,null,null,null,null,null,null,null,null,null,null,null,null,null,null,null,null,null,null,null,null,null,null,null,null,null,null,null,null,null,null,null,null,null,null,"合　計",{"$f":"SUM(AM105:AM108)","v":0}]
[null,null,null,null,null,null,null,null,null,null,null,null,null,null,null,null,null,null,null,null,null,null,null,null,null,null,null,null,null,null,null,null,null,{"$f":"A110","v":0},"日数(日)","勤務時間(h)"," 早退（h）","合計(h)","金額(円)"]
["残業",null,null,null,null,null,null,null,null,null,null,null,null,null,null,null,null,null,null,null,null,null,null,null,null,null,null,null,null,null,null,null,{"$f":"SUM(B111:AF111)","v":0},"　出勤",{"$f":"COUNTIF(B110:AF110,\"出\")","v":0},{"$f":"AI111*7.8","v":0},{"$f":"AG112","v":0},{"$f":"AJ111-AK111","v":0},{"$f":"ROUNDDOWN(AL111*請求書・納品書!$M$11,)","v":0}]
["遅・早(出)",null,null,null,null,null,null,null,null,null,null,null,null,null,null,null,null,null,null,null,null,null,null,null,null,null,null,null,null,null,null,null,{"$f":"SUM(B112:AF112)","v":0},"　残業",null,null,null,{"$f":"AG111","v":0},{"$f":"ROUNDDOWN(AL112*請求書・納品書!$M$12,)","v":0}]
["遅・早(公)",null,null,null,null,null,null,null,null,null,null,null,null,null,null,null,null,null,null,null,null,null,null,null,null,null,null,null,null,null,null,null,{"$f":"SUM(B113:AF113)","v":0},"　公出",{"$f":"COUNTIF(B110:AF110,\"公\")","v":0},{"$f":"AI113*7.8","v":0},{"$f":"AG113","v":0},{"$f":"AJ113-AK113","v":0},{"$f":"ROUNDDOWN(AL113*請求書・納品書!$M$13,)","v":0}]
["連続",null,null,null,null,null,null,null,null,null,null,null,null,null,null,null,null,null,null,null,null,null,null,null,null,null,null,null,null,null,null,null,{"$f":"SUM(B114:AF114)","v":0},"　連続",null,null,null,{"$f":"AG114","v":0},{"$f":"AL114*請求書・納品書!$M$14","v":0}]
[null,null,null,null,null,null,null,null,null,null,null,null,null,null,null,null,null,null,null,null,null,null,null,null,null,null,null,null,null,null,null,null,null,null,null,null,null,"合　計",{"$f":"SUM(AM111:AM114)","v":0}]
[null,null,null,null,null,null,null,null,null,null,null,null,null,null,null,null,null,null,null,null,null,null,null,null,null,null,null,null,null,null,null,null,null,{"$f":"A116","v":0},"日数(日)","勤務時間(h)"," 早退（h）","合計(h)","金額(円)"]
["残業",null,null,null,null,null,null,null,null,null,null,null,null,null,null,null,null,null,null,null,null,null,null,null,null,null,null,null,null,null,null,null,{"$f":"SUM(B117:AF117)","v":0},"　出勤",{"$f":"COUNTIF(B116:AF116,\"出\")","v":0},{"$f":"AI117*7.8","v":0},{"$f":"AG118","v":0},{"$f":"AJ117-AK117","v":0},{"$f":"ROUNDDOWN(AL117*請求書・納品書!$M$11,)","v":0}]
["遅・早(出)",null,null,null,null,null,null,null,null,null,null,null,null,null,null,null,null,null,null,null,null,null,null,null,null,null,null,null,null,null,null,null,{"$f":"SUM(B118:AF118)","v":0},"　残業",null,null,null,{"$f":"AG117","v":0},{"$f":"ROUNDDOWN(AL118*請求書・納品書!$M$12,)","v":0}]
["遅・早(公)",null,null,null,null,null,null,null,null,null,null,null,null,null,null,null,null,null,null,null,null,null,null,null,null,null,null,null,null,null,null,null,{"$f":"SUM(B119:AF119)","v":0},"　公出",{"$f":"COUNTIF(B116:AF116,\"公\")","v":0},{"$f":"AI119*7.8","v":0},{"$f":"AG119","v":0},{"$f":"AJ119-AK119","v":0},{"$f":"ROUNDDOWN(AL119*請求書・納品書!$M$13,)","v":0}]
["連続",null,null,null,null,null,null,null,null,null,null,null,null,null,null,null,null,null,null,null,null,null,null,null,null,null,null,null,null,null,null,null,{"$f":"SUM(B120:AF120)","v":0},"　連続",null,null,null,{"$f":"AG120","v":0},{"$f":"AL120*請求書・納品書!$M$14","v":0}]
[null,null,null,null,null,null,null,null,null,null,null,null,null,null,null,null,null,null,null,null,null,null,null,null,null,null,null,null,null,null,null,null,null,null,null,null,null,"合　計",{"$f":"SUM(AM117:AM120)","v":0},null,{"$f":"AM103+AM109+AM115+AM121","v":0}]
[null,null,null,null,null,null,null,null,null,null,null,null,null,null,null,null,null,null,null,null,null,null,null,null,null,null,null,null,null,null,null,null,null,{"$f":"A122","v":0},"日数(日)","勤務時間(h)"," 早退（h）","合計(h)","金額(円)"]
["残業",null,null,null,null,null,null,null,null,null,null,null,null,null,null,null,null,null,null,null,null,null,null,null,null,null,null,null,null,null,null,null,{"$f":"SUM(B123:AF123)","v":0},"　出勤",{"$f":"COUNTIF(B122:AF122,\"出\")","v":0},{"$f":"AI123*7.8","v":0},{"$f":"AG124","v":0},{"$f":"AJ123-AK123","v":0},{"$f":"ROUNDDOWN(AL123*請求書・納品書!$M$11,)","v":0}]
["遅・早(出)",null,null,null,null,null,null,null,null,null,null,null,null,null,null,null,null,null,null,null,null,null,null,null,null,null,null,null,null,null,null,null,{"$f":"SUM(B124:AF124)","v":0},"　残業",null,null,null,{"$f":"AG123","v":0},{"$f":"ROUNDDOWN(AL124*請求書・納品書!$M$12,)","v":0}]
["遅・早(公)",null,null,null,null,null,null,null,null,null,null,null,null,null,null,null,null,null,null,null,null,null,null,null,null,null,null,null,null,null,null,null,{"$f":"SUM(B125:AF125)","v":0},"　公出",{"$f":"COUNTIF(B122:AF122,\"公\")","v":0},{"$f":"AI125*7.8","v":0},{"$f":"AG125","v":0},{"$f":"AJ125-AK125","v":0},{"$f":"ROUNDDOWN(AL125*請求書・納品書!$M$13,)","v":0}]
["連続",null,null,null,null,null,null,null,null,null,null,null,null,null,null,null,null,null,null,null,null,null,null,null,null,null,null,null,null,null,null,null,{"$f":"SUM(B126:AF126)","v":0},"　連続",null,null,null,{"$f":"AG126","v":0},{"$f":"AL126*請求書・納品書!$M$14","v":0}]
[null,null,null,null,null,null,null,null,null,null,null,null,null,null,null,null,null,null,null,null,null,null,null,null,null,null,null,null,null,null,null,null,null,null,null,null,null,"合　計",{"$f":"SUM(AM123:AM126)","v":0}]
[null,null,null,null,null,null,null,null,null,null,null,null,null,null,null,null,null,null,null,null,null,null,null,null,null,null,null,null,null,null,null,null,null,{"$f":"A128","v":0},"日数(日)","勤務時間(h)"," 早退（h）","合計(h)","金額(円)"]
["残業",null,null,null,null,null,null,null,null,null,null,null,null,null,null,null,null,null,null,null,null,null,null,null,null,null,null,null,null,null,null,null,{"$f":"SUM(B129:AF129)","v":0},"　出勤",{"$f":"COUNTIF(B128:AF128,\"出\")","v":0},{"$f":"AI129*7.8","v":0},{"$f":"AG130","v":0},{"$f":"AJ129-AK129","v":0},{"$f":"ROUNDDOWN(AL129*請求書・納品書!$M$11,)","v":0}]
["遅・早(出)",null,null,null,null,null,null,null,null,null,null,null,null,null,null,null,null,null,null,null,null,null,null,null,null,null,null,null,null,null,null,null,{"$f":"SUM(B130:AF130)","v":0},"　残業",null,null,null,{"$f":"AG129","v":0},{"$f":"ROUNDDOWN(AL130*請求書・納品書!$M$12,)","v":0}]
["遅・早(公)",null,null,null,null,null,null,null,null,null,null,null,null,null,null,null,null,null,null,null,null,null,null,null,null,null,null,null,null,null,null,null,{"$f":"SUM(B131:AF131)","v":0},"　公出",{"$f":"COUNTIF(B128:AF128,\"公\")","v":0},{"$f":"AI131*7.8","v":0},{"$f":"AG131","v":0},{"$f":"AJ131-AK131","v":0},{"$f":"ROUNDDOWN(AL131*請求書・納品書!$M$13,)","v":0}]
["連続",null,null,null,null,null,null,null,null,null,null,null,null,null,null,null,null,null,null,null,null,null,null,null,null,null,null,null,null,null,null,null,{"$f":"SUM(B132:AF132)","v":0},"　連続",null,null,null,{"$f":"AG132","v":0},{"$f":"AL132*請求書・納品書!$M$14","v":0}]
[null,null,null,null,null,null,null,null,null,null,null,null,null,null,null,null,null,null,null,null,null,null,null,null,null,null,null,null,null,null,null,null,null,null,null,null,null,"合　計",{"$f":"SUM(AM129:AM132)","v":0}]
[null,null,null,null,null,null,null,null,null,null,null,null,null,null,null,null,null,null,null,null,null,null,null,null,null,null,null,null,null,null,null,null,null,{"$f":"A134","v":0},"日数(日)","勤務時間(h)"," 早退（h）","合計(h)","金額(円)"]
["残業",null,null,null,null,null,null,null,null,null,null,null,null,null,null,null,null,null,null,null,null,null,null,null,null,null,null,null,null,null,null,null,{"$f":"SUM(B135:AF135)","v":0},"　出勤",{"$f":"COUNTIF(B134:AF134,\"出\")","v":0},{"$f":"AI135*7.8","v":0},{"$f":"AG136","v":0},{"$f":"AJ135-AK135","v":0},{"$f":"ROUNDDOWN(AL135*請求書・納品書!$M$11,)","v":0}]
["遅・早(出)",null,null,null,null,null,null,null,null,null,null,null,null,null,null,null,null,null,null,null,null,null,null,null,null,null,null,null,null,null,null,null,{"$f":"SUM(B136:AF136)","v":0},"　残業",null,null,null,{"$f":"AG135","v":0},{"$f":"ROUNDDOWN(AL136*請求書・納品書!$M$12,)","v":0}]
["遅・早(公)",null,null,null,null,null,null,null,null,null,null,null,null,null,null,null,null,null,null,null,null,null,null,null,null,null,null,null,null,null,null,null,{"$f":"SUM(B137:AF137)","v":0},"　公出",{"$f":"COUNTIF(B134:AF134,\"公\")","v":0},{"$f":"AI137*7.8","v":0},{"$f":"AG137","v":0},{"$f":"AJ137-AK137","v":0},{"$f":"ROUNDDOWN(AL137*請求書・納品書!$M$13,)","v":0}]
["連続",null,null,null,null,null,null,null,null,null,null,null,null,null,null,null,null,null,null,null,null,null,null,null,null,null,null,null,null,null,null,null,{"$f":"SUM(B138:AF138)","v":0},"　連続",null,null,null,{"$f":"AG138","v":0},{"$f":"AL138*請求書・納品書!$M$14","v":0}]
[null,null,null,null,null,null,null,null,null,null,null,null,null,null,null,null,null,null,null,null,null,null,null,null,null,null,null,null,null,null,null,null,null,null,null,null,null,"合　計",{"$f":"SUM(AM135:AM138)","v":0}]
[null,null,null,null,null,null,null,null,null,null,null,null,null,null,null,null,null,null,null,null,null,null,null,null,null,null,null,null,null,null,null,null,null,{"$f":"A140","v":0},"日数(日)","勤務時間(h)"," 早退（h）","合計(h)","金額(円)"]
["残業",null,null,null,null,null,null,null,null,null,null,null,null,null,null,null,null,null,null,null,null,null,null,null,null,null,null,null,null,null,null,null,{"$f":"SUM(B141:AF141)","v":0},"　出勤",{"$f":"COUNTIF(B140:AF140,\"出\")","v":0},{"$f":"AI141*7.8","v":0},{"$f":"AG142","v":0},{"$f":"AJ141-AK141","v":0},{"$f":"ROUNDDOWN(AL141*請求書・納品書!$M$11,)","v":0}]
["遅・早(出)",null,null,null,null,null,null,null,null,null,null,null,null,null,null,null,null,null,null,null,null,null,null,null,null,null,null,null,null,null,null,null,{"$f":"SUM(B142:AF142)","v":0},"　残業",null,null,null,{"$f":"AG141","v":0},{"$f":"ROUNDDOWN(AL142*請求書・納品書!$M$12,)","v":0}]
["遅・早(公)",null,null,null,null,null,null,null,null,null,null,null,null,null,null,null,null,null,null,null,null,null,null,null,null,null,null,null,null,null,null,null,{"$f":"SUM(B143:AF143)","v":0},"　公出",{"$f":"COUNTIF(B140:AF140,\"公\")","v":0},{"$f":"AI143*7.8","v":0},{"$f":"AG143","v":0},{"$f":"AJ143-AK143","v":0},{"$f":"ROUNDDOWN(AL143*請求書・納品書!$M$13,)","v":0}]
["連続",null,null,null,null,null,null,null,null,null,null,null,null,null,null,null,null,null,null,null,null,null,null,null,null,null,null,null,null,null,null,null,{"$f":"SUM(B144:AF144)","v":0},"　連続",null,null,null,{"$f":"AG144","v":0},{"$f":"AL144*請求書・納品書!$M$14","v":0}]
[null,null,null,null,null,null,null,null,null,null,null,null,null,null,null,null,null,null,null,null,null,null,null,null,null,null,null,null,null,null,null,null,null,null,null,null,null,"合　計",{"$f":"SUM(AM141:AM144)","v":0},null,{"$f":"AM127+AM133+AM139+AM145","v":0}]
[null,null,null,null,null,null,null,null,null,null,null,null,null,null,null,null,null,null,null,null,null,null,null,null,null,null,null,null,null,null,null,null,null,{"$f":"A146","v":0},"日数(日)","勤務時間(h)"," 早退（h）","合計(h)","金額(円)"]
["残業",null,null,null,null,null,null,null,null,null,null,null,null,null,null,null,null,null,null,null,null,null,null,null,null,null,null,null,null,null,null,null,{"$f":"SUM(B147:AF147)","v":0},"　出勤",{"$f":"COUNTIF(B146:AF146,\"出\")","v":0},{"$f":"AI147*7.8","v":0},{"$f":"AG148","v":0},{"$f":"AJ147-AK147","v":0},{"$f":"ROUNDDOWN(AL147*請求書・納品書!$M$11,)","v":0}]
["遅・早(出)",null,null,null,null,null,null,null,null,null,null,null,null,null,null,null,null,null,null,null,null,null,null,null,null,null,null,null,null,null,null,null,{"$f":"SUM(B148:AF148)","v":0},"　残業",null,null,null,{"$f":"AG147","v":0},{"$f":"ROUNDDOWN(AL148*請求書・納品書!$M$12,)","v":0}]
["遅・早(公)",null,null,null,null,null,null,null,null,null,null,null,null,null,null,null,null,null,null,null,null,null,null,null,null,null,null,null,null,null,null,null,{"$f":"SUM(B149:AF149)","v":0},"　公出",{"$f":"COUNTIF(B146:AF146,\"公\")","v":0},{"$f":"AI149*7.8","v":0},{"$f":"AG149","v":0},{"$f":"AJ149-AK149","v":0},{"$f":"ROUNDDOWN(AL149*請求書・納品書!$M$13,)","v":0}]
["連続",null,null,null,null,null,null,null,null,null,null,null,null,null,null,null,null,null,null,null,null,null,null,null,null,null,null,null,null,null,null,null,{"$f":"SUM(B150:AF150)","v":0},"　連続",null,null,null,{"$f":"AG150","v":0},{"$f":"AL150*請求書・納品書!$M$14","v":0}]
[null,null,null,null,null,null,null,null,null,null,null,null,null,null,null,null,null,null,null,null,null,null,null,null,null,null,null,null,null,null,null,null,null,null,null,null,null,"合　計",{"$f":"SUM(AM147:AM150)","v":0}]
[null,null,null,null,null,null,null,null,null,null,null,null,null,null,null,null,null,null,null,null,null,null,null,null,null,null,null,null,null,null,null,null,null,{"$f":"A152","v":0},"日数(日)","勤務時間(h)"," 早退（h）","合計(h)","金額(円)"]
["残業",null,null,null,null,null,null,null,null,null,null,null,null,null,null,null,null,null,null,null,null,null,null,null,null,null,null,null,null,null,null,null,{"$f":"SUM(B153:AF153)","v":0},"　出勤",{"$f":"COUNTIF(B152:AF152,\"出\")","v":0},{"$f":"AI153*7.8","v":0},{"$f":"AG154","v":0},{"$f":"AJ153-AK153","v":0},{"$f":"ROUNDDOWN(AL153*請求書・納品書!$M$11,)","v":0}]
["遅・早(出)",null,null,null,null,null,null,null,null,null,null,null,null,null,null,null,null,null,null,null,null,null,null,null,null,null,null,null,null,null,null,null,{"$f":"SUM(B154:AF154)","v":0},"　残業",null,null,null,{"$f":"AG153","v":0},{"$f":"ROUNDDOWN(AL154*請求書・納品書!$M$12,)","v":0}]
["遅・早(公)",null,null,null,null,null,null,null,null,null,null,null,null,null,null,null,null,null,null,null,null,null,null,null,null,null,null,null,null,null,null,null,{"$f":"SUM(B155:AF155)","v":0},"　公出",{"$f":"COUNTIF(B152:AF152,\"公\")","v":0},{"$f":"AI155*7.8","v":0},{"$f":"AG155","v":0},{"$f":"AJ155-AK155","v":0},{"$f":"ROUNDDOWN(AL155*請求書・納品書!$M$13,)","v":0}]
["連続",null,null,null,null,null,null,null,null,null,null,null,null,null,null,null,null,null,null,null,null,null,null,null,null,null,null,null,null,null,null,null,{"$f":"SUM(B156:AF156)","v":0},"　連続",null,null,null,{"$f":"AG156","v":0},{"$f":"AL156*請求書・納品書!$M$14","v":0}]
[null,null,null,null,null,null,null,null,null,null,null,null,null,null,null,null,null,null,null,null,null,null,null,null,null,null,null,null,null,null,null,null,null,null,null,null,null,"合　計",{"$f":"SUM(AM153:AM156)","v":0}]
[null,null,null,null,null,null,null,null,null,null,null,null,null,null,null,null,null,null,null,null,null,null,null,null,null,null,null,null,null,null,null,null,null,{"$f":"A158","v":0},"日数(日)","勤務時間(h)"," 早退（h）","合計(h)","金額(円)"]
["残業",null,null,null,null,null,null,null,null,null,null,null,null,null,null,null,null,null,null,null,null,null,null,null,null,null,null,null,null,null,null,null,{"$f":"SUM(B159:AF159)","v":0},"　出勤",{"$f":"COUNTIF(B158:AF158,\"出\")","v":0},{"$f":"AI159*7.8","v":0},{"$f":"AG160","v":0},{"$f":"AJ159-AK159","v":0},{"$f":"ROUNDDOWN(AL159*請求書・納品書!$M$11,)","v":0}]
["遅・早(出)",null,null,null,null,null,null,null,null,null,null,null,null,null,null,null,null,null,null,null,null,null,null,null,null,null,null,null,null,null,null,null,{"$f":"SUM(B160:AF160)","v":0},"　残業",null,null,null,{"$f":"AG159","v":0},{"$f":"ROUNDDOWN(AL160*請求書・納品書!$M$12,)","v":0}]
["遅・早(公)",null,null,null,null,null,null,null,null,null,null,null,null,null,null,null,null,null,null,null,null,null,null,null,null,null,null,null,null,null,null,null,{"$f":"SUM(B161:AF161)","v":0},"　公出",{"$f":"COUNTIF(B158:AF158,\"公\")","v":0},{"$f":"AI161*7.8","v":0},{"$f":"AG161","v":0},{"$f":"AJ161-AK161","v":0},{"$f":"ROUNDDOWN(AL161*請求書・納品書!$M$13,)","v":0}]
["連続",null,null,null,null,null,null,null,null,null,null,null,null,null,null,null,null,null,null,null,null,null,null,null,null,null,null,null,null,null,null,null,{"$f":"SUM(B162:AF162)","v":0},"　連続",null,null,null,{"$f":"AG162","v":0},{"$f":"AL162*請求書・納品書!$M$14","v":0}]
[null,null,null,null,null,null,null,null,null,null,null,null,null,null,null,null,null,null,null,null,null,null,null,null,null,null,null,null,null,null,null,null,null,null,null,null,null,"合　計",{"$f":"SUM(AM159:AM162)","v":0}]
[null,null,null,null,null,null,null,null,null,null,null,null,null,null,null,null,null,null,null,null,null,null,null,null,null,null,null,null,null,null,null,null,null,{"$f":"A164","v":0},"日数(日)","勤務時間(h)"," 早退（h）","合計(h)","金額(円)"]
["残業",null,null,null,null,null,null,null,null,null,null,null,null,null,null,null,null,null,null,null,null,null,null,null,null,null,null,null,null,null,null,null,{"$f":"SUM(B165:AF165)","v":0},"　出勤",{"$f":"COUNTIF(B164:AF164,\"出\")","v":0},{"$f":"AI165*7.8","v":0},{"$f":"AG166","v":0},{"$f":"AJ165-AK165","v":0},{"$f":"ROUNDDOWN(AL165*請求書・納品書!$M$11,)","v":0}]
["遅・早(出)",null,null,null,null,null,null,null,null,null,null,null,null,null,null,null,null,null,null,null,null,null,null,null,null,null,null,null,null,null,null,null,{"$f":"SUM(B166:AF166)","v":0},"　残業",null,null,null,{"$f":"AG165","v":0},{"$f":"ROUNDDOWN(AL166*請求書・納品書!$M$12,)","v":0}]
["遅・早(公)",null,null,null,null,null,null,null,null,null,null,null,null,null,null,null,null,null,null,null,null,null,null,null,null,null,null,null,null,null,null,null,{"$f":"SUM(B167:AF167)","v":0},"　公出",{"$f":"COUNTIF(B164:AF164,\"公\")","v":0},{"$f":"AI167*7.8","v":0},{"$f":"AG167","v":0},{"$f":"AJ167-AK167","v":0},{"$f":"ROUNDDOWN(AL167*請求書・納品書!$M$13,)","v":0}]
["連続",null,null,null,null,null,null,null,null,null,null,null,null,null,null,null,null,null,null,null,null,null,null,null,null,null,null,null,null,null,null,null,{"$f":"SUM(B168:AF168)","v":0},"　連続",null,null,null,{"$f":"AG168","v":0},{"$f":"AL168*請求書・納品書!$M$14","v":0}]
[null,null,null,null,null,null,null,null,null,null,null,null,null,null,null,null,null,null,null,null,null,null,null,null,null,null,null,null,null,null,null,null,null,null,null,null,null,"合　計",{"$f":"SUM(AM165:AM168)","v":0},null,{"$f":"AM151+AM157+AM163+AM169","v":0}]
[null,null,null,null,null,null,null,null,null,null,null,null,null,null,null,null,null,null,null,null,null,null,null,null,null,null,null,null,null,null,null,null,null,{"$f":"A170","v":0},"日数(日)","勤務時間(h)"," 早退（h）","合計(h)","金額(円)"]
["残業",null,null,null,null,null,null,null,null,null,null,null,null,null,null,null,null,null,null,null,null,null,null,null,null,null,null,null,null,null,null,null,{"$f":"SUM(B171:AF171)","v":0},"　出勤",{"$f":"COUNTIF(B170:AF170,\"出\")","v":0},{"$f":"AI171*7.8","v":0},{"$f":"AG172","v":0},{"$f":"AJ171-AK171","v":0},{"$f":"ROUNDDOWN(AL171*請求書・納品書!$M$11,)","v":0}]
["遅・早(出)",null,null,null,null,null,null,null,null,null,null,null,null,null,null,null,null,null,null,null,null,null,null,null,null,null,null,null,null,null,null,null,{"$f":"SUM(B172:AF172)","v":0},"　残業",null,null,null,{"$f":"AG171","v":0},{"$f":"ROUNDDOWN(AL172*請求書・納品書!$M$12,)","v":0}]
["遅・早(公)",null,null,null,null,null,null,null,null,null,null,null,null,null,null,null,null,null,null,null,null,null,null,null,null,null,null,null,null,null,null,null,{"$f":"SUM(B173:AF173)","v":0},"　公出",{"$f":"COUNTIF(B170:AF170,\"公\")","v":0},{"$f":"AI173*7.8","v":0},{"$f":"AG173","v":0},{"$f":"AJ173-AK173","v":0},{"$f":"ROUNDDOWN(AL173*請求書・納品書!$M$13,)","v":0}]
["連続",null,null,null,null,null,null,null,null,null,null,null,null,null,null,null,null,null,null,null,null,null,null,null,null,null,null,null,null,null,null,null,{"$f":"SUM(B174:AF174)","v":0},"　連続",null,null,null,{"$f":"AG174","v":0},{"$f":"AL174*請求書・納品書!$M$14","v":0}]
[null,null,null,null,null,null,null,null,null,null,null,null,null,null,null,null,null,null,null,null,null,null,null,null,null,null,null,null,null,null,null,null,null,null,null,null,null,"合　計",{"$f":"SUM(AM171:AM174)","v":0}]
[null,null,null,null,null,null,null,null,null,null,null,null,null,null,null,null,null,null,null,null,null,null,null,null,null,null,null,null,null,null,null,null,null,{"$f":"A176","v":0},"日数(日)","勤務時間(h)"," 早退（h）","合計(h)","金額(円)"]
["残業",null,null,null,null,null,null,null,null,null,null,null,null,null,null,null,null,null,null,null,null,null,null,null,null,null,null,null,null,null,null,null,{"$f":"SUM(B177:AF177)","v":0},"　出勤",{"$f":"COUNTIF(B176:AF176,\"出\")","v":0},{"$f":"AI177*7.8","v":0},{"$f":"AG178","v":0},{"$f":"AJ177-AK177","v":0},{"$f":"ROUNDDOWN(AL177*請求書・納品書!$M$11,)","v":0}]
["遅・早(出)",null,null,null,null,null,null,null,null,null,null,null,null,null,null,null,null,null,null,null,null,null,null,null,null,null,null,null,null,null,null,null,{"$f":"SUM(B178:AF178)","v":0},"　残業",null,null,null,{"$f":"AG177","v":0},{"$f":"ROUNDDOWN(AL178*請求書・納品書!$M$12,)","v":0}]
["遅・早(公)",null,null,null,null,null,null,null,null,null,null,null,null,null,null,null,null,null,null,null,null,null,null,null,null,null,null,null,null,null,null,null,{"$f":"SUM(B179:AF179)","v":0},"　公出",{"$f":"COUNTIF(B176:AF176,\"公\")","v":0},{"$f":"AI179*7.8","v":0},{"$f":"AG179","v":0},{"$f":"AJ179-AK179","v":0},{"$f":"ROUNDDOWN(AL179*請求書・納品書!$M$13,)","v":0}]
["連続",null,null,null,null,null,null,null,null,null,null,null,null,null,null,null,null,null,null,null,null,null,null,null,null,null,null,null,null,null,null,null,{"$f":"SUM(B180:AF180)","v":0},"　連続",null,null,null,{"$f":"AG180","v":0},{"$f":"AL180*請求書・納品書!$M$14","v":0}]
[null,null,null,null,null,null,null,null,null,null,null,null,null,null,null,null,null,null,null,null,null,null,null,null,null,null,null,null,null,null,null,null,null,null,null,null,null,"合　計",{"$f":"SUM(AM177:AM180)","v":0}]
[null,null,null,null,null,null,null,null,null,null,null,null,null,null,null,null,null,null,null,null,null,null,null,null,null,null,null,null,null,null,null,null,null,{"$f":"A182","v":0},"日数(日)","勤務時間(h)"," 早退（h）","合計(h)","金額(円)"]
["残業",null,null,null,null,null,null,null,null,null,null,null,null,null,null,null,null,null,null,null,null,null,null,null,null,null,null,null,null,null,null,null,{"$f":"SUM(B183:AF183)","v":0},"　出勤",{"$f":"COUNTIF(B182:AF182,\"出\")","v":0},{"$f":"AI183*7.8","v":0},{"$f":"AG184","v":0},{"$f":"AJ183-AK183","v":0},{"$f":"ROUNDDOWN(AL183*請求書・納品書!$M$11,)","v":0}]
["遅・早(出)",null,null,null,null,null,null,null,null,null,null,null,null,null,null,null,null,null,null,null,null,null,null,null,null,null,null,null,null,null,null,null,{"$f":"SUM(B184:AF184)","v":0},"　残業",null,null,null,{"$f":"AG183","v":0},{"$f":"ROUNDDOWN(AL184*請求書・納品書!$M$12,)","v":0}]
["遅・早(公)",null,null,null,null,null,null,null,null,null,null,null,null,null,null,null,null,null,null,null,null,null,null,null,null,null,null,null,null,null,null,null,{"$f":"SUM(B185:AF185)","v":0},"　公出",{"$f":"COUNTIF(B182:AF182,\"公\")","v":0},{"$f":"AI185*7.8","v":0},{"$f":"AG185","v":0},{"$f":"AJ185-AK185","v":0},{"$f":"ROUNDDOWN(AL185*請求書・納品書!$M$13,)","v":0}]
["連続",null,null,null,null,null,null,null,null,null,null,null,null,null,null,null,null,null,null,null,null,null,null,null,null,null,null,null,null,null,null,null,{"$f":"SUM(B186:AF186)","v":0},"　連続",null,null,null,{"$f":"AG186","v":0},{"$f":"AL186*請求書・納品書!$M$14","v":0}]
[null,null,null,null,null,null,null,null,null,null,null,null,null,null,null,null,null,null,null,null,null,null,null,null,null,null,null,null,null,null,null,null,null,null,null,null,null,"合　計",{"$f":"SUM(AM183:AM186)","v":0}]
[null,null,null,null,null,null,null,null,null,null,null,null,null,null,null,null,null,null,null,null,null,null,null,null,null,null,null,null,null,null,null,null,null,{"$f":"A188","v":0},"日数(日)","勤務時間(h)"," 早退（h）","合計(h)","金額(円)"]
["残業",null,null,null,null,null,null,null,null,null,null,null,null,null,null,null,null,null,null,null,null,null,null,null,null,null,null,null,null,null,null,null,{"$f":"SUM(B189:AF189)","v":0},"　出勤",{"$f":"COUNTIF(B188:AF188,\"出\")","v":0},{"$f":"AI189*7.8","v":0},{"$f":"AG190","v":0},{"$f":"AJ189-AK189","v":0},{"$f":"ROUNDDOWN(AL189*請求書・納品書!$M$11,)","v":0}]
["遅・早(出)",null,null,null,null,null,null,null,null,null,null,null,null,null,null,null,null,null,null,null,null,null,null,null,null,null,null,null,null,null,null,null,{"$f":"SUM(B190:AF190)","v":0},"　残業",null,null,null,{"$f":"AG189","v":0},{"$f":"ROUNDDOWN(AL190*請求書・納品書!$M$12,)","v":0}]
["遅・早(公)",null,null,null,null,null,null,null,null,null,null,null,null,null,null,null,null,null,null,null,null,null,null,null,null,null,null,null,null,null,null,null,{"$f":"SUM(B191:AF191)","v":0},"　公出",{"$f":"COUNTIF(B188:AF188,\"公\")","v":0},{"$f":"AI191*7.8","v":0},{"$f":"AG191","v":0},{"$f":"AJ191-AK191","v":0},{"$f":"ROUNDDOWN(AL191*請求書・納品書!$M$13,)","v":0}]
["連続",null,null,null,null,null,null,null,null,null,null,null,null,null,null,null,null,null,null,null,null,null,null,null,null,null,null,null,null,null,null,null,{"$f":"SUM(B192:AF192)","v":0},"　連続",null,null,null,{"$f":"AG192","v":0},{"$f":"AL192*請求書・納品書!$M$14","v":0}]
[null,null,null,null,null,null,null,null,null,null,null,null,null,null,null,null,null,null,null,null,null,null,null,null,null,null,null,null,null,null,null,null,null,null,null,null,null,"合　計",{"$f":"SUM(AM189:AM192)","v":0},null,{"$f":"AM175+AM181+AM187+AM193","v":0}]

{"sheet":"10","index":6,"n_rows":193,"n_cols":42,"rows_kept":193,"cut":false,"hidden":false,"merged":[]}
[{"$f":"'4'!A1","v":2010},1,2,3,4,5,6,7,8,9,10,11,12,13,14,15,16,17,18,19,20,21,22,23,24,25,26,27,28,29,30,31,"計",{"$f":"A1&\"年\"&MID(CELL(\"filename\",$A$1),FIND(\"]\",CELL(\"filename\",$A$1))+1,31) &\"月\"","v":"2010年10月"}]
[null,null,null,null,null,null,null,null,null,null,null,null,null,null,null,null,null,null,null,null,null,null,null,null,null,null,null,null,null,null,null,null,null,{"$f":"A2","v":0},"日数(日)","勤務時間(h)"," 早退（h）","合計(h)","金額(円)","出","　合計",{"$f":"SUM(AM:AM)/2","v":0}]
["残業",null,null,null,null,null,null,null,null,null,null,null,null,null,null,null,null,null,null,null,null,null,null,null,null,null,null,null,null,null,null,null,{"$f":"SUM(B3:AF3)","v":0},"　出勤",{"$f":"COUNTIF(B2:AF2,\"出\")","v":0},{"$f":"AI3*7.8","v":0},{"$f":"AG4","v":0},{"$f":"AJ3-AK3","v":0},{"$f":"ROUNDDOWN(AL3*請求書・納品書!$M$11,)","v":0},"公","　人数",{"$f":"COUNTA(AH:AH)-COUNTIF(AH:AH,0)-32*4-1","v":0}]
["遅・早(出)",null,null,null,null,null,null,null,null,null,null,null,null,null,null,null,null,null,null,null,null,null,null,null,null,null,null,null,null,null,null,null,{"$f":"SUM(B4:AF4)","v":0},"　残業",null,null,null,{"$f":"AG3","v":0},{"$f":"ROUNDDOWN(AL4*請求書・納品書!$M$12,)","v":0},"欠","　管理費",{"$f":"(AP3-AP9)*19400","v":0}]
["遅・早(公)",null,null,null,null,null,null,null,null,null,null,null,null,null,null,null,null,null,null,null,null,null,null,null,null,null,null,null,null,null,null,null,{"$f":"SUM(B5:AF5)","v":0},"　公出",{"$f":"COUNTIF(B2:AF2,\"公\")","v":0},{"$f":"AI5*7.8","v":0},{"$f":"AG5","v":0},{"$f":"AJ5-AK5","v":0},{"$f":"ROUNDDOWN(AL5*請求書・納品書!$M$13,)","v":0},"有","　小計",{"$f":"AP2+AP4","v":0}]
["連続",null,null,null,null,null,null,null,null,null,null,null,null,null,null,null,null,null,null,null,null,null,null,null,null,null,null,null,null,null,null,null,{"$f":"SUM(B6:AF6)","v":0},"　連続",null,null,null,{"$f":"AG6","v":0},{"$f":"AL6*請求書・納品書!$M$14","v":0},"半","　消費税",{"$f":"ROUNDDOWN(AP5*0.05,)","v":0}]
[null,null,null,null,null,null,null,null,null,null,null,null,null,null,null,null,null,null,null,null,null,null,null,null,null,null,null,null,null,null,null,null,null,null,null,null,null,"合　計",{"$f":"SUM(AM3:AM6)","v":0},null,"　総合計",{"$f":"AP5+AP6","v":0}]
[null,null,null,null,null,null,null,null,null,null,null,null,null,null,null,null,null,null,null,null,null,null,null,null,null,null,null,null,null,null,null,null,null,{"$f":"A8","v":0},"日数(日)","勤務時間(h)"," 早退（h）","合計(h)","金額(円)"]
["残業",null,null,null,null,null,null,null,null,null,null,null,null,null,null,null,null,null,null,null,null,null,null,null,null,null,null,null,null,null,null,null,{"$f":"SUM(B9:AF9)","v":0},"　出勤",{"$f":"COUNTIF(B8:AF8,\"出\")","v":0},{"$f":"AI9*7.8","v":0},{"$f":"AG10","v":0},{"$f":"AJ9-AK9","v":0},{"$f":"ROUNDDOWN(AL9*請求書・納品書!$M$11,)","v":0},null,"管理費に入れない人数"]
["遅・早(出)",null,null,null,null,null,null,null,null,null,null,null,null,null,null,null,null,null,null,null,null,null,null,null,null,null,null,null,null,null,null,null,{"$f":"SUM(B10:AF10)","v":0},"　残業",null,null,null,{"$f":"AG9","v":0},{"$f":"ROUNDDOWN(AL10*請求書・納品書!$M$12,)","v":0}]
["遅・早(公)",null,null,null,null,null,null,null,null,null,null,null,null,null,null,null,null,null,null,null,null,null,null,null,null,null,null,null,null,null,null,null,{"$f":"SUM(B11:AF11)","v":0},"　公出",{"$f":"COUNTIF(B8:AF8,\"公\")","v":0},{"$f":"AI11*7.8","v":0},{"$f":"AG11","v":0},{"$f":"AJ11-AK11","v":0},{"$f":"ROUNDDOWN(AL11*請求書・納品書!$M$13,)","v":0}]
["連続",null,null,null,null,null,null,null,null,null,null,null,null,null,null,null,null,null,null,null,null,null,null,null,null,null,null,null,null,null,null,null,{"$f":"SUM(B12:AF12)","v":0},"　連続",null,null,null,{"$f":"AG12","v":0},{"$f":"AL12*請求書・納品書!$M$14","v":0}]
[null,null,null,null,null,null,null,null,null,null,null,null,null,null,null,null,null,null,null,null,null,null,null,null,null,null,null,null,null,null,null,null,null,null,null,null,null,"合　計",{"$f":"SUM(AM9:AM12)","v":0}]
[null,null,null,null,null,null,null,null,null,null,null,null,null,null,null,null,null,null,null,null,null,null,null,null,null,null,null,null,null,null,null,null,null,{"$f":"A14","v":0},"日数(日)","勤務時間(h)"," 早退（h）","合計(h)","金額(円)"]
["残業",null,null,null,null,null,null,null,null,null,null,null,null,null,null,null,null,null,null,null,null,null,null,null,null,null,null,null,null,null,null,null,{"$f":"SUM(B15:AF15)","v":0},"　出勤",{"$f":"COUNTIF(B14:AF14,\"出\")","v":0},{"$f":"AI15*7.8","v":0},{"$f":"AG16","v":0},{"$f":"AJ15-AK15","v":0},{"$f":"ROUNDDOWN(AL15*請求書・納品書!$M$11,)","v":0}]
["遅・早(出)",null,null,null,null,null,null,null,null,null,null,null,null,null,null,null,null,null,null,null,null,null,null,null,null,null,null,null,null,null,null,null,{"$f":"SUM(B16:AF16)","v":0},"　残業",null,null,null,{"$f":"AG15","v":0},{"$f":"ROUNDDOWN(AL16*請求書・納品書!$M$12,)","v":0}]
["遅・早(公)",null,null,null,null,null,null,null,null,null,null,null,null,null,null,null,null,null,null,null,null,null,null,null,null,null,null,null,null,null,null,null,{"$f":"SUM(B17:AF17)","v":0},"　公出",{"$f":"COUNTIF(B14:AF14,\"公\")","v":0},{"$f":"AI17*7.8","v":0},{"$f":"AG17","v":0},{"$f":"AJ17-AK17","v":0},{"$f":"ROUNDDOWN(AL17*請求書・納品書!$M$13,)","v":0}]
["連続",null,null,null,null,null,null,null,null,null,null,null,null,null,null,null,null,null,null,null,null,null,null,null,null,null,null,null,null,null,null,null,{"$f":"SUM(B18:AF18)","v":0},"　連続",null,null,null,{"$f":"AG18","v":0},{"$f":"AL18*請求書・納品書!$M$14","v":0}]
[null,null,null,null,null,null,null,null,null,null,null,null,null,null,null,null,null,null,null,null,null,null,null,null,null,null,null,null,null,null,null,null,null,null,null,null,null,"合　計",{"$f":"SUM(AM15:AM18)","v":0}]
[null,null,null,null,null,null,null,null,null,null,null,null,null,null,null,null,null,null,null,null,null,null,null,null,null,null,null,null,null,null,null,null,null,{"$f":"A20","v":0},"日数(日)","勤務時間(h)"," 早退（h）","合計(h)","金額(円)"]
["残業",null,null,null,null,null,null,null,null,null,null,null,null,null,null,null,null,null,null,null,null,null,null,null,null,null,null,null,null,null,null,null,{"$f":"SUM(B21:AF21)","v":0},"　出勤",{"$f":"COUNTIF(B20:AF20,\"出\")","v":0},{"$f":"AI21*7.8","v":0},{"$f":"AG22","v":0},{"$f":"AJ21-AK21","v":0},{"$f":"ROUNDDOWN(AL21*請求書・納品書!$M$11,)","v":0}]
["遅・早(出)",null,null,null,null,null,null,null,null,null,null,null,null,null,null,null,null,null,null,null,null,null,null,null,null,null,null,null,null,null,null,null,{"$f":"SUM(B22:AF22)","v":0},"　残業",null,null,null,{"$f":"AG21","v":0},{"$f":"ROUNDDOWN(AL22*請求書・納品書!$M$12,)","v":0}]
["遅・早(公)",null,null,null,null,null,null,null,null,null,null,null,null,null,null,null,null,null,null,null,null,null,null,null,null,null,null,null,null,null,null,null,{"$f":"SUM(B23:AF23)","v":0},"　公出",{"$f":"COUNTIF(B20:AF20,\"公\")","v":0},{"$f":"AI23*7.8","v":0},{"$f":"AG23","v":0},{"$f":"AJ23-AK23","v":0},{"$f":"ROUNDDOWN(AL23*請求書・納品書!$M$13,)","v":0}]
["連続",null,null,null,null,null,null,null,null,null,null,null,null,null,null,null,null,null,null,null,null,null,null,null,null,null,null,null,null,null,null,null,{"$f":"SUM(B24:AF24)","v":0},"　連続",null,null,null,{"$f":"AG24","v":0},{"$f":"AL24*請求書・納品書!$M$14","v":0}]
[null,null,null,null,null,null,null,null,null,null,null,null,null,null,null,null,null,null,null,null,null,null,null,null,null,null,null,null,null,null,null,null,null,null,null,null,null,"合　計",{"$f":"SUM(AM21:AM24)","v":0},null,{"$f":"AM7+AM13+AM19+AM25","v":0}]
[null,null,null,null,null,null,null,null,null,null,null,null,null,null,null,null,null,null,null,null,null,null,null,null,null,null,null,null,null,null,null,null,null,{"$f":"A26","v":0},"日数(日)","勤務時間(h)"," 早退（h）","合計(h)","金額(円)"]
["残業",null,null,null,null,null,null,null,null,null,null,null,null,null,null,null,null,null,null,null,null,null,null,null,null,null,null,null,null,null,null,null,{"$f":"SUM(B27:AF27)","v":0},"　出勤",{"$f":"COUNTIF(B26:AF26,\"出\")","v":0},{"$f":"AI27*7.8","v":0},{"$f":"AG28","v":0},{"$f":"AJ27-AK27","v":0},{"$f":"ROUNDDOWN(AL27*請求書・納品書!$M$11,)","v":0}]
["遅・早(出)",null,null,null,null,null,null,null,null,null,null,null,null,null,null,null,null,null,null,null,null,null,null,null,null,null,null,null,null,null,null,null,{"$f":"SUM(B28:AF28)","v":0},"　残業",null,null,null,{"$f":"AG27","v":0},{"$f":"ROUNDDOWN(AL28*請求書・納品書!$M$12,)","v":0}]
["遅・早(公)",null,null,null,null,null,null,null,null,null,null,null,null,null,null,null,null,null,null,null,null,null,null,null,null,null,null,null,null,null,null,null,{"$f":"SUM(B29:AF29)","v":0},"　公出",{"$f":"COUNTIF(B26:AF26,\"公\")","v":0},{"$f":"AI29*7.8","v":0},{"$f":"AG29","v":0},{"$f":"AJ29-AK29","v":0},{"$f":"ROUNDDOWN(AL29*請求書・納品書!$M$13,)","v":0}]
["連続",null,null,null,null,null,null,null,null,null,null,null,null,null,null,null,null,null,null,null,null,null,null,null,null,null,null,null,null,null,null,null,{"$f":"SUM(B30:AF30)","v":0},"　連続",null,null,null,{"$f":"AG30","v":0},{"$f":"AL30*請求書・納品書!$M$14","v":0}]
[null,null,null,null,null,null,null,null,null,null,null,null,null,null,null,null,null,null,null,null,null,null,null,null,null,null,null,null,null,null,null,null,null,null,null,null,null,"合　計",{"$f":"SUM(AM27:AM30)","v":0}]
[null,null,null,null,null,null,null,null,null,null,null,null,null,null,null,null,null,null,null,null,null,null,null,null,null,null,null,null,null,null,null,null,null,{"$f":"A32","v":0},"日数(日)","勤務時間(h)"," 早退（h）","合計(h)","金額(円)"]
["残業",null,null,null,null,null,null,null,null,null,null,null,null,null,null,null,null,null,null,null,null,null,null,null,null,null,null,null,null,null,null,null,{"$f":"SUM(B33:AF33)","v":0},"　出勤",{"$f":"COUNTIF(B32:AF32,\"出\")","v":0},{"$f":"AI33*7.8","v":0},{"$f":"AG34","v":0},{"$f":"AJ33-AK33","v":0},{"$f":"ROUNDDOWN(AL33*請求書・納品書!$M$11,)","v":0}]
["遅・早(出)",null,null,null,null,null,null,null,null,null,null,null,null,null,null,null,null,null,null,null,null,null,null,null,null,null,null,null,null,null,null,null,{"$f":"SUM(B34:AF34)","v":0},"　残業",null,null,null,{"$f":"AG33","v":0},{"$f":"ROUNDDOWN(AL34*請求書・納品書!$M$12,)","v":0}]
["遅・早(公)",null,null,null,null,null,null,null,null,null,null,null,null,null,null,null,null,null,null,null,null,null,null,null,null,null,null,null,null,null,null,null,{"$f":"SUM(B35:AF35)","v":0},"　公出",{"$f":"COUNTIF(B32:AF32,\"公\")","v":0},{"$f":"AI35*7.8","v":0},{"$f":"AG35","v":0},{"$f":"AJ35-AK35","v":0},{"$f":"ROUNDDOWN(AL35*請求書・納品書!$M$13,)","v":0}]
["連続",null,null,null,null,null,null,null,null,null,null,null,null,null,null,null,null,null,null,null,null,null,null,null,null,null,null,null,null,null,null,null,{"$f":"SUM(B36:AF36)","v":0},"　連続",null,null,null,{"$f":"AG36","v":0},{"$f":"AL36*請求書・納品書!$M$14","v":0}]
[null,null,null,null,null,null,null,null,null,null,null,null,null,null,null,null,null,null,null,null,null,null,null,null,null,null,null,null,null,null,null,null,null,null,null,null,null,"合　計",{"$f":"SUM(AM33:AM36)","v":0}]
[null,null,null,null,null,null,null,null,null,null,null,null,null,null,null,null,null,null,null,null,null,null,null,null,null,null,null,null,null,null,null,null,null,{"$f":"A38","v":0},"日数(日)","勤務時間(h)"," 早退（h）","合計(h)","金額(円)"]
["残業",null,null,null,null,null,null,null,null,null,null,null,null,null,null,null,null,null,null,null,null,null,null,null,null,null,null,null,null,null,null,null,{"$f":"SUM(B39:AF39)","v":0},"　出勤",{"$f":"COUNTIF(B38:AF38,\"出\")","v":0},{"$f":"AI39*7.8","v":0},{"$f":"AG40","v":0},{"$f":"AJ39-AK39","v":0},{"$f":"ROUNDDOWN(AL39*請求書・納品書!$M$11,)","v":0}]
["遅・早(出)",null,null,null,null,null,null,null,null,null,null,null,null,null,null,null,null,null,null,null,null,null,null,null,null,null,null,null,null,null,null,null,{"$f":"SUM(B40:AF40)","v":0},"　残業",null,null,null,{"$f":"AG39","v":0},{"$f":"ROUNDDOWN(AL40*請求書・納品書!$M$12,)","v":0}]
["遅・早(公)",null,null,null,null,null,null,null,null,null,null,null,null,null,null,null,null,null,null,null,null,null,null,null,null,null,null,null,null,null,null,null,{"$f":"SUM(B41:AF41)","v":0},"　公出",{"$f":"COUNTIF(B38:AF38,\"公\")","v":0},{"$f":"AI41*7.8","v":0},{"$f":"AG41","v":0},{"$f":"AJ41-AK41","v":0},{"$f":"ROUNDDOWN(AL41*請求書・納品書!$M$13,)","v":0}]
["連続",null,null,null,null,null,null,null,null,null,null,null,null,null,null,null,null,null,null,null,null,null,null,null,null,null,null,null,null,null,null,null,{"$f":"SUM(B42:AF42)","v":0},"　連続",null,null,null,{"$f":"AG42","v":0},{"$f":"AL42*請求書・納品書!$M$14","v":0}]
[null,null,null,null,null,null,null,null,null,null,null,null,null,null,null,null,null,null,null,null,null,null,null,null,null,null,null,null,null,null,null,null,null,null,null,null,null,"合　計",{"$f":"SUM(AM39:AM42)","v":0}]
[null,null,null,null,null,null,null,null,null,null,null,null,null,null,null,null,null,null,null,null,null,null,null,null,null,null,null,null,null,null,null,null,null,{"$f":"A44","v":0},"日数(日)","勤務時間(h)"," 早退（h）","合計(h)","金額(円)"]
["残業",null,null,null,null,null,null,null,null,null,null,null,null,null,null,null,null,null,null,null,null,null,null,null,null,null,null,null,null,null,null,null,{"$f":"SUM(B45:AF45)","v":0},"　出勤",{"$f":"COUNTIF(B44:AF44,\"出\")","v":0},{"$f":"AI45*7.8","v":0},{"$f":"AG46","v":0},{"$f":"AJ45-AK45","v":0},{"$f":"ROUNDDOWN(AL45*請求書・納品書!$M$11,)","v":0}]
["遅・早(出)",null,null,null,null,null,null,null,null,null,null,null,null,null,null,null,null,null,null,null,null,null,null,null,null,null,null,null,null,null,null,null,{"$f":"SUM(B46:AF46)","v":0},"　残業",null,null,null,{"$f":"AG45","v":0},{"$f":"ROUNDDOWN(AL46*請求書・納品書!$M$12,)","v":0}]
["遅・早(公)",null,null,null,null,null,null,null,null,null,null,null,null,null,null,null,null,null,null,null,null,null,null,null,null,null,null,null,null,null,null,null,{"$f":"SUM(B47:AF47)","v":0},"　公出",{"$f":"COUNTIF(B44:AF44,\"公\")","v":0},{"$f":"AI47*7.8","v":0},{"$f":"AG47","v":0},{"$f":"AJ47-AK47","v":0},{"$f":"ROUNDDOWN(AL47*請求書・納品書!$M$13,)","v":0}]
["連続",null,null,null,null,null,null,null,null,null,null,null,null,null,null,null,null,null,null,null,null,null,null,null,null,null,null,null,null,null,null,null,{"$f":"SUM(B48:AF48)","v":0},"　連続",null,null,null,{"$f":"AG48","v":0},{"$f":"AL48*請求書・納品書!$M$14","v":0}]
[null,null,null,null,null,null,null,null,null,null,null,null,null,null,null,null,null,null,null,null,null,null,null,null,null,null,null,null,null,null,null,null,null,null,null,null,null,"合　計",{"$f":"SUM(AM45:AM48)","v":0},null,{"$f":"AM31+AM37+AM43+AM49","v":0}]
[null,null,null,null,null,null,null,null,null,null,null,null,null,null,null,null,null,null,null,null,null,null,null,null,null,null,null,null,null,null,null,null,null,{"$f":"A50","v":0},"日数(日)","勤務時間(h)"," 早退（h）","合計(h)","金額(円)"]
["残業",null,null,null,null,null,null,null,null,null,null,null,null,null,null,null,null,null,null,null,null,null,null,null,null,null,null,null,null,null,null,null,{"$f":"SUM(B51:AF51)","v":0},"　出勤",{"$f":"COUNTIF(B50:AF50,\"出\")","v":0},{"$f":"AI51*7.8","v":0},{"$f":"AG52","v":0},{"$f":"AJ51-AK51","v":0},{"$f":"ROUNDDOWN(AL51*請求書・納品書!$M$11,)","v":0}]
["遅・早(出)",null,null,null,null,null,null,null,null,null,null,null,null,null,null,null,null,null,null,null,null,null,null,null,null,null,null,null,null,null,null,null,{"$f":"SUM(B52:AF52)","v":0},"　残業",null,null,null,{"$f":"AG51","v":0},{"$f":"ROUNDDOWN(AL52*請求書・納品書!$M$12,)","v":0}]
["遅・早(公)",null,null,null,null,null,null,null,null,null,null,null,null,null,null,null,null,null,null,null,null,null,null,null,null,null,null,null,null,null,null,null,{"$f":"SUM(B53:AF53)","v":0},"　公出",{"$f":"COUNTIF(B50:AF50,\"公\")","v":0},{"$f":"AI53*7.8","v":0},{"$f":"AG53","v":0},{"$f":"AJ53-AK53","v":0},{"$f":"ROUNDDOWN(AL53*請求書・納品書!$M$13,)","v":0}]
["連続",null,null,null,null,null,null,null,null,null,null,null,null,null,null,null,null,null,null,null,null,null,null,null,null,null,null,null,null,null,null,null,{"$f":"SUM(B54:AF54)","v":0},"　連続",null,null,null,{"$f":"AG54","v":0},{"$f":"AL54*請求書・納品書!$M$14","v":0}]
[null,null,null,null,null,null,null,null,null,null,null,null,null,null,null,null,null,null,null,null,null,null,null,null,null,null,null,null,null,null,null,null,null,null,null,null,null,"合　計",{"$f":"SUM(AM51:AM54)","v":0}]
[null,null,null,null,null,null,null,null,null,null,null,null,null,null,null,null,null,null,null,null,null,null,null,null,null,null,null,null,null,null,null,null,null,{"$f":"A56","v":0},"日数(日)","勤務時間(h)"," 早退（h）","合計(h)","金額(円)"]
["残業",null,null,null,null,null,null,null,null,null,null,null,null,null,null,null,null,null,null,null,null,null,null,null,null,null,null,null,null,null,null,null,{"$f":"SUM(B57:AF57)","v":0},"　出勤",{"$f":"COUNTIF(B56:AF56,\"出\")","v":0},{"$f":"AI57*7.8","v":0},{"$f":"AG58","v":0},{"$f":"AJ57-AK57","v":0},{"$f":"ROUNDDOWN(AL57*請求書・納品書!$M$11,)","v":0}]
["遅・早(出)",null,null,null,null,null,null,null,null,null,null,null,null,null,null,null,null,null,null,null,null,null,null,null,null,null,null,null,null,null,null,null,{"$f":"SUM(B58:AF58)","v":0},"　残業",null,null,null,{"$f":"AG57","v":0},{"$f":"ROUNDDOWN(AL58*請求書・納品書!$M$12,)","v":0}]
["遅・早(公)",null,null,null,null,null,null,null,null,null,null,null,null,null,null,null,null,null,null,null,null,null,null,null,null,null,null,null,null,null,null,null,{"$f":"SUM(B59:AF59)","v":0},"　公出",{"$f":"COUNTIF(B56:AF56,\"公\")","v":0},{"$f":"AI59*7.8","v":0},{"$f":"AG59","v":0},{"$f":"AJ59-AK59","v":0},{"$f":"ROUNDDOWN(AL59*請求書・納品書!$M$13,)","v":0}]
["連続",null,null,null,null,null,null,null,null,null,null,null,null,null,null,null,null,null,null,null,null,null,null,null,null,null,null,null,null,null,null,null,{"$f":"SUM(B60:AF60)","v":0},"　連続",null,null,null,{"$f":"AG60","v":0},{"$f":"AL60*請求書・納品書!$M$14","v":0}]
[null,null,null,null,null,null,null,null,null,null,null,null,null,null,null,null,null,null,null,null,null,null,null,null,null,null,null,null,null,null,null,null,null,null,null,null,null,"合　計",{"$f":"SUM(AM57:AM60)","v":0}]
[null,null,null,null,null,null,null,null,null,null,null,null,null,null,null,null,null,null,null,null,null,null,null,null,null,null,null,null,null,null,null,null,null,{"$f":"A62","v":0},"日数(日)","勤務時間(h)"," 早退（h）","合計(h)","金額(円)"]
["残業",null,null,null,null,null,null,null,null,null,null,null,null,null,null,null,null,null,null,null,null,null,null,null,null,null,null,null,null,null,null,null,{"$f":"SUM(B63:AF63)","v":0},"　出勤",{"$f":"COUNTIF(B62:AF62,\"出\")","v":0},{"$f":"AI63*7.8","v":0},{"$f":"AG64","v":0},{"$f":"AJ63-AK63","v":0},{"$f":"ROUNDDOWN(AL63*請求書・納品書!$M$11,)","v":0}]
["遅・早(出)",null,null,null,null,null,null,null,null,null,null,null,null,null,null,null,null,null,null,null,null,null,null,null,null,null,null,null,null,null,null,null,{"$f":"SUM(B64:AF64)","v":0},"　残業",null,null,null,{"$f":"AG63","v":0},{"$f":"ROUNDDOWN(AL64*請求書・納品書!$M$12,)","v":0}]
["遅・早(公)",null,null,null,null,null,null,null,null,null,null,null,null,null,null,null,null,null,null,null,null,null,null,null,null,null,null,null,null,null,null,null,{"$f":"SUM(B65:AF65)","v":0},"　公出",{"$f":"COUNTIF(B62:AF62,\"公\")","v":0},{"$f":"AI65*7.8","v":0},{"$f":"AG65","v":0},{"$f":"AJ65-AK65","v":0},{"$f":"ROUNDDOWN(AL65*請求書・納品書!$M$13,)","v":0}]
["連続",null,null,null,null,null,null,null,null,null,null,null,null,null,null,null,null,null,null,null,null,null,null,null,null,null,null,null,null,null,null,null,{"$f":"SUM(B66:AF66)","v":0},"　連続",null,null,null,{"$f":"AG66","v":0},{"$f":"AL66*請求書・納品書!$M$14","v":0}]
[null,null,null,null,null,null,null,null,null,null,null,null,null,null,null,null,null,null,null,null,null,null,null,null,null,null,null,null,null,null,null,null,null,null,null,null,null,"合　計",{"$f":"SUM(AM63:AM66)","v":0}]
[null,null,null,null,null,null,null,null,null,null,null,null,null,null,null,null,null,null,null,null,null,null,null,null,null,null,null,null,null,null,null,null,null,{"$f":"A68","v":0},"日数(日)","勤務時間(h)"," 早退（h）","合計(h)","金額(円)"]
["残業",null,null,null,null,null,null,null,null,null,null,null,null,null,null,null,null,null,null,null,null,null,null,null,null,null,null,null,null,null,null,null,{"$f":"SUM(B69:AF69)","v":0},"　出勤",{"$f":"COUNTIF(B68:AF68,\"出\")","v":0},{"$f":"AI69*7.8","v":0},{"$f":"AG70","v":0},{"$f":"AJ69-AK69","v":0},{"$f":"ROUNDDOWN(AL69*請求書・納品書!$M$11,)","v":0}]
["遅・早(出)",null,null,null,null,null,null,null,null,null,null,null,null,null,null,null,null,null,null,null,null,null,null,null,null,null,null,null,null,null,null,null,{"$f":"SUM(B70:AF70)","v":0},"　残業",null,null,null,{"$f":"AG69","v":0},{"$f":"ROUNDDOWN(AL70*請求書・納品書!$M$12,)","v":0}]
["遅・早(公)",null,null,null,null,null,null,null,null,null,null,null,null,null,null,null,null,null,null,null,null,null,null,null,null,null,null,null,null,null,null,null,{"$f":"SUM(B71:AF71)","v":0},"　公出",{"$f":"COUNTIF(B68:AF68,\"公\")","v":0},{"$f":"AI71*7.8","v":0},{"$f":"AG71","v":0},{"$f":"AJ71-AK71","v":0},{"$f":"ROUNDDOWN(AL71*請求書・納品書!$M$13,)","v":0}]
["連続",null,null,null,null,null,null,null,null,null,null,null,null,null,null,null,null,null,null,null,null,null,null,null,null,null,null,null,null,null,null,null,{"$f":"SUM(B72:AF72)","v":0},"　連続",null,null,null,{"$f":"AG72","v":0},{"$f":"AL72*請求書・納品書!$M$14","v":0}]
[null,null,null,null,null,null,null,null,null,null,null,null,null,null,null,null,null,null,null,null,null,null,null,null,null,null,null,null,null,null,null,null,null,null,null,null,null,"合　計",{"$f":"SUM(AM69:AM72)","v":0},null,{"$f":"AM55+AM61+AM67+AM73","v":0}]
[null,null,null,null,null,null,null,null,null,null,null,null,null,null,null,null,null,null,null,null,null,null,null,null,null,null,null,null,null,null,null,null,null,{"$f":"A74","v":0},"日数(日)","勤務時間(h)"," 早退（h）","合計(h)","金額(円)"]
["残業",null,null,null,null,null,null,null,null,null,null,null,null,null,null,null,null,null,null,null,null,null,null,null,null,null,null,null,null,null,null,null,{"$f":"SUM(B75:AF75)","v":0},"　出勤",{"$f":"COUNTIF(B74:AF74,\"出\")","v":0},{"$f":"AI75*7.8","v":0},{"$f":"AG76","v":0},{"$f":"AJ75-AK75","v":0},{"$f":"ROUNDDOWN(AL75*請求書・納品書!$M$11,)","v":0}]
["遅・早(出)",null,null,null,null,null,null,null,null,null,null,null,null,null,null,null,null,null,null,null,null,null,null,null,null,null,null,null,null,null,null,null,{"$f":"SUM(B76:AF76)","v":0},"　残業",null,null,null,{"$f":"AG75","v":0},{"$f":"ROUNDDOWN(AL76*請求書・納品書!$M$12,)","v":0}]
["遅・早(公)",null,null,null,null,null,null,null,null,null,null,null,null,null,null,null,null,null,null,null,null,null,null,null,null,null,null,null,null,null,null,null,{"$f":"SUM(B77:AF77)","v":0},"　公出",{"$f":"COUNTIF(B74:AF74,\"公\")","v":0},{"$f":"AI77*7.8","v":0},{"$f":"AG77","v":0},{"$f":"AJ77-AK77","v":0},{"$f":"ROUNDDOWN(AL77*請求書・納品書!$M$13,)","v":0}]
["連続",null,null,null,null,null,null,null,null,null,null,null,null,null,null,null,null,null,null,null,null,null,null,null,null,null,null,null,null,null,null,null,{"$f":"SUM(B78:AF78)","v":0},"　連続",null,null,null,{"$f":"AG78","v":0},{"$f":"AL78*請求書・納品書!$M$14","v":0}]
[null,null,null,null,null,null,null,null,null,null,null,null,null,null,null,null,null,null,null,null,null,null,null,null,null,null,null,null,null,null,null,null,null,null,null,null,null,"合　計",{"$f":"SUM(AM75:AM78)","v":0}]
[null,null,null,null,null,null,null,null,null,null,null,null,null,null,null,null,null,null,null,null,null,null,null,null,null,null,null,null,null,null,null,null,null,{"$f":"A80","v":0},"日数(日)","勤務時間(h)"," 早退（h）","合計(h)","金額(円)"]
["残業",null,null,null,null,null,null,null,null,null,null,null,null,null,null,null,null,null,null,null,null,null,null,null,null,null,null,null,null,null,null,null,{"$f":"SUM(B81:AF81)","v":0},"　出勤",{"$f":"COUNTIF(B80:AF80,\"出\")","v":0},{"$f":"AI81*7.8","v":0},{"$f":"AG82","v":0},{"$f":"AJ81-AK81","v":0},{"$f":"ROUNDDOWN(AL81*請求書・納品書!$M$11,)","v":0}]
["遅・早(出)",null,null,null,null,null,null,null,null,null,null,null,null,null,null,null,null,null,null,null,null,null,null,null,null,null,null,null,null,null,null,null,{"$f":"SUM(B82:AF82)","v":0},"　残業",null,null,null,{"$f":"AG81","v":0},{"$f":"ROUNDDOWN(AL82*請求書・納品書!$M$12,)","v":0}]
["遅・早(公)",null,null,null,null,null,null,null,null,null,null,null,null,null,null,null,null,null,null,null,null,null,null,null,null,null,null,null,null,null,null,null,{"$f":"SUM(B83:AF83)","v":0},"　公出",{"$f":"COUNTIF(B80:AF80,\"公\")","v":0},{"$f":"AI83*7.8","v":0},{"$f":"AG83","v":0},{"$f":"AJ83-AK83","v":0},{"$f":"ROUNDDOWN(AL83*請求書・納品書!$M$13,)","v":0}]
["連続",null,null,null,null,null,null,null,null,null,null,null,null,null,null,null,null,null,null,null,null,null,null,null,null,null,null,null,null,null,null,null,{"$f":"SUM(B84:AF84)","v":0},"　連続",null,null,null,{"$f":"AG84","v":0},{"$f":"AL84*請求書・納品書!$M$14","v":0}]
[null,null,null,null,null,null,null,null,null,null,null,null,null,null,null,null,null,null,null,null,null,null,null,null,null,null,null,null,null,null,null,null,null,null,null,null,null,"合　計",{"$f":"SUM(AM81:AM84)","v":0}]
[null,null,null,null,null,null,null,null,null,null,null,null,null,null,null,null,null,null,null,null,null,null,null,null,null,null,null,null,null,null,null,null,null,{"$f":"A86","v":0},"日数(日)","勤務時間(h)"," 早退（h）","合計(h)","金額(円)"]
["残業",null,null,null,null,null,null,null,null,null,null,null,null,null,null,null,null,null,null,null,null,null,null,null,null,null,null,null,null,null,null,null,{"$f":"SUM(B87:AF87)","v":0},"　出勤",{"$f":"COUNTIF(B86:AF86,\"出\")","v":0},{"$f":"AI87*7.8","v":0},{"$f":"AG88","v":0},{"$f":"AJ87-AK87","v":0},{"$f":"ROUNDDOWN(AL87*請求書・納品書!$M$11,)","v":0}]
["遅・早(出)",null,null,null,null,null,null,null,null,null,null,null,null,null,null,null,null,null,null,null,null,null,null,null,null,null,null,null,null,null,null,null,{"$f":"SUM(B88:AF88)","v":0},"　残業",null,null,null,{"$f":"AG87","v":0},{"$f":"ROUNDDOWN(AL88*請求書・納品書!$M$12,)","v":0}]
["遅・早(公)",null,null,null,null,null,null,null,null,null,null,null,null,null,null,null,null,null,null,null,null,null,null,null,null,null,null,null,null,null,null,null,{"$f":"SUM(B89:AF89)","v":0},"　公出",{"$f":"COUNTIF(B86:AF86,\"公\")","v":0},{"$f":"AI89*7.8","v":0},{"$f":"AG89","v":0},{"$f":"AJ89-AK89","v":0},{"$f":"ROUNDDOWN(AL89*請求書・納品書!$M$13,)","v":0}]
["連続",null,null,null,null,null,null,null,null,null,null,null,null,null,null,null,null,null,null,null,null,null,null,null,null,null,null,null,null,null,null,null,{"$f":"SUM(B90:AF90)","v":0},"　連続",null,null,null,{"$f":"AG90","v":0},{"$f":"AL90*請求書・納品書!$M$14","v":0}]
[null,null,null,null,null,null,null,null,null,null,null,null,null,null,null,null,null,null,null,null,null,null,null,null,null,null,null,null,null,null,null,null,null,null,null,null,null,"合　計",{"$f":"SUM(AM87:AM90)","v":0}]
[null,null,null,null,null,null,null,null,null,null,null,null,null,null,null,null,null,null,null,null,null,null,null,null,null,null,null,null,null,null,null,null,null,{"$f":"A92","v":0},"日数(日)","勤務時間(h)"," 早退（h）","合計(h)","金額(円)"]
["残業",null,null,null,null,null,null,null,null,null,null,null,null,null,null,null,null,null,null,null,null,null,null,null,null,null,null,null,null,null,null,null,{"$f":"SUM(B93:AF93)","v":0},"　出勤",{"$f":"COUNTIF(B92:AF92,\"出\")","v":0},{"$f":"AI93*7.8","v":0},{"$f":"AG94","v":0},{"$f":"AJ93-AK93","v":0},{"$f":"ROUNDDOWN(AL93*請求書・納品書!$M$11,)","v":0}]
["遅・早(出)",null,null,null,null,null,null,null,null,null,null,null,null,null,null,null,null,null,null,null,null,null,null,null,null,null,null,null,null,null,null,null,{"$f":"SUM(B94:AF94)","v":0},"　残業",null,null,null,{"$f":"AG93","v":0},{"$f":"ROUNDDOWN(AL94*請求書・納品書!$M$12,)","v":0}]
["遅・早(公)",null,null,null,null,null,null,null,null,null,null,null,null,null,null,null,null,null,null,null,null,null,null,null,null,null,null,null,null,null,null,null,{"$f":"SUM(B95:AF95)","v":0},"　公出",{"$f":"COUNTIF(B92:AF92,\"公\")","v":0},{"$f":"AI95*7.8","v":0},{"$f":"AG95","v":0},{"$f":"AJ95-AK95","v":0},{"$f":"ROUNDDOWN(AL95*請求書・納品書!$M$13,)","v":0}]
["連続",null,null,null,null,null,null,null,null,null,null,null,null,null,null,null,null,null,null,null,null,null,null,null,null,null,null,null,null,null,null,null,{"$f":"SUM(B96:AF96)","v":0},"　連続",null,null,null,{"$f":"AG96","v":0},{"$f":"AL96*請求書・納品書!$M$14","v":0}]
[null,null,null,null,null,null,null,null,null,null,null,null,null,null,null,null,null,null,null,null,null,null,null,null,null,null,null,null,null,null,null,null,null,null,null,null,null,"合　計",{"$f":"SUM(AM93:AM96)","v":0},null,{"$f":"AM79+AM85+AM91+AM97","v":0}]
[null,null,null,null,null,null,null,null,null,null,null,null,null,null,null,null,null,null,null,null,null,null,null,null,null,null,null,null,null,null,null,null,null,{"$f":"A98","v":0},"日数(日)","勤務時間(h)"," 早退（h）","合計(h)","金額(円)"]
["残業",null,null,null,null,null,null,null,null,null,null,null,null,null,null,null,null,null,null,null,null,null,null,null,null,null,null,null,null,null,null,null,{"$f":"SUM(B99:AF99)","v":0},"　出勤",{"$f":"COUNTIF(B98:AF98,\"出\")","v":0},{"$f":"AI99*7.8","v":0},{"$f":"AG100","v":0},{"$f":"AJ99-AK99","v":0},{"$f":"ROUNDDOWN(AL99*請求書・納品書!$M$11,)","v":0}]
["遅・早(出)",null,null,null,null,null,null,null,null,null,null,null,null,null,null,null,null,null,null,null,null,null,null,null,null,null,null,null,null,null,null,null,{"$f":"SUM(B100:AF100)","v":0},"　残業",null,null,null,{"$f":"AG99","v":0},{"$f":"ROUNDDOWN(AL100*請求書・納品書!$M$12,)","v":0}]
["遅・早(公)",null,null,null,null,null,null,null,null,null,null,null,null,null,null,null,null,null,null,null,null,null,null,null,null,null,null,null,null,null,null,null,{"$f":"SUM(B101:AF101)","v":0},"　公出",{"$f":"COUNTIF(B98:AF98,\"公\")","v":0},{"$f":"AI101*7.8","v":0},{"$f":"AG101","v":0},{"$f":"AJ101-AK101","v":0},{"$f":"ROUNDDOWN(AL101*請求書・納品書!$M$13,)","v":0}]
["連続",null,null,null,null,null,null,null,null,null,null,null,null,null,null,null,null,null,null,null,null,null,null,null,null,null,null,null,null,null,null,null,{"$f":"SUM(B102:AF102)","v":0},"　連続",null,null,null,{"$f":"AG102","v":0},{"$f":"AL102*請求書・納品書!$M$14","v":0}]
[null,null,null,null,null,null,null,null,null,null,null,null,null,null,null,null,null,null,null,null,null,null,null,null,null,null,null,null,null,null,null,null,null,null,null,null,null,"合　計",{"$f":"SUM(AM99:AM102)","v":0}]
[null,null,null,null,null,null,null,null,null,null,null,null,null,null,null,null,null,null,null,null,null,null,null,null,null,null,null,null,null,null,null,null,null,{"$f":"A104","v":0},"日数(日)","勤務時間(h)"," 早退（h）","合計(h)","金額(円)"]
["残業",null,null,null,null,null,null,null,null,null,null,null,null,null,null,null,null,null,null,null,null,null,null,null,null,null,null,null,null,null,null,null,{"$f":"SUM(B105:AF105)","v":0},"　出勤",{"$f":"COUNTIF(B104:AF104,\"出\")","v":0},{"$f":"AI105*7.8","v":0},{"$f":"AG106","v":0},{"$f":"AJ105-AK105","v":0},{"$f":"ROUNDDOWN(AL105*請求書・納品書!$M$11,)","v":0}]
["遅・早(出)",null,null,null,null,null,null,null,null,null,null,null,null,null,null,null,null,null,null,null,null,null,null,null,null,null,null,null,null,null,null,null,{"$f":"SUM(B106:AF106)","v":0},"　残業",null,null,null,{"$f":"AG105","v":0},{"$f":"ROUNDDOWN(AL106*請求書・納品書!$M$12,)","v":0}]
["遅・早(公)",null,null,null,null,null,null,null,null,null,null,null,null,null,null,null,null,null,null,null,null,null,null,null,null,null,null,null,null,null,null,null,{"$f":"SUM(B107:AF107)","v":0},"　公出",{"$f":"COUNTIF(B104:AF104,\"公\")","v":0},{"$f":"AI107*7.8","v":0},{"$f":"AG107","v":0},{"$f":"AJ107-AK107","v":0},{"$f":"ROUNDDOWN(AL107*請求書・納品書!$M$13,)","v":0}]
["連続",null,null,null,null,null,null,null,null,null,null,null,null,null,null,null,null,null,null,null,null,null,null,null,null,null,null,null,null,null,null,null,{"$f":"SUM(B108:AF108)","v":0},"　連続",null,null,null,{"$f":"AG108","v":0},{"$f":"AL108*請求書・納品書!$M$14","v":0}]
[null,null,null,null,null,null,null,null,null,null,null,null,null,null,null,null,null,null,null,null,null,null,null,null,null,null,null,null,null,null,null,null,null,null,null,null,null,"合　計",{"$f":"SUM(AM105:AM108)","v":0}]
[null,null,null,null,null,null,null,null,null,null,null,null,null,null,null,null,null,null,null,null,null,null,null,null,null,null,null,null,null,null,null,null,null,{"$f":"A110","v":0},"日数(日)","勤務時間(h)"," 早退（h）","合計(h)","金額(円)"]
["残業",null,null,null,null,null,null,null,null,null,null,null,null,null,null,null,null,null,null,null,null,null,null,null,null,null,null,null,null,null,null,null,{"$f":"SUM(B111:AF111)","v":0},"　出勤",{"$f":"COUNTIF(B110:AF110,\"出\")","v":0},{"$f":"AI111*7.8","v":0},{"$f":"AG112","v":0},{"$f":"AJ111-AK111","v":0},{"$f":"ROUNDDOWN(AL111*請求書・納品書!$M$11,)","v":0}]
["遅・早(出)",null,null,null,null,null,null,null,null,null,null,null,null,null,null,null,null,null,null,null,null,null,null,null,null,null,null,null,null,null,null,null,{"$f":"SUM(B112:AF112)","v":0},"　残業",null,null,null,{"$f":"AG111","v":0},{"$f":"ROUNDDOWN(AL112*請求書・納品書!$M$12,)","v":0}]
["遅・早(公)",null,null,null,null,null,null,null,null,null,null,null,null,null,null,null,null,null,null,null,null,null,null,null,null,null,null,null,null,null,null,null,{"$f":"SUM(B113:AF113)","v":0},"　公出",{"$f":"COUNTIF(B110:AF110,\"公\")","v":0},{"$f":"AI113*7.8","v":0},{"$f":"AG113","v":0},{"$f":"AJ113-AK113","v":0},{"$f":"ROUNDDOWN(AL113*請求書・納品書!$M$13,)","v":0}]
["連続",null,null,null,null,null,null,null,null,null,null,null,null,null,null,null,null,null,null,null,null,null,null,null,null,null,null,null,null,null,null,null,{"$f":"SUM(B114:AF114)","v":0},"　連続",null,null,null,{"$f":"AG114","v":0},{"$f":"AL114*請求書・納品書!$M$14","v":0}]
[null,null,null,null,null,null,null,null,null,null,null,null,null,null,null,null,null,null,null,null,null,null,null,null,null,null,null,null,null,null,null,null,null,null,null,null,null,"合　計",{"$f":"SUM(AM111:AM114)","v":0}]
[null,null,null,null,null,null,null,null,null,null,null,null,null,null,null,null,null,null,null,null,null,null,null,null,null,null,null,null,null,null,null,null,null,{"$f":"A116","v":0},"日数(日)","勤務時間(h)"," 早退（h）","合計(h)","金額(円)"]
["残業",null,null,null,null,null,null,null,null,null,null,null,null,null,null,null,null,null,null,null,null,null,null,null,null,null,null,null,null,null,null,null,{"$f":"SUM(B117:AF117)","v":0},"　出勤",{"$f":"COUNTIF(B116:AF116,\"出\")","v":0},{"$f":"AI117*7.8","v":0},{"$f":"AG118","v":0},{"$f":"AJ117-AK117","v":0},{"$f":"ROUNDDOWN(AL117*請求書・納品書!$M$11,)","v":0}]
["遅・早(出)",null,null,null,null,null,null,null,null,null,null,null,null,null,null,null,null,null,null,null,null,null,null,null,null,null,null,null,null,null,null,null,{"$f":"SUM(B118:AF118)","v":0},"　残業",null,null,null,{"$f":"AG117","v":0},{"$f":"ROUNDDOWN(AL118*請求書・納品書!$M$12,)","v":0}]
["遅・早(公)",null,null,null,null,null,null,null,null,null,null,null,null,null,null,null,null,null,null,null,null,null,null,null,null,null,null,null,null,null,null,null,{"$f":"SUM(B119:AF119)","v":0},"　公出",{"$f":"COUNTIF(B116:AF116,\"公\")","v":0},{"$f":"AI119*7.8","v":0},{"$f":"AG119","v":0},{"$f":"AJ119-AK119","v":0},{"$f":"ROUNDDOWN(AL119*請求書・納品書!$M$13,)","v":0}]
["連続",null,null,null,null,null,null,null,null,null,null,null,null,null,null,null,null,null,null,null,null,null,null,null,null,null,null,null,null,null,null,null,{"$f":"SUM(B120:AF120)","v":0},"　連続",null,null,null,{"$f":"AG120","v":0},{"$f":"AL120*請求書・納品書!$M$14","v":0}]
[null,null,null,null,null,null,null,null,null,null,null,null,null,null,null,null,null,null,null,null,null,null,null,null,null,null,null,null,null,null,null,null,null,null,null,null,null,"合　計",{"$f":"SUM(AM117:AM120)","v":0},null,{"$f":"AM103+AM109+AM115+AM121","v":0}]
[null,null,null,null,null,null,null,null,null,null,null,null,null,null,null,null,null,null,null,null,null,null,null,null,null,null,null,null,null,null,null,null,null,{"$f":"A122","v":0},"日数(日)","勤務時間(h)"," 早退（h）","合計(h)","金額(円)"]
["残業",null,null,null,null,null,null,null,null,null,null,null,null,null,null,null,null,null,null,null,null,null,null,null,null,null,null,null,null,null,null,null,{"$f":"SUM(B123:AF123)","v":0},"　出勤",{"$f":"COUNTIF(B122:AF122,\"出\")","v":0},{"$f":"AI123*7.8","v":0},{"$f":"AG124","v":0},{"$f":"AJ123-AK123","v":0},{"$f":"ROUNDDOWN(AL123*請求書・納品書!$M$11,)","v":0}]
["遅・早(出)",null,null,null,null,null,null,null,null,null,null,null,null,null,null,null,null,null,null,null,null,null,null,null,null,null,null,null,null,null,null,null,{"$f":"SUM(B124:AF124)","v":0},"　残業",null,null,null,{"$f":"AG123","v":0},{"$f":"ROUNDDOWN(AL124*請求書・納品書!$M$12,)","v":0}]
["遅・早(公)",null,null,null,null,null,null,null,null,null,null,null,null,null,null,null,null,null,null,null,null,null,null,null,null,null,null,null,null,null,null,null,{"$f":"SUM(B125:AF125)","v":0},"　公出",{"$f":"COUNTIF(B122:AF122,\"公\")","v":0},{"$f":"AI125*7.8","v":0},{"$f":"AG125","v":0},{"$f":"AJ125-AK125","v":0},{"$f":"ROUNDDOWN(AL125*請求書・納品書!$M$13,)","v":0}]
["連続",null,null,null,null,null,null,null,null,null,null,null,null,null,null,null,null,null,null,null,null,null,null,null,null,null,null,null,null,null,null,null,{"$f":"SUM(B126:AF126)","v":0},"　連続",null,null,null,{"$f":"AG126","v":0},{"$f":"AL126*請求書・納品書!$M$14","v":0}]
[null,null,null,null,null,null,null,null,null,null,null,null,null,null,null,null,null,null,null,null,null,null,null,null,null,null,null,null,null,null,null,null,null,null,null,null,null,"合　計",{"$f":"SUM(AM123:AM126)","v":0}]
[null,null,null,null,null,null,null,null,null,null,null,null,null,null,null,null,null,null,null,null,null,null,null,null,null,null,null,null,null,null,null,null,null,{"$f":"A128","v":0},"日数(日)","勤務時間(h)"," 早退（h）","合計(h)","金額(円)"]
["残業",null,null,null,null,null,null,null,null,null,null,null,null,null,null,null,null,null,null,null,null,null,null,null,null,null,null,null,null,null,null,null,{"$f":"SUM(B129:AF129)","v":0},"　出勤",{"$f":"COUNTIF(B128:AF128,\"出\")","v":0},{"$f":"AI129*7.8","v":0},{"$f":"AG130","v":0},{"$f":"AJ129-AK129","v":0},{"$f":"ROUNDDOWN(AL129*請求書・納品書!$M$11,)","v":0}]
["遅・早(出)",null,null,null,null,null,null,null,null,null,null,null,null,null,null,null,null,null,null,null,null,null,null,null,null,null,null,null,null,null,null,null,{"$f":"SUM(B130:AF130)","v":0},"　残業",null,null,null,{"$f":"AG129","v":0},{"$f":"ROUNDDOWN(AL130*請求書・納品書!$M$12,)","v":0}]
["遅・早(公)",null,null,null,null,null,null,null,null,null,null,null,null,null,null,null,null,null,null,null,null,null,null,null,null,null,null,null,null,null,null,null,{"$f":"SUM(B131:AF131)","v":0},"　公出",{"$f":"COUNTIF(B128:AF128,\"公\")","v":0},{"$f":"AI131*7.8","v":0},{"$f":"AG131","v":0},{"$f":"AJ131-AK131","v":0},{"$f":"ROUNDDOWN(AL131*請求書・納品書!$M$13,)","v":0}]
["連続",null,null,null,null,null,null,null,null,null,null,null,null,null,null,null,null,null,null,null,null,null,null,null,null,null,null,null,null,null,null,null,{"$f":"SUM(B132:AF132)","v":0},"　連続",null,null,null,{"$f":"AG132","v":0},{"$f":"AL132*請求書・納品書!$M$14","v":0}]
[null,null,null,null,null,null,null,null,null,null,null,null,null,null,null,null,null,null,null,null,null,null,null,null,null,null,null,null,null,null,null,null,null,null,null,null,null,"合　計",{"$f":"SUM(AM129:AM132)","v":0}]
[null,null,null,null,null,null,null,null,null,null,null,null,null,null,null,null,null,null,null,null,null,null,null,null,null,null,null,null,null,null,null,null,null,{"$f":"A134","v":0},"日数(日)","勤務時間(h)"," 早退（h）","合計(h)","金額(円)"]
["残業",null,null,null,null,null,null,null,null,null,null,null,null,null,null,null,null,null,null,null,null,null,null,null,null,null,null,null,null,null,null,null,{"$f":"SUM(B135:AF135)","v":0},"　出勤",{"$f":"COUNTIF(B134:AF134,\"出\")","v":0},{"$f":"AI135*7.8","v":0},{"$f":"AG136","v":0},{"$f":"AJ135-AK135","v":0},{"$f":"ROUNDDOWN(AL135*請求書・納品書!$M$11,)","v":0}]
["遅・早(出)",null,null,null,null,null,null,null,null,null,null,null,null,null,null,null,null,null,null,null,null,null,null,null,null,null,null,null,null,null,null,null,{"$f":"SUM(B136:AF136)","v":0},"　残業",null,null,null,{"$f":"AG135","v":0},{"$f":"ROUNDDOWN(AL136*請求書・納品書!$M$12,)","v":0}]
["遅・早(公)",null,null,null,null,null,null,null,null,null,null,null,null,null,null,null,null,null,null,null,null,null,null,null,null,null,null,null,null,null,null,null,{"$f":"SUM(B137:AF137)","v":0},"　公出",{"$f":"COUNTIF(B134:AF134,\"公\")","v":0},{"$f":"AI137*7.8","v":0},{"$f":"AG137","v":0},{"$f":"AJ137-AK137","v":0},{"$f":"ROUNDDOWN(AL137*請求書・納品書!$M$13,)","v":0}]
["連続",null,null,null,null,null,null,null,null,null,null,null,null,null,null,null,null,null,null,null,null,null,null,null,null,null,null,null,null,null,null,null,{"$f":"SUM(B138:AF138)","v":0},"　連続",null,null,null,{"$f":"AG138","v":0},{"$f":"AL138*請求書・納品書!$M$14","v":0}]
[null,null,null,null,null,null,null,null,null,null,null,null,null,null,null,null,null,null,null,null,null,null,null,null,null,null,null,null,null,null,null,null,null,null,null,null,null,"合　計",{"$f":"SUM(AM135:AM138)","v":0}]
[null,null,null,null,null,null,null,null,null,null,null,null,null,null,null,null,null,null,null,null,null,null,null,null,null,null,null,null,null,null,null,null,null,{"$f":"A140","v":0},"日数(日)","勤務時間(h)"," 早退（h）","合計(h)","金額(円)"]
["残業",null,null,null,null,null,null,null,null,null,null,null,null,null,null,null,null,null,null,null,null,null,null,null,null,null,null,null,null,null,null,null,{"$f":"SUM(B141:AF141)","v":0},"　出勤",{"$f":"COUNTIF(B140:AF140,\"出\")","v":0},{"$f":"AI141*7.8","v":0},{"$f":"AG142","v":0},{"$f":"AJ141-AK141","v":0},{"$f":"ROUNDDOWN(AL141*請求書・納品書!$M$11,)","v":0}]
["遅・早(出)",null,null,null,null,null,null,null,null,null,null,null,null,null,null,null,null,null,null,null,null,null,null,null,null,null,null,null,null,null,null,null,{"$f":"SUM(B142:AF142)","v":0},"　残業",null,null,null,{"$f":"AG141","v":0},{"$f":"ROUNDDOWN(AL142*請求書・納品書!$M$12,)","v":0}]
["遅・早(公)",null,null,null,null,null,null,null,null,null,null,null,null,null,null,null,null,null,null,null,null,null,null,null,null,null,null,null,null,null,null,null,{"$f":"SUM(B143:AF143)","v":0},"　公出",{"$f":"COUNTIF(B140:AF140,\"公\")","v":0},{"$f":"AI143*7.8","v":0},{"$f":"AG143","v":0},{"$f":"AJ143-AK143","v":0},{"$f":"ROUNDDOWN(AL143*請求書・納品書!$M$13,)","v":0}]
["連続",null,null,null,null,null,null,null,null,null,null,null,null,null,null,null,null,null,null,null,null,null,null,null,null,null,null,null,null,null,null,null,{"$f":"SUM(B144:AF144)","v":0},"　連続",null,null,null,{"$f":"AG144","v":0},{"$f":"AL144*請求書・納品書!$M$14","v":0}]
[null,null,null,null,null,null,null,null,null,null,null,null,null,null,null,null,null,null,null,null,null,null,null,null,null,null,null,null,null,null,null,null,null,null,null,null,null,"合　計",{"$f":"SUM(AM141:AM144)","v":0},null,{"$f":"AM127+AM133+AM139+AM145","v":0}]
[null,null,null,null,null,null,null,null,null,null,null,null,null,null,null,null,null,null,null,null,null,null,null,null,null,null,null,null,null,null,null,null,null,{"$f":"A146","v":0},"日数(日)","勤務時間(h)"," 早退（h）","合計(h)","金額(円)"]
["残業",null,null,null,null,null,null,null,null,null,null,null,null,null,null,null,null,null,null,null,null,null,null,null,null,null,null,null,null,null,null,null,{"$f":"SUM(B147:AF147)","v":0},"　出勤",{"$f":"COUNTIF(B146:AF146,\"出\")","v":0},{"$f":"AI147*7.8","v":0},{"$f":"AG148","v":0},{"$f":"AJ147-AK147","v":0},{"$f":"ROUNDDOWN(AL147*請求書・納品書!$M$11,)","v":0}]
["遅・早(出)",null,null,null,null,null,null,null,null,null,null,null,null,null,null,null,null,null,null,null,null,null,null,null,null,null,null,null,null,null,null,null,{"$f":"SUM(B148:AF148)","v":0},"　残業",null,null,null,{"$f":"AG147","v":0},{"$f":"ROUNDDOWN(AL148*請求書・納品書!$M$12,)","v":0}]
["遅・早(公)",null,null,null,null,null,null,null,null,null,null,null,null,null,null,null,null,null,null,null,null,null,null,null,null,null,null,null,null,null,null,null,{"$f":"SUM(B149:AF149)","v":0},"　公出",{"$f":"COUNTIF(B146:AF146,\"公\")","v":0},{"$f":"AI149*7.8","v":0},{"$f":"AG149","v":0},{"$f":"AJ149-AK149","v":0},{"$f":"ROUNDDOWN(AL149*請求書・納品書!$M$13,)","v":0}]
["連続",null,null,null,null,null,null,null,null,null,null,null,null,null,null,null,null,null,null,null,null,null,null,null,null,null,null,null,null,null,null,null,{"$f":"SUM(B150:AF150)","v":0},"　連続",null,null,null,{"$f":"AG150","v":0},{"$f":"AL150*請求書・納品書!$M$14","v":0}]
[null,null,null,null,null,null,null,null,null,null,null,null,null,null,null,null,null,null,null,null,null,null,null,null,null,null,null,null,null,null,null,null,null,null,null,null,null,"合　計",{"$f":"SUM(AM147:AM150)","v":0}]
[null,null,null,null,null,null,null,null,null,null,null,null,null,null,null,null,null,null,null,null,null,null,null,null,null,null,null,null,null,null,null,null,null,{"$f":"A152","v":0},"日数(日)","勤務時間(h)"," 早退（h）","合計(h)","金額(円)"]
["残業",null,null,null,null,null,null,null,null,null,null,null,null,null,null,null,null,null,null,null,null,null,null,null,null,null,null,null,null,null,null,null,{"$f":"SUM(B153:AF153)","v":0},"　出勤",{"$f":"COUNTIF(B152:AF152,\"出\")","v":0},{"$f":"AI153*7.8","v":0},{"$f":"AG154","v":0},{"$f":"AJ153-AK153","v":0},{"$f":"ROUNDDOWN(AL153*請求書・納品書!$M$11,)","v":0}]
["遅・早(出)",null,null,null,null,null,null,null,null,null,null,null,null,null,null,null,null,null,null,null,null,null,null,null,null,null,null,null,null,null,null,null,{"$f":"SUM(B154:AF154)","v":0},"　残業",null,null,null,{"$f":"AG153","v":0},{"$f":"ROUNDDOWN(AL154*請求書・納品書!$M$12,)","v":0}]
["遅・早(公)",null,null,null,null,null,null,null,null,null,null,null,null,null,null,null,null,null,null,null,null,null,null,null,null,null,null,null,null,null,null,null,{"$f":"SUM(B155:AF155)","v":0},"　公出",{"$f":"COUNTIF(B152:AF152,\"公\")","v":0},{"$f":"AI155*7.8","v":0},{"$f":"AG155","v":0},{"$f":"AJ155-AK155","v":0},{"$f":"ROUNDDOWN(AL155*請求書・納品書!$M$13,)","v":0}]
["連続",null,null,null,null,null,null,null,null,null,null,null,null,null,null,null,null,null,null,null,null,null,null,null,null,null,null,null,null,null,null,null,{"$f":"SUM(B156:AF156)","v":0},"　連続",null,null,null,{"$f":"AG156","v":0},{"$f":"AL156*請求書・納品書!$M$14","v":0}]
[null,null,null,null,null,null,null,null,null,null,null,null,null,null,null,null,null,null,null,null,null,null,null,null,null,null,null,null,null,null,null,null,null,null,null,null,null,"合　計",{"$f":"SUM(AM153:AM156)","v":0}]
[null,null,null,null,null,null,null,null,null,null,null,null,null,null,null,null,null,null,null,null,null,null,null,null,null,null,null,null,null,null,null,null,null,{"$f":"A158","v":0},"日数(日)","勤務時間(h)"," 早退（h）","合計(h)","金額(円)"]
["残業",null,null,null,null,null,null,null,null,null,null,null,null,null,null,null,null,null,null,null,null,null,null,null,null,null,null,null,null,null,null,null,{"$f":"SUM(B159:AF159)","v":0},"　出勤",{"$f":"COUNTIF(B158:AF158,\"出\")","v":0},{"$f":"AI159*7.8","v":0},{"$f":"AG160","v":0},{"$f":"AJ159-AK159","v":0},{"$f":"ROUNDDOWN(AL159*請求書・納品書!$M$11,)","v":0}]
["遅・早(出)",null,null,null,null,null,null,null,null,null,null,null,null,null,null,null,null,null,null,null,null,null,null,null,null,null,null,null,null,null,null,null,{"$f":"SUM(B160:AF160)","v":0},"　残業",null,null,null,{"$f":"AG159","v":0},{"$f":"ROUNDDOWN(AL160*請求書・納品書!$M$12,)","v":0}]
["遅・早(公)",null,null,null,null,null,null,null,null,null,null,null,null,null,null,null,null,null,null,null,null,null,null,null,null,null,null,null,null,null,null,null,{"$f":"SUM(B161:AF161)","v":0},"　公出",{"$f":"COUNTIF(B158:AF158,\"公\")","v":0},{"$f":"AI161*7.8","v":0},{"$f":"AG161","v":0},{"$f":"AJ161-AK161","v":0},{"$f":"ROUNDDOWN(AL161*請求書・納品書!$M$13,)","v":0}]
["連続",null,null,null,null,null,null,null,null,null,null,null,null,null,null,null,null,null,null,null,null,null,null,null,null,null,null,null,null,null,null,null,{"$f":"SUM(B162:AF162)","v":0},"　連続",null,null,null,{"$f":"AG162","v":0},{"$f":"AL162*請求書・納品書!$M$14","v":0}]
[null,null,null,null,null,null,null,null,null,null,null,null,null,null,null,null,null,null,null,null,null,null,null,null,null,null,null,null,null,null,null,null,null,null,null,null,null,"合　計",{"$f":"SUM(AM159:AM162)","v":0}]
[null,null,null,null,null,null,null,null,null,null,null,null,null,null,null,null,null,null,null,null,null,null,null,null,null,null,null,null,null,null,null,null,null,{"$f":"A164","v":0},"日数(日)","勤務時間(h)"," 早退（h）","合計(h)","金額(円)"]
["残業",null,null,null,null,null,null,null,null,null,null,null,null,null,null,null,null,null,null,null,null,null,null,null,null,null,null,null,null,null,null,null,{"$f":"SUM(B165:AF165)","v":0},"　出勤",{"$f":"COUNTIF(B164:AF164,\"出\")","v":0},{"$f":"AI165*7.8","v":0},{"$f":"AG166","v":0},{"$f":"AJ165-AK165","v":0},{"$f":"ROUNDDOWN(AL165*請求書・納品書!$M$11,)","v":0}]
["遅・早(出)",null,null,null,null,null,null,null,null,null,null,null,null,null,null,null,null,null,null,null,null,null,null,null,null,null,null,null,null,null,null,null,{"$f":"SUM(B166:AF166)","v":0},"　残業",null,null,null,{"$f":"AG165","v":0},{"$f":"ROUNDDOWN(AL166*請求書・納品書!$M$12,)","v":0}]
["遅・早(公)",null,null,null,null,null,null,null,null,null,null,null,null,null,null,null,null,null,null,null,null,null,null,null,null,null,null,null,null,null,null,null,{"$f":"SUM(B167:AF167)","v":0},"　公出",{"$f":"COUNTIF(B164:AF164,\"公\")","v":0},{"$f":"AI167*7.8","v":0},{"$f":"AG167","v":0},{"$f":"AJ167-AK167","v":0},{"$f":"ROUNDDOWN(AL167*請求書・納品書!$M$13,)","v":0}]
["連続",null,null,null,null,null,null,null,null,null,null,null,null,null,null,null,null,null,null,null,null,null,null,null,null,null,null,null,null,null,null,null,{"$f":"SUM(B168:AF168)","v":0},"　連続",null,null,null,{"$f":"AG168","v":0},{"$f":"AL168*請求書・納品書!$M$14","v":0}]
[null,null,null,null,null,null,null,null,null,null,null,null,null,null,null,null,null,null,null,null,null,null,null,null,null,null,null,null,null,null,null,null,null,null,null,null,null,"合　計",{"$f":"SUM(AM165:AM168)","v":0},null,{"$f":"AM151+AM157+AM163+AM169","v":0}]
[null,null,null,null,null,null,null,null,null,null,null,null,null,null,null,null,null,null,null,null,null,null,null,null,null,null,null,null,null,null,null,null,null,{"$f":"A170","v":0},"日数(日)","勤務時間(h)"," 早退（h）","合計(h)","金額(円)"]
["残業",null,null,null,null,null,null,null,null,null,null,null,null,null,null,null,null,null,null,null,null,null,null,null,null,null,null,null,null,null,null,null,{"$f":"SUM(B171:AF171)","v":0},"　出勤",{"$f":"COUNTIF(B170:AF170,\"出\")","v":0},{"$f":"AI171*7.8","v":0},{"$f":"AG172","v":0},{"$f":"AJ171-AK171","v":0},{"$f":"ROUNDDOWN(AL171*請求書・納品書!$M$11,)","v":0}]
["遅・早(出)",null,null,null,null,null,null,null,null,null,null,null,null,null,null,null,null,null,null,null,null,null,null,null,null,null,null,null,null,null,null,null,{"$f":"SUM(B172:AF172)","v":0},"　残業",null,null,null,{"$f":"AG171","v":0},{"$f":"ROUNDDOWN(AL172*請求書・納品書!$M$12,)","v":0}]
["遅・早(公)",null,null,null,null,null,null,null,null,null,null,null,null,null,null,null,null,null,null,null,null,null,null,null,null,null,null,null,null,null,null,null,{"$f":"SUM(B173:AF173)","v":0},"　公出",{"$f":"COUNTIF(B170:AF170,\"公\")","v":0},{"$f":"AI173*7.8","v":0},{"$f":"AG173","v":0},{"$f":"AJ173-AK173","v":0},{"$f":"ROUNDDOWN(AL173*請求書・納品書!$M$13,)","v":0}]
["連続",null,null,null,null,null,null,null,null,null,null,null,null,null,null,null,null,null,null,null,null,null,null,null,null,null,null,null,null,null,null,null,{"$f":"SUM(B174:AF174)","v":0},"　連続",null,null,null,{"$f":"AG174","v":0},{"$f":"AL174*請求書・納品書!$M$14","v":0}]
[null,null,null,null,null,null,null,null,null,null,null,null,null,null,null,null,null,null,null,null,null,null,null,null,null,null,null,null,null,null,null,null,null,null,null,null,null,"合　計",{"$f":"SUM(AM171:AM174)","v":0}]
[null,null,null,null,null,null,null,null,null,null,null,null,null,null,null,null,null,null,null,null,null,null,null,null,null,null,null,null,null,null,null,null,null,{"$f":"A176","v":0},"日数(日)","勤務時間(h)"," 早退（h）","合計(h)","金額(円)"]
["残業",null,null,null,null,null,null,null,null,null,null,null,null,null,null,null,null,null,null,null,null,null,null,null,null,null,null,null,null,null,null,null,{"$f":"SUM(B177:AF177)","v":0},"　出勤",{"$f":"COUNTIF(B176:AF176,\"出\")","v":0},{"$f":"AI177*7.8","v":0},{"$f":"AG178","v":0},{"$f":"AJ177-AK177","v":0},{"$f":"ROUNDDOWN(AL177*請求書・納品書!$M$11,)","v":0}]
["遅・早(出)",null,null,null,null,null,null,null,null,null,null,null,null,null,null,null,null,null,null,null,null,null,null,null,null,null,null,null,null,null,null,null,{"$f":"SUM(B178:AF178)","v":0},"　残業",null,null,null,{"$f":"AG177","v":0},{"$f":"ROUNDDOWN(AL178*請求書・納品書!$M$12,)","v":0}]
["遅・早(公)",null,null,null,null,null,null,null,null,null,null,null,null,null,null,null,null,null,null,null,null,null,null,null,null,null,null,null,null,null,null,null,{"$f":"SUM(B179:AF179)","v":0},"　公出",{"$f":"COUNTIF(B176:AF176,\"公\")","v":0},{"$f":"AI179*7.8","v":0},{"$f":"AG179","v":0},{"$f":"AJ179-AK179","v":0},{"$f":"ROUNDDOWN(AL179*請求書・納品書!$M$13,)","v":0}]
["連続",null,null,null,null,null,null,null,null,null,null,null,null,null,null,null,null,null,null,null,null,null,null,null,null,null,null,null,null,null,null,null,{"$f":"SUM(B180:AF180)","v":0},"　連続",null,null,null,{"$f":"AG180","v":0},{"$f":"AL180*請求書・納品書!$M$14","v":0}]
[null,null,null,null,null,null,null,null,null,null,null,null,null,null,null,null,null,null,null,null,null,null,null,null,null,null,null,null,null,null,null,null,null,null,null,null,null,"合　計",{"$f":"SUM(AM177:AM180)","v":0}]
[null,null,null,null,null,null,null,null,null,null,null,null,null,null,null,null,null,null,null,null,null,null,null,null,null,null,null,null,null,null,null,null,null,{"$f":"A182","v":0},"日数(日)","勤務時間(h)"," 早退（h）","合計(h)","金額(円)"]
["残業",null,null,null,null,null,null,null,null,null,null,null,null,null,null,null,null,null,null,null,null,null,null,null,null,null,null,null,null,null,null,null,{"$f":"SUM(B183:AF183)","v":0},"　出勤",{"$f":"COUNTIF(B182:AF182,\"出\")","v":0},{"$f":"AI183*7.8","v":0},{"$f":"AG184","v":0},{"$f":"AJ183-AK183","v":0},{"$f":"ROUNDDOWN(AL183*請求書・納品書!$M$11,)","v":0}]
["遅・早(出)",null,null,null,null,null,null,null,null,null,null,null,null,null,null,null,null,null,null,null,null,null,null,null,null,null,null,null,null,null,null,null,{"$f":"SUM(B184:AF184)","v":0},"　残業",null,null,null,{"$f":"AG183","v":0},{"$f":"ROUNDDOWN(AL184*請求書・納品書!$M$12,)","v":0}]
["遅・早(公)",null,null,null,null,null,null,null,null,null,null,null,null,null,null,null,null,null,null,null,null,null,null,null,null,null,null,null,null,null,null,null,{"$f":"SUM(B185:AF185)","v":0},"　公出",{"$f":"COUNTIF(B182:AF182,\"公\")","v":0},{"$f":"AI185*7.8","v":0},{"$f":"AG185","v":0},{"$f":"AJ185-AK185","v":0},{"$f":"ROUNDDOWN(AL185*請求書・納品書!$M$13,)","v":0}]
["連続",null,null,null,null,null,null,null,null,null,null,null,null,null,null,null,null,null,null,null,null,null,null,null,null,null,null,null,null,null,null,null,{"$f":"SUM(B186:AF186)","v":0},"　連続",null,null,null,{"$f":"AG186","v":0},{"$f":"AL186*請求書・納品書!$M$14","v":0}]
[null,null,null,null,null,null,null,null,null,null,null,null,null,null,null,null,null,null,null,null,null,null,null,null,null,null,null,null,null,null,null,null,null,null,null,null,null,"合　計",{"$f":"SUM(AM183:AM186)","v":0}]
[null,null,null,null,null,null,null,null,null,null,null,null,null,null,null,null,null,null,null,null,null,null,null,null,null,null,null,null,null,null,null,null,null,{"$f":"A188","v":0},"日数(日)","勤務時間(h)"," 早退（h）","合計(h)","金額(円)"]
["残業",null,null,null,null,null,null,null,null,null,null,null,null,null,null,null,null,null,null,null,null,null,null,null,null,null,null,null,null,null,null,null,{"$f":"SUM(B189:AF189)","v":0},"　出勤",{"$f":"COUNTIF(B188:AF188,\"出\")","v":0},{"$f":"AI189*7.8","v":0},{"$f":"AG190","v":0},{"$f":"AJ189-AK189","v":0},{"$f":"ROUNDDOWN(AL189*請求書・納品書!$M$11,)","v":0}]
["遅・早(出)",null,null,null,null,null,null,null,null,null,null,null,null,null,null,null,null,null,null,null,null,null,null,null,null,null,null,null,null,null,null,null,{"$f":"SUM(B190:AF190)","v":0},"　残業",null,null,null,{"$f":"AG189","v":0},{"$f":"ROUNDDOWN(AL190*請求書・納品書!$M$12,)","v":0}]
["遅・早(公)",null,null,null,null,null,null,null,null,null,null,null,null,null,null,null,null,null,null,null,null,null,null,null,null,null,null,null,null,null,null,null,{"$f":"SUM(B191:AF191)","v":0},"　公出",{"$f":"COUNTIF(B188:AF188,\"公\")","v":0},{"$f":"AI191*7.8","v":0},{"$f":"AG191","v":0},{"$f":"AJ191-AK191","v":0},{"$f":"ROUNDDOWN(AL191*請求書・納品書!$M$13,)","v":0}]
["連続",null,null,null,null,null,null,null,null,null,null,null,null,null,null,null,null,null,null,null,null,null,null,null,null,null,null,null,null,null,null,null,{"$f":"SUM(B192:AF192)","v":0},"　連続",null,null,null,{"$f":"AG192","v":0},{"$f":"AL192*請求書・納品書!$M$14","v":0}]
[null,null,null,null,null,null,null,null,null,null,null,null,null,null,null,null,null,null,null,null,null,null,null,null,null,null,null,null,null,null,null,null,null,null,null,null,null,"合　計",{"$f":"SUM(AM189:AM192)","v":0},null,{"$f":"AM175+AM181+AM187+AM193","v":0}]

{"sheet":"11","index":7,"n_rows":193,"n_cols":42,"rows_kept":193,"cut":false,"hidden":false,"merged":[]}
[{"$f":"'4'!A1","v":2010},1,2,3,4,5,6,7,8,9,10,11,12,13,14,15,16,17,18,19,20,21,22,23,24,25,26,27,28,29,30,31,"計",{"$f":"A1&\"年\"&MID(CELL(\"filename\",$A$1),FIND(\"]\",CELL(\"filename\",$A$1))+1,31) &\"月\"","v":"2010年11月"}]
[null,null,null,null,null,null,null,null,null,null,null,null,null,null,null,null,null,null,null,null,null,null,null,null,null,null,null,null,null,null,null,null,null,{"$f":"A2","v":0},"日数(日)","勤務時間(h)"," 早退（h）","合計(h)","金額(円)","出","　合計",{"$f":"SUM(AM:AM)/2","v":0}]
["残業",null,null,null,null,null,null,null,null,null,null,null,null,null,null,null,null,null,null,null,null,null,null,null,null,null,null,null,null,null,null,null,{"$f":"SUM(B3:AF3)","v":0},"　出勤",{"$f":"COUNTIF(B2:AF2,\"出\")","v":0},{"$f":"AI3*7.8","v":0},{"$f":"AG4","v":0},{"$f":"AJ3-AK3","v":0},{"$f":"ROUNDDOWN(AL3*請求書・納品書!$M$11,)","v":0},"公","　人数",{"$f":"COUNTA(AH:AH)-COUNTIF(AH:AH,0)-32*4-1","v":0}]
["遅・早(出)",null,null,null,null,null,null,null,null,null,null,null,null,null,null,null,null,null,null,null,null,null,null,null,null,null,null,null,null,null,null,null,{"$f":"SUM(B4:AF4)","v":0},"　残業",null,null,null,{"$f":"AG3","v":0},{"$f":"ROUNDDOWN(AL4*請求書・納品書!$M$12,)","v":0},"欠","　管理費",{"$f":"(AP3-AP9)*19400","v":0}]
["遅・早(公)",null,null,null,null,null,null,null,null,null,null,null,null,null,null,null,null,null,null,null,null,null,null,null,null,null,null,null,null,null,null,null,{"$f":"SUM(B5:AF5)","v":0},"　公出",{"$f":"COUNTIF(B2:AF2,\"公\")","v":0},{"$f":"AI5*7.8","v":0},{"$f":"AG5","v":0},{"$f":"AJ5-AK5","v":0},{"$f":"ROUNDDOWN(AL5*請求書・納品書!$M$13,)","v":0},"有","　小計",{"$f":"AP2+AP4","v":0}]
["連続",null,null,null,null,null,null,null,null,null,null,null,null,null,null,null,null,null,null,null,null,null,null,null,null,null,null,null,null,null,null,null,{"$f":"SUM(B6:AF6)","v":0},"　連続",null,null,null,{"$f":"AG6","v":0},{"$f":"AL6*請求書・納品書!$M$14","v":0},"半","　消費税",{"$f":"ROUNDDOWN(AP5*0.05,)","v":0}]
[null,null,null,null,null,null,null,null,null,null,null,null,null,null,null,null,null,null,null,null,null,null,null,null,null,null,null,null,null,null,null,null,null,null,null,null,null,"合　計",{"$f":"SUM(AM3:AM6)","v":0},null,"　総合計",{"$f":"AP5+AP6","v":0}]
[null,null,null,null,null,null,null,null,null,null,null,null,null,null,null,null,null,null,null,null,null,null,null,null,null,null,null,null,null,null,null,null,null,{"$f":"A8","v":0},"日数(日)","勤務時間(h)"," 早退（h）","合計(h)","金額(円)"]
["残業",null,null,null,null,null,null,null,null,null,null,null,null,null,null,null,null,null,null,null,null,null,null,null,null,null,null,null,null,null,null,null,{"$f":"SUM(B9:AF9)","v":0},"　出勤",{"$f":"COUNTIF(B8:AF8,\"出\")","v":0},{"$f":"AI9*7.8","v":0},{"$f":"AG10","v":0},{"$f":"AJ9-AK9","v":0},{"$f":"ROUNDDOWN(AL9*請求書・納品書!$M$11,)","v":0},null,"管理費に入れない人数"]
["遅・早(出)",null,null,null,null,null,null,null,null,null,null,null,null,null,null,null,null,null,null,null,null,null,null,null,null,null,null,null,null,null,null,null,{"$f":"SUM(B10:AF10)","v":0},"　残業",null,null,null,{"$f":"AG9","v":0},{"$f":"ROUNDDOWN(AL10*請求書・納品書!$M$12,)","v":0}]
["遅・早(公)",null,null,null,null,null,null,null,null,null,null,null,null,null,null,null,null,null,null,null,null,null,null,null,null,null,null,null,null,null,null,null,{"$f":"SUM(B11:AF11)","v":0},"　公出",{"$f":"COUNTIF(B8:AF8,\"公\")","v":0},{"$f":"AI11*7.8","v":0},{"$f":"AG11","v":0},{"$f":"AJ11-AK11","v":0},{"$f":"ROUNDDOWN(AL11*請求書・納品書!$M$13,)","v":0}]
["連続",null,null,null,null,null,null,null,null,null,null,null,null,null,null,null,null,null,null,null,null,null,null,null,null,null,null,null,null,null,null,null,{"$f":"SUM(B12:AF12)","v":0},"　連続",null,null,null,{"$f":"AG12","v":0},{"$f":"AL12*請求書・納品書!$M$14","v":0}]
[null,null,null,null,null,null,null,null,null,null,null,null,null,null,null,null,null,null,null,null,null,null,null,null,null,null,null,null,null,null,null,null,null,null,null,null,null,"合　計",{"$f":"SUM(AM9:AM12)","v":0}]
[null,null,null,null,null,null,null,null,null,null,null,null,null,null,null,null,null,null,null,null,null,null,null,null,null,null,null,null,null,null,null,null,null,{"$f":"A14","v":0},"日数(日)","勤務時間(h)"," 早退（h）","合計(h)","金額(円)"]
["残業",null,null,null,null,null,null,null,null,null,null,null,null,null,null,null,null,null,null,null,null,null,null,null,null,null,null,null,null,null,null,null,{"$f":"SUM(B15:AF15)","v":0},"　出勤",{"$f":"COUNTIF(B14:AF14,\"出\")","v":0},{"$f":"AI15*7.8","v":0},{"$f":"AG16","v":0},{"$f":"AJ15-AK15","v":0},{"$f":"ROUNDDOWN(AL15*請求書・納品書!$M$11,)","v":0}]
["遅・早(出)",null,null,null,null,null,null,null,null,null,null,null,null,null,null,null,null,null,null,null,null,null,null,null,null,null,null,null,null,null,null,null,{"$f":"SUM(B16:AF16)","v":0},"　残業",null,null,null,{"$f":"AG15","v":0},{"$f":"ROUNDDOWN(AL16*請求書・納品書!$M$12,)","v":0}]
["遅・早(公)",null,null,null,null,null,null,null,null,null,null,null,null,null,null,null,null,null,null,null,null,null,null,null,null,null,null,null,null,null,null,null,{"$f":"SUM(B17:AF17)","v":0},"　公出",{"$f":"COUNTIF(B14:AF14,\"公\")","v":0},{"$f":"AI17*7.8","v":0},{"$f":"AG17","v":0},{"$f":"AJ17-AK17","v":0},{"$f":"ROUNDDOWN(AL17*請求書・納品書!$M$13,)","v":0}]
["連続",null,null,null,null,null,null,null,null,null,null,null,null,null,null,null,null,null,null,null,null,null,null,null,null,null,null,null,null,null,null,null,{"$f":"SUM(B18:AF18)","v":0},"　連続",null,null,null,{"$f":"AG18","v":0},{"$f":"AL18*請求書・納品書!$M$14","v":0}]
[null,null,null,null,null,null,null,null,null,null,null,null,null,null,null,null,null,null,null,null,null,null,null,null,null,null,null,null,null,null,null,null,null,null,null,null,null,"合　計",{"$f":"SUM(AM15:AM18)","v":0}]
[null,null,null,null,null,null,null,null,null,null,null,null,null,null,null,null,null,null,null,null,null,null,null,null,null,null,null,null,null,null,null,null,null,{"$f":"A20","v":0},"日数(日)","勤務時間(h)"," 早退（h）","合計(h)","金額(円)"]
["残業",null,null,null,null,null,null,null,null,null,null,null,null,null,null,null,null,null,null,null,null,null,null,null,null,null,null,null,null,null,null,null,{"$f":"SUM(B21:AF21)","v":0},"　出勤",{"$f":"COUNTIF(B20:AF20,\"出\")","v":0},{"$f":"AI21*7.8","v":0},{"$f":"AG22","v":0},{"$f":"AJ21-AK21","v":0},{"$f":"ROUNDDOWN(AL21*請求書・納品書!$M$11,)","v":0}]
["遅・早(出)",null,null,null,null,null,null,null,null,null,null,null,null,null,null,null,null,null,null,null,null,null,null,null,null,null,null,null,null,null,null,null,{"$f":"SUM(B22:AF22)","v":0},"　残業",null,null,null,{"$f":"AG21","v":0},{"$f":"ROUNDDOWN(AL22*請求書・納品書!$M$12,)","v":0}]
["遅・早(公)",null,null,null,null,null,null,null,null,null,null,null,null,null,null,null,null,null,null,null,null,null,null,null,null,null,null,null,null,null,null,null,{"$f":"SUM(B23:AF23)","v":0},"　公出",{"$f":"COUNTIF(B20:AF20,\"公\")","v":0},{"$f":"AI23*7.8","v":0},{"$f":"AG23","v":0},{"$f":"AJ23-AK23","v":0},{"$f":"ROUNDDOWN(AL23*請求書・納品書!$M$13,)","v":0}]
["連続",null,null,null,null,null,null,null,null,null,null,null,null,null,null,null,null,null,null,null,null,null,null,null,null,null,null,null,null,null,null,null,{"$f":"SUM(B24:AF24)","v":0},"　連続",null,null,null,{"$f":"AG24","v":0},{"$f":"AL24*請求書・納品書!$M$14","v":0}]
[null,null,null,null,null,null,null,null,null,null,null,null,null,null,null,null,null,null,null,null,null,null,null,null,null,null,null,null,null,null,null,null,null,null,null,null,null,"合　計",{"$f":"SUM(AM21:AM24)","v":0},null,{"$f":"AM7+AM13+AM19+AM25","v":0}]
[null,null,null,null,null,null,null,null,null,null,null,null,null,null,null,null,null,null,null,null,null,null,null,null,null,null,null,null,null,null,null,null,null,{"$f":"A26","v":0},"日数(日)","勤務時間(h)"," 早退（h）","合計(h)","金額(円)"]
["残業",null,null,null,null,null,null,null,null,null,null,null,null,null,null,null,null,null,null,null,null,null,null,null,null,null,null,null,null,null,null,null,{"$f":"SUM(B27:AF27)","v":0},"　出勤",{"$f":"COUNTIF(B26:AF26,\"出\")","v":0},{"$f":"AI27*7.8","v":0},{"$f":"AG28","v":0},{"$f":"AJ27-AK27","v":0},{"$f":"ROUNDDOWN(AL27*請求書・納品書!$M$11,)","v":0}]
["遅・早(出)",null,null,null,null,null,null,null,null,null,null,null,null,null,null,null,null,null,null,null,null,null,null,null,null,null,null,null,null,null,null,null,{"$f":"SUM(B28:AF28)","v":0},"　残業",null,null,null,{"$f":"AG27","v":0},{"$f":"ROUNDDOWN(AL28*請求書・納品書!$M$12,)","v":0}]
["遅・早(公)",null,null,null,null,null,null,null,null,null,null,null,null,null,null,null,null,null,null,null,null,null,null,null,null,null,null,null,null,null,null,null,{"$f":"SUM(B29:AF29)","v":0},"　公出",{"$f":"COUNTIF(B26:AF26,\"公\")","v":0},{"$f":"AI29*7.8","v":0},{"$f":"AG29","v":0},{"$f":"AJ29-AK29","v":0},{"$f":"ROUNDDOWN(AL29*請求書・納品書!$M$13,)","v":0}]
["連続",null,null,null,null,null,null,null,null,null,null,null,null,null,null,null,null,null,null,null,null,null,null,null,null,null,null,null,null,null,null,null,{"$f":"SUM(B30:AF30)","v":0},"　連続",null,null,null,{"$f":"AG30","v":0},{"$f":"AL30*請求書・納品書!$M$14","v":0}]
[null,null,null,null,null,null,null,null,null,null,null,null,null,null,null,null,null,null,null,null,null,null,null,null,null,null,null,null,null,null,null,null,null,null,null,null,null,"合　計",{"$f":"SUM(AM27:AM30)","v":0}]
[null,null,null,null,null,null,null,null,null,null,null,null,null,null,null,null,null,null,null,null,null,null,null,null,null,null,null,null,null,null,null,null,null,{"$f":"A32","v":0},"日数(日)","勤務時間(h)"," 早退（h）","合計(h)","金額(円)"]
["残業",null,null,null,null,null,null,null,null,null,null,null,null,null,null,null,null,null,null,null,null,null,null,null,null,null,null,null,null,null,null,null,{"$f":"SUM(B33:AF33)","v":0},"　出勤",{"$f":"COUNTIF(B32:AF32,\"出\")","v":0},{"$f":"AI33*7.8","v":0},{"$f":"AG34","v":0},{"$f":"AJ33-AK33","v":0},{"$f":"ROUNDDOWN(AL33*請求書・納品書!$M$11,)","v":0}]
["遅・早(出)",null,null,null,null,null,null,null,null,null,null,null,null,null,null,null,null,null,null,null,null,null,null,null,null,null,null,null,null,null,null,null,{"$f":"SUM(B34:AF34)","v":0},"　残業",null,null,null,{"$f":"AG33","v":0},{"$f":"ROUNDDOWN(AL34*請求書・納品書!$M$12,)","v":0}]
["遅・早(公)",null,null,null,null,null,null,null,null,null,null,null,null,null,null,null,null,null,null,null,null,null,null,null,null,null,null,null,null,null,null,null,{"$f":"SUM(B35:AF35)","v":0},"　公出",{"$f":"COUNTIF(B32:AF32,\"公\")","v":0},{"$f":"AI35*7.8","v":0},{"$f":"AG35","v":0},{"$f":"AJ35-AK35","v":0},{"$f":"ROUNDDOWN(AL35*請求書・納品書!$M$13,)","v":0}]
["連続",null,null,null,null,null,null,null,null,null,null,null,null,null,null,null,null,null,null,null,null,null,null,null,null,null,null,null,null,null,null,null,{"$f":"SUM(B36:AF36)","v":0},"　連続",null,null,null,{"$f":"AG36","v":0},{"$f":"AL36*請求書・納品書!$M$14","v":0}]
[null,null,null,null,null,null,null,null,null,null,null,null,null,null,null,null,null,null,null,null,null,null,null,null,null,null,null,null,null,null,null,null,null,null,null,null,null,"合　計",{"$f":"SUM(AM33:AM36)","v":0}]
[null,null,null,null,null,null,null,null,null,null,null,null,null,null,null,null,null,null,null,null,null,null,null,null,null,null,null,null,null,null,null,null,null,{"$f":"A38","v":0},"日数(日)","勤務時間(h)"," 早退（h）","合計(h)","金額(円)"]
["残業",null,null,null,null,null,null,null,null,null,null,null,null,null,null,null,null,null,null,null,null,null,null,null,null,null,null,null,null,null,null,null,{"$f":"SUM(B39:AF39)","v":0},"　出勤",{"$f":"COUNTIF(B38:AF38,\"出\")","v":0},{"$f":"AI39*7.8","v":0},{"$f":"AG40","v":0},{"$f":"AJ39-AK39","v":0},{"$f":"ROUNDDOWN(AL39*請求書・納品書!$M$11,)","v":0}]
["遅・早(出)",null,null,null,null,null,null,null,null,null,null,null,null,null,null,null,null,null,null,null,null,null,null,null,null,null,null,null,null,null,null,null,{"$f":"SUM(B40:AF40)","v":0},"　残業",null,null,null,{"$f":"AG39","v":0},{"$f":"ROUNDDOWN(AL40*請求書・納品書!$M$12,)","v":0}]
["遅・早(公)",null,null,null,null,null,null,null,null,null,null,null,null,null,null,null,null,null,null,null,null,null,null,null,null,null,null,null,null,null,null,null,{"$f":"SUM(B41:AF41)","v":0},"　公出",{"$f":"COUNTIF(B38:AF38,\"公\")","v":0},{"$f":"AI41*7.8","v":0},{"$f":"AG41","v":0},{"$f":"AJ41-AK41","v":0},{"$f":"ROUNDDOWN(AL41*請求書・納品書!$M$13,)","v":0}]
["連続",null,null,null,null,null,null,null,null,null,null,null,null,null,null,null,null,null,null,null,null,null,null,null,null,null,null,null,null,null,null,null,{"$f":"SUM(B42:AF42)","v":0},"　連続",null,null,null,{"$f":"AG42","v":0},{"$f":"AL42*請求書・納品書!$M$14","v":0}]
[null,null,null,null,null,null,null,null,null,null,null,null,null,null,null,null,null,null,null,null,null,null,null,null,null,null,null,null,null,null,null,null,null,null,null,null,null,"合　計",{"$f":"SUM(AM39:AM42)","v":0}]
[null,null,null,null,null,null,null,null,null,null,null,null,null,null,null,null,null,null,null,null,null,null,null,null,null,null,null,null,null,null,null,null,null,{"$f":"A44","v":0},"日数(日)","勤務時間(h)"," 早退（h）","合計(h)","金額(円)"]
["残業",null,null,null,null,null,null,null,null,null,null,null,null,null,null,null,null,null,null,null,null,null,null,null,null,null,null,null,null,null,null,null,{"$f":"SUM(B45:AF45)","v":0},"　出勤",{"$f":"COUNTIF(B44:AF44,\"出\")","v":0},{"$f":"AI45*7.8","v":0},{"$f":"AG46","v":0},{"$f":"AJ45-AK45","v":0},{"$f":"ROUNDDOWN(AL45*請求書・納品書!$M$11,)","v":0}]
["遅・早(出)",null,null,null,null,null,null,null,null,null,null,null,null,null,null,null,null,null,null,null,null,null,null,null,null,null,null,null,null,null,null,null,{"$f":"SUM(B46:AF46)","v":0},"　残業",null,null,null,{"$f":"AG45","v":0},{"$f":"ROUNDDOWN(AL46*請求書・納品書!$M$12,)","v":0}]
["遅・早(公)",null,null,null,null,null,null,null,null,null,null,null,null,null,null,null,null,null,null,null,null,null,null,null,null,null,null,null,null,null,null,null,{"$f":"SUM(B47:AF47)","v":0},"　公出",{"$f":"COUNTIF(B44:AF44,\"公\")","v":0},{"$f":"AI47*7.8","v":0},{"$f":"AG47","v":0},{"$f":"AJ47-AK47","v":0},{"$f":"ROUNDDOWN(AL47*請求書・納品書!$M$13,)","v":0}]
["連続",null,null,null,null,null,null,null,null,null,null,null,null,null,null,null,null,null,null,null,null,null,null,null,null,null,null,null,null,null,null,null,{"$f":"SUM(B48:AF48)","v":0},"　連続",null,null,null,{"$f":"AG48","v":0},{"$f":"AL48*請求書・納品書!$M$14","v":0}]
[null,null,null,null,null,null,null,null,null,null,null,null,null,null,null,null,null,null,null,null,null,null,null,null,null,null,null,null,null,null,null,null,null,null,null,null,null,"合　計",{"$f":"SUM(AM45:AM48)","v":0},null,{"$f":"AM31+AM37+AM43+AM49","v":0}]
[null,null,null,null,null,null,null,null,null,null,null,null,null,null,null,null,null,null,null,null,null,null,null,null,null,null,null,null,null,null,null,null,null,{"$f":"A50","v":0},"日数(日)","勤務時間(h)"," 早退（h）","合計(h)","金額(円)"]
["残業",null,null,null,null,null,null,null,null,null,null,null,null,null,null,null,null,null,null,null,null,null,null,null,null,null,null,null,null,null,null,null,{"$f":"SUM(B51:AF51)","v":0},"　出勤",{"$f":"COUNTIF(B50:AF50,\"出\")","v":0},{"$f":"AI51*7.8","v":0},{"$f":"AG52","v":0},{"$f":"AJ51-AK51","v":0},{"$f":"ROUNDDOWN(AL51*請求書・納品書!$M$11,)","v":0}]
["遅・早(出)",null,null,null,null,null,null,null,null,null,null,null,null,null,null,null,null,null,null,null,null,null,null,null,null,null,null,null,null,null,null,null,{"$f":"SUM(B52:AF52)","v":0},"　残業",null,null,null,{"$f":"AG51","v":0},{"$f":"ROUNDDOWN(AL52*請求書・納品書!$M$12,)","v":0}]
["遅・早(公)",null,null,null,null,null,null,null,null,null,null,null,null,null,null,null,null,null,null,null,null,null,null,null,null,null,null,null,null,null,null,null,{"$f":"SUM(B53:AF53)","v":0},"　公出",{"$f":"COUNTIF(B50:AF50,\"公\")","v":0},{"$f":"AI53*7.8","v":0},{"$f":"AG53","v":0},{"$f":"AJ53-AK53","v":0},{"$f":"ROUNDDOWN(AL53*請求書・納品書!$M$13,)","v":0}]
["連続",null,null,null,null,null,null,null,null,null,null,null,null,null,null,null,null,null,null,null,null,null,null,null,null,null,null,null,null,null,null,null,{"$f":"SUM(B54:AF54)","v":0},"　連続",null,null,null,{"$f":"AG54","v":0},{"$f":"AL54*請求書・納品書!$M$14","v":0}]
[null,null,null,null,null,null,null,null,null,null,null,null,null,null,null,null,null,null,null,null,null,null,null,null,null,null,null,null,null,null,null,null,null,null,null,null,null,"合　計",{"$f":"SUM(AM51:AM54)","v":0}]
[null,null,null,null,null,null,null,null,null,null,null,null,null,null,null,null,null,null,null,null,null,null,null,null,null,null,null,null,null,null,null,null,null,{"$f":"A56","v":0},"日数(日)","勤務時間(h)"," 早退（h）","合計(h)","金額(円)"]
["残業",null,null,null,null,null,null,null,null,null,null,null,null,null,null,null,null,null,null,null,null,null,null,null,null,null,null,null,null,null,null,null,{"$f":"SUM(B57:AF57)","v":0},"　出勤",{"$f":"COUNTIF(B56:AF56,\"出\")","v":0},{"$f":"AI57*7.8","v":0},{"$f":"AG58","v":0},{"$f":"AJ57-AK57","v":0},{"$f":"ROUNDDOWN(AL57*請求書・納品書!$M$11,)","v":0}]
["遅・早(出)",null,null,null,null,null,null,null,null,null,null,null,null,null,null,null,null,null,null,null,null,null,null,null,null,null,null,null,null,null,null,null,{"$f":"SUM(B58:AF58)","v":0},"　残業",null,null,null,{"$f":"AG57","v":0},{"$f":"ROUNDDOWN(AL58*請求書・納品書!$M$12,)","v":0}]
["遅・早(公)",null,null,null,null,null,null,null,null,null,null,null,null,null,null,null,null,null,null,null,null,null,null,null,null,null,null,null,null,null,null,null,{"$f":"SUM(B59:AF59)","v":0},"　公出",{"$f":"COUNTIF(B56:AF56,\"公\")","v":0},{"$f":"AI59*7.8","v":0},{"$f":"AG59","v":0},{"$f":"AJ59-AK59","v":0},{"$f":"ROUNDDOWN(AL59*請求書・納品書!$M$13,)","v":0}]
["連続",null,null,null,null,null,null,null,null,null,null,null,null,null,null,null,null,null,null,null,null,null,null,null,null,null,null,null,null,null,null,null,{"$f":"SUM(B60:AF60)","v":0},"　連続",null,null,null,{"$f":"AG60","v":0},{"$f":"AL60*請求書・納品書!$M$14","v":0}]
[null,null,null,null,null,null,null,null,null,null,null,null,null,null,null,null,null,null,null,null,null,null,null,null,null,null,null,null,null,null,null,null,null,null,null,null,null,"合　計",{"$f":"SUM(AM57:AM60)","v":0}]
[null,null,null,null,null,null,null,null,null,null,null,null,null,null,null,null,null,null,null,null,null,null,null,null,null,null,null,null,null,null,null,null,null,{"$f":"A62","v":0},"日数(日)","勤務時間(h)"," 早退（h）","合計(h)","金額(円)"]
["残業",null,null,null,null,null,null,null,null,null,null,null,null,null,null,null,null,null,null,null,null,null,null,null,null,null,null,null,null,null,null,null,{"$f":"SUM(B63:AF63)","v":0},"　出勤",{"$f":"COUNTIF(B62:AF62,\"出\")","v":0},{"$f":"AI63*7.8","v":0},{"$f":"AG64","v":0},{"$f":"AJ63-AK63","v":0},{"$f":"ROUNDDOWN(AL63*請求書・納品書!$M$11,)","v":0}]
["遅・早(出)",null,null,null,null,null,null,null,null,null,null,null,null,null,null,null,null,null,null,null,null,null,null,null,null,null,null,null,null,null,null,null,{"$f":"SUM(B64:AF64)","v":0},"　残業",null,null,null,{"$f":"AG63","v":0},{"$f":"ROUNDDOWN(AL64*請求書・納品書!$M$12,)","v":0}]
["遅・早(公)",null,null,null,null,null,null,null,null,null,null,null,null,null,null,null,null,null,null,null,null,null,null,null,null,null,null,null,null,null,null,null,{"$f":"SUM(B65:AF65)","v":0},"　公出",{"$f":"COUNTIF(B62:AF62,\"公\")","v":0},{"$f":"AI65*7.8","v":0},{"$f":"AG65","v":0},{"$f":"AJ65-AK65","v":0},{"$f":"ROUNDDOWN(AL65*請求書・納品書!$M$13,)","v":0}]
["連続",null,null,null,null,null,null,null,null,null,null,null,null,null,null,null,null,null,null,null,null,null,null,null,null,null,null,null,null,null,null,null,{"$f":"SUM(B66:AF66)","v":0},"　連続",null,null,null,{"$f":"AG66","v":0},{"$f":"AL66*請求書・納品書!$M$14","v":0}]
[null,null,null,null,null,null,null,null,null,null,null,null,null,null,null,null,null,null,null,null,null,null,null,null,null,null,null,null,null,null,null,null,null,null,null,null,null,"合　計",{"$f":"SUM(AM63:AM66)","v":0}]
[null,null,null,null,null,null,null,null,null,null,null,null,null,null,null,null,null,null,null,null,null,null,null,null,null,null,null,null,null,null,null,null,null,{"$f":"A68","v":0},"日数(日)","勤務時間(h)"," 早退（h）","合計(h)","金額(円)"]
["残業",null,null,null,null,null,null,null,null,null,null,null,null,null,null,null,null,null,null,null,null,null,null,null,null,null,null,null,null,null,null,null,{"$f":"SUM(B69:AF69)","v":0},"　出勤",{"$f":"COUNTIF(B68:AF68,\"出\")","v":0},{"$f":"AI69*7.8","v":0},{"$f":"AG70","v":0},{"$f":"AJ69-AK69","v":0},{"$f":"ROUNDDOWN(AL69*請求書・納品書!$M$11,)","v":0}]
["遅・早(出)",null,null,null,null,null,null,null,null,null,null,null,null,null,null,null,null,null,null,null,null,null,null,null,null,null,null,null,null,null,null,null,{"$f":"SUM(B70:AF70)","v":0},"　残業",null,null,null,{"$f":"AG69","v":0},{"$f":"ROUNDDOWN(AL70*請求書・納品書!$M$12,)","v":0}]
["遅・早(公)",null,null,null,null,null,null,null,null,null,null,null,null,null,null,null,null,null,null,null,null,null,null,null,null,null,null,null,null,null,null,null,{"$f":"SUM(B71:AF71)","v":0},"　公出",{"$f":"COUNTIF(B68:AF68,\"公\")","v":0},{"$f":"AI71*7.8","v":0},{"$f":"AG71","v":0},{"$f":"AJ71-AK71","v":0},{"$f":"ROUNDDOWN(AL71*請求書・納品書!$M$13,)","v":0}]
["連続",null,null,null,null,null,null,null,null,null,null,null,null,null,null,null,null,null,null,null,null,null,null,null,null,null,null,null,null,null,null,null,{"$f":"SUM(B72:AF72)","v":0},"　連続",null,null,null,{"$f":"AG72","v":0},{"$f":"AL72*請求書・納品書!$M$14","v":0}]
[null,null,null,null,null,null,null,null,null,null,null,null,null,null,null,null,null,null,null,null,null,null,null,null,null,null,null,null,null,null,null,null,null,null,null,null,null,"合　計",{"$f":"SUM(AM69:AM72)","v":0},null,{"$f":"AM55+AM61+AM67+AM73","v":0}]
[null,null,null,null,null,null,null,null,null,null,null,null,null,null,null,null,null,null,null,null,null,null,null,null,null,null,null,null,null,null,null,null,null,{"$f":"A74","v":0},"日数(日)","勤務時間(h)"," 早退（h）","合計(h)","金額(円)"]
["残業",null,null,null,null,null,null,null,null,null,null,null,null,null,null,null,null,null,null,null,null,null,null,null,null,null,null,null,null,null,null,null,{"$f":"SUM(B75:AF75)","v":0},"　出勤",{"$f":"COUNTIF(B74:AF74,\"出\")","v":0},{"$f":"AI75*7.8","v":0},{"$f":"AG76","v":0},{"$f":"AJ75-AK75","v":0},{"$f":"ROUNDDOWN(AL75*請求書・納品書!$M$11,)","v":0}]
["遅・早(出)",null,null,null,null,null,null,null,null,null,null,null,null,null,null,null,null,null,null,null,null,null,null,null,null,null,null,null,null,null,null,null,{"$f":"SUM(B76:AF76)","v":0},"　残業",null,null,null,{"$f":"AG75","v":0},{"$f":"ROUNDDOWN(AL76*請求書・納品書!$M$12,)","v":0}]
["遅・早(公)",null,null,null,null,null,null,null,null,null,null,null,null,null,null,null,null,null,null,null,null,null,null,null,null,null,null,null,null,null,null,null,{"$f":"SUM(B77:AF77)","v":0},"　公出",{"$f":"COUNTIF(B74:AF74,\"公\")","v":0},{"$f":"AI77*7.8","v":0},{"$f":"AG77","v":0},{"$f":"AJ77-AK77","v":0},{"$f":"ROUNDDOWN(AL77*請求書・納品書!$M$13,)","v":0}]
["連続",null,null,null,null,null,null,null,null,null,null,null,null,null,null,null,null,null,null,null,null,null,null,null,null,null,null,null,null,null,null,null,{"$f":"SUM(B78:AF78)","v":0},"　連続",null,null,null,{"$f":"AG78","v":0},{"$f":"AL78*請求書・納品書!$M$14","v":0}]
[null,null,null,null,null,null,null,null,null,null,null,null,null,null,null,null,null,null,null,null,null,null,null,null,null,null,null,null,null,null,null,null,null,null,null,null,null,"合　計",{"$f":"SUM(AM75:AM78)","v":0}]
[null,null,null,null,null,null,null,null,null,null,null,null,null,null,null,null,null,null,null,null,null,null,null,null,null,null,null,null,null,null,null,null,null,{"$f":"A80","v":0},"日数(日)","勤務時間(h)"," 早退（h）","合計(h)","金額(円)"]
["残業",null,null,null,null,null,null,null,null,null,null,null,null,null,null,null,null,null,null,null,null,null,null,null,null,null,null,null,null,null,null,null,{"$f":"SUM(B81:AF81)","v":0},"　出勤",{"$f":"COUNTIF(B80:AF80,\"出\")","v":0},{"$f":"AI81*7.8","v":0},{"$f":"AG82","v":0},{"$f":"AJ81-AK81","v":0},{"$f":"ROUNDDOWN(AL81*請求書・納品書!$M$11,)","v":0}]
["遅・早(出)",null,null,null,null,null,null,null,null,null,null,null,null,null,null,null,null,null,null,null,null,null,null,null,null,null,null,null,null,null,null,null,{"$f":"SUM(B82:AF82)","v":0},"　残業",null,null,null,{"$f":"AG81","v":0},{"$f":"ROUNDDOWN(AL82*請求書・納品書!$M$12,)","v":0}]
["遅・早(公)",null,null,null,null,null,null,null,null,null,null,null,null,null,null,null,null,null,null,null,null,null,null,null,null,null,null,null,null,null,null,null,{"$f":"SUM(B83:AF83)","v":0},"　公出",{"$f":"COUNTIF(B80:AF80,\"公\")","v":0},{"$f":"AI83*7.8","v":0},{"$f":"AG83","v":0},{"$f":"AJ83-AK83","v":0},{"$f":"ROUNDDOWN(AL83*請求書・納品書!$M$13,)","v":0}]
["連続",null,null,null,null,null,null,null,null,null,null,null,null,null,null,null,null,null,null,null,null,null,null,null,null,null,null,null,null,null,null,null,{"$f":"SUM(B84:AF84)","v":0},"　連続",null,null,null,{"$f":"AG84","v":0},{"$f":"AL84*請求書・納品書!$M$14","v":0}]
[null,null,null,null,null,null,null,null,null,null,null,null,null,null,null,null,null,null,null,null,null,null,null,null,null,null,null,null,null,null,null,null,null,null,null,null,null,"合　計",{"$f":"SUM(AM81:AM84)","v":0}]
[null,null,null,null,null,null,null,null,null,null,null,null,null,null,null,null,null,null,null,null,null,null,null,null,null,null,null,null,null,null,null,null,null,{"$f":"A86","v":0},"日数(日)","勤務時間(h)"," 早退（h）","合計(h)","金額(円)"]
["残業",null,null,null,null,null,null,null,null,null,null,null,null,null,null,null,null,null,null,null,null,null,null,null,null,null,null,null,null,null,null,null,{"$f":"SUM(B87:AF87)","v":0},"　出勤",{"$f":"COUNTIF(B86:AF86,\"出\")","v":0},{"$f":"AI87*7.8","v":0},{"$f":"AG88","v":0},{"$f":"AJ87-AK87","v":0},{"$f":"ROUNDDOWN(AL87*請求書・納品書!$M$11,)","v":0}]
["遅・早(出)",null,null,null,null,null,null,null,null,null,null,null,null,null,null,null,null,null,null,null,null,null,null,null,null,null,null,null,null,null,null,null,{"$f":"SUM(B88:AF88)","v":0},"　残業",null,null,null,{"$f":"AG87","v":0},{"$f":"ROUNDDOWN(AL88*請求書・納品書!$M$12,)","v":0}]
["遅・早(公)",null,null,null,null,null,null,null,null,null,null,null,null,null,null,null,null,null,null,null,null,null,null,null,null,null,null,null,null,null,null,null,{"$f":"SUM(B89:AF89)","v":0},"　公出",{"$f":"COUNTIF(B86:AF86,\"公\")","v":0},{"$f":"AI89*7.8","v":0},{"$f":"AG89","v":0},{"$f":"AJ89-AK89","v":0},{"$f":"ROUNDDOWN(AL89*請求書・納品書!$M$13,)","v":0}]
["連続",null,null,null,null,null,null,null,null,null,null,null,null,null,null,null,null,null,null,null,null,null,null,null,null,null,null,null,null,null,null,null,{"$f":"SUM(B90:AF90)","v":0},"　連続",null,null,null,{"$f":"AG90","v":0},{"$f":"AL90*請求書・納品書!$M$14","v":0}]
[null,null,null,null,null,null,null,null,null,null,null,null,null,null,null,null,null,null,null,null,null,null,null,null,null,null,null,null,null,null,null,null,null,null,null,null,null,"合　計",{"$f":"SUM(AM87:AM90)","v":0}]
[null,null,null,null,null,null,null,null,null,null,null,null,null,null,null,null,null,null,null,null,null,null,null,null,null,null,null,null,null,null,null,null,null,{"$f":"A92","v":0},"日数(日)","勤務時間(h)"," 早退（h）","合計(h)","金額(円)"]
["残業",null,null,null,null,null,null,null,null,null,null,null,null,null,null,null,null,null,null,null,null,null,null,null,null,null,null,null,null,null,null,null,{"$f":"SUM(B93:AF93)","v":0},"　出勤",{"$f":"COUNTIF(B92:AF92,\"出\")","v":0},{"$f":"AI93*7.8","v":0},{"$f":"AG94","v":0},{"$f":"AJ93-AK93","v":0},{"$f":"ROUNDDOWN(AL93*請求書・納品書!$M$11,)","v":0}]
["遅・早(出)",null,null,null,null,null,null,null,null,null,null,null,null,null,null,null,null,null,null,null,null,null,null,null,null,null,null,null,null,null,null,null,{"$f":"SUM(B94:AF94)","v":0},"　残業",null,null,null,{"$f":"AG93","v":0},{"$f":"ROUNDDOWN(AL94*請求書・納品書!$M$12,)","v":0}]
["遅・早(公)",null,null,null,null,null,null,null,null,null,null,null,null,null,null,null,null,null,null,null,null,null,null,null,null,null,null,null,null,null,null,null,{"$f":"SUM(B95:AF95)","v":0},"　公出",{"$f":"COUNTIF(B92:AF92,\"公\")","v":0},{"$f":"AI95*7.8","v":0},{"$f":"AG95","v":0},{"$f":"AJ95-AK95","v":0},{"$f":"ROUNDDOWN(AL95*請求書・納品書!$M$13,)","v":0}]
["連続",null,null,null,null,null,null,null,null,null,null,null,null,null,null,null,null,null,null,null,null,null,null,null,null,null,null,null,null,null,null,null,{"$f":"SUM(B96:AF96)","v":0},"　連続",null,null,null,{"$f":"AG96","v":0},{"$f":"AL96*請求書・納品書!$M$14","v":0}]
[null,null,null,null,null,null,null,null,null,null,null,null,null,null,null,null,null,null,null,null,null,null,null,null,null,null,null,null,null,null,null,null,null,null,null,null,null,"合　計",{"$f":"SUM(AM93:AM96)","v":0},null,{"$f":"AM79+AM85+AM91+AM97","v":0}]
[null,null,null,null,null,null,null,null,null,null,null,null,null,null,null,null,null,null,null,null,null,null,null,null,null,null,null,null,null,null,null,null,null,{"$f":"A98","v":0},"日数(日)","勤務時間(h)"," 早退（h）","合計(h)","金額(円)"]
["残業",null,null,null,null,null,null,null,null,null,null,null,null,null,null,null,null,null,null,null,null,null,null,null,null,null,null,null,null,null,null,null,{"$f":"SUM(B99:AF99)","v":0},"　出勤",{"$f":"COUNTIF(B98:AF98,\"出\")","v":0},{"$f":"AI99*7.8","v":0},{"$f":"AG100","v":0},{"$f":"AJ99-AK99","v":0},{"$f":"ROUNDDOWN(AL99*請求書・納品書!$M$11,)","v":0}]
["遅・早(出)",null,null,null,null,null,null,null,null,null,null,null,null,null,null,null,null,null,null,null,null,null,null,null,null,null,null,null,null,null,null,null,{"$f":"SUM(B100:AF100)","v":0},"　残業",null,null,null,{"$f":"AG99","v":0},{"$f":"ROUNDDOWN(AL100*請求書・納品書!$M$12,)","v":0}]
["遅・早(公)",null,null,null,null,null,null,null,null,null,null,null,null,null,null,null,null,null,null,null,null,null,null,null,null,null,null,null,null,null,null,null,{"$f":"SUM(B101:AF101)","v":0},"　公出",{"$f":"COUNTIF(B98:AF98,\"公\")","v":0},{"$f":"AI101*7.8","v":0},{"$f":"AG101","v":0},{"$f":"AJ101-AK101","v":0},{"$f":"ROUNDDOWN(AL101*請求書・納品書!$M$13,)","v":0}]
["連続",null,null,null,null,null,null,null,null,null,null,null,null,null,null,null,null,null,null,null,null,null,null,null,null,null,null,null,null,null,null,null,{"$f":"SUM(B102:AF102)","v":0},"　連続",null,null,null,{"$f":"AG102","v":0},{"$f":"AL102*請求書・納品書!$M$14","v":0}]
[null,null,null,null,null,null,null,null,null,null,null,null,null,null,null,null,null,null,null,null,null,null,null,null,null,null,null,null,null,null,null,null,null,null,null,null,null,"合　計",{"$f":"SUM(AM99:AM102)","v":0}]
[null,null,null,null,null,null,null,null,null,null,null,null,null,null,null,null,null,null,null,null,null,null,null,null,null,null,null,null,null,null,null,null,null,{"$f":"A104","v":0},"日数(日)","勤務時間(h)"," 早退（h）","合計(h)","金額(円)"]
["残業",null,null,null,null,null,null,null,null,null,null,null,null,null,null,null,null,null,null,null,null,null,null,null,null,null,null,null,null,null,null,null,{"$f":"SUM(B105:AF105)","v":0},"　出勤",{"$f":"COUNTIF(B104:AF104,\"出\")","v":0},{"$f":"AI105*7.8","v":0},{"$f":"AG106","v":0},{"$f":"AJ105-AK105","v":0},{"$f":"ROUNDDOWN(AL105*請求書・納品書!$M$11,)","v":0}]
["遅・早(出)",null,null,null,null,null,null,null,null,null,null,null,null,null,null,null,null,null,null,null,null,null,null,null,null,null,null,null,null,null,null,null,{"$f":"SUM(B106:AF106)","v":0},"　残業",null,null,null,{"$f":"AG105","v":0},{"$f":"ROUNDDOWN(AL106*請求書・納品書!$M$12,)","v":0}]
["遅・早(公)",null,null,null,null,null,null,null,null,null,null,null,null,null,null,null,null,null,null,null,null,null,null,null,null,null,null,null,null,null,null,null,{"$f":"SUM(B107:AF107)","v":0},"　公出",{"$f":"COUNTIF(B104:AF104,\"公\")","v":0},{"$f":"AI107*7.8","v":0},{"$f":"AG107","v":0},{"$f":"AJ107-AK107","v":0},{"$f":"ROUNDDOWN(AL107*請求書・納品書!$M$13,)","v":0}]
["連続",null,null,null,null,null,null,null,null,null,null,null,null,null,null,null,null,null,null,null,null,null,null,null,null,null,null,null,null,null,null,null,{"$f":"SUM(B108:AF108)","v":0},"　連続",null,null,null,{"$f":"AG108","v":0},{"$f":"AL108*請求書・納品書!$M$14","v":0}]
[null,null,null,null,null,null,null,null,null,null,null,null,null,null,null,null,null,null,null,null,null,null,null,null,null,null,null,null,null,null,null,null,null,null,null,null,null,"合　計",{"$f":"SUM(AM105:AM108)","v":0}]
[null,null,null,null,null,null,null,null,null,null,null,null,null,null,null,null,null,null,null,null,null,null,null,null,null,null,null,null,null,null,null,null,null,{"$f":"A110","v":0},"日数(日)","勤務時間(h)"," 早退（h）","合計(h)","金額(円)"]
["残業",null,null,null,null,null,null,null,null,null,null,null,null,null,null,null,null,null,null,null,null,null,null,null,null,null,null,null,null,null,null,null,{"$f":"SUM(B111:AF111)","v":0},"　出勤",{"$f":"COUNTIF(B110:AF110,\"出\")","v":0},{"$f":"AI111*7.8","v":0},{"$f":"AG112","v":0},{"$f":"AJ111-AK111","v":0},{"$f":"ROUNDDOWN(AL111*請求書・納品書!$M$11,)","v":0}]
["遅・早(出)",null,null,null,null,null,null,null,null,null,null,null,null,null,null,null,null,null,null,null,null,null,null,null,null,null,null,null,null,null,null,null,{"$f":"SUM(B112:AF112)","v":0},"　残業",null,null,null,{"$f":"AG111","v":0},{"$f":"ROUNDDOWN(AL112*請求書・納品書!$M$12,)","v":0}]
["遅・早(公)",null,null,null,null,null,null,null,null,null,null,null,null,null,null,null,null,null,null,null,null,null,null,null,null,null,null,null,null,null,null,null,{"$f":"SUM(B113:AF113)","v":0},"　公出",{"$f":"COUNTIF(B110:AF110,\"公\")","v":0},{"$f":"AI113*7.8","v":0},{"$f":"AG113","v":0},{"$f":"AJ113-AK113","v":0},{"$f":"ROUNDDOWN(AL113*請求書・納品書!$M$13,)","v":0}]
["連続",null,null,null,null,null,null,null,null,null,null,null,null,null,null,null,null,null,null,null,null,null,null,null,null,null,null,null,null,null,null,null,{"$f":"SUM(B114:AF114)","v":0},"　連続",null,null,null,{"$f":"AG114","v":0},{"$f":"AL114*請求書・納品書!$M$14","v":0}]
[null,null,null,null,null,null,null,null,null,null,null,null,null,null,null,null,null,null,null,null,null,null,null,null,null,null,null,null,null,null,null,null,null,null,null,null,null,"合　計",{"$f":"SUM(AM111:AM114)","v":0}]
[null,null,null,null,null,null,null,null,null,null,null,null,null,null,null,null,null,null,null,null,null,null,null,null,null,null,null,null,null,null,null,null,null,{"$f":"A116","v":0},"日数(日)","勤務時間(h)"," 早退（h）","合計(h)","金額(円)"]
["残業",null,null,null,null,null,null,null,null,null,null,null,null,null,null,null,null,null,null,null,null,null,null,null,null,null,null,null,null,null,null,null,{"$f":"SUM(B117:AF117)","v":0},"　出勤",{"$f":"COUNTIF(B116:AF116,\"出\")","v":0},{"$f":"AI117*7.8","v":0},{"$f":"AG118","v":0},{"$f":"AJ117-AK117","v":0},{"$f":"ROUNDDOWN(AL117*請求書・納品書!$M$11,)","v":0}]
["遅・早(出)",null,null,null,null,null,null,null,null,null,null,null,null,null,null,null,null,null,null,null,null,null,null,null,null,null,null,null,null,null,null,null,{"$f":"SUM(B118:AF118)","v":0},"　残業",null,null,null,{"$f":"AG117","v":0},{"$f":"ROUNDDOWN(AL118*請求書・納品書!$M$12,)","v":0}]
["遅・早(公)",null,null,null,null,null,null,null,null,null,null,null,null,null,null,null,null,null,null,null,null,null,null,null,null,null,null,null,null,null,null,null,{"$f":"SUM(B119:AF119)","v":0},"　公出",{"$f":"COUNTIF(B116:AF116,\"公\")","v":0},{"$f":"AI119*7.8","v":0},{"$f":"AG119","v":0},{"$f":"AJ119-AK119","v":0},{"$f":"ROUNDDOWN(AL119*請求書・納品書!$M$13,)","v":0}]
["連続",null,null,null,null,null,null,null,null,null,null,null,null,null,null,null,null,null,null,null,null,null,null,null,null,null,null,null,null,null,null,null,{"$f":"SUM(B120:AF120)","v":0},"　連続",null,null,null,{"$f":"AG120","v":0},{"$f":"AL120*請求書・納品書!$M$14","v":0}]
[null,null,null,null,null,null,null,null,null,null,null,null,null,null,null,null,null,null,null,null,null,null,null,null,null,null,null,null,null,null,null,null,null,null,null,null,null,"合　計",{"$f":"SUM(AM117:AM120)","v":0},null,{"$f":"AM103+AM109+AM115+AM121","v":0}]
[null,null,null,null,null,null,null,null,null,null,null,null,null,null,null,null,null,null,null,null,null,null,null,null,null,null,null,null,null,null,null,null,null,{"$f":"A122","v":0},"日数(日)","勤務時間(h)"," 早退（h）","合計(h)","金額(円)"]
["残業",null,null,null,null,null,null,null,null,null,null,null,null,null,null,null,null,null,null,null,null,null,null,null,null,null,null,null,null,null,null,null,{"$f":"SUM(B123:AF123)","v":0},"　出勤",{"$f":"COUNTIF(B122:AF122,\"出\")","v":0},{"$f":"AI123*7.8","v":0},{"$f":"AG124","v":0},{"$f":"AJ123-AK123","v":0},{"$f":"ROUNDDOWN(AL123*請求書・納品書!$M$11,)","v":0}]
["遅・早(出)",null,null,null,null,null,null,null,null,null,null,null,null,null,null,null,null,null,null,null,null,null,null,null,null,null,null,null,null,null,null,null,{"$f":"SUM(B124:AF124)","v":0},"　残業",null,null,null,{"$f":"AG123","v":0},{"$f":"ROUNDDOWN(AL124*請求書・納品書!$M$12,)","v":0}]
["遅・早(公)",null,null,null,null,null,null,null,null,null,null,null,null,null,null,null,null,null,null,null,null,null,null,null,null,null,null,null,null,null,null,null,{"$f":"SUM(B125:AF125)","v":0},"　公出",{"$f":"COUNTIF(B122:AF122,\"公\")","v":0},{"$f":"AI125*7.8","v":0},{"$f":"AG125","v":0},{"$f":"AJ125-AK125","v":0},{"$f":"ROUNDDOWN(AL125*請求書・納品書!$M$13,)","v":0}]
["連続",null,null,null,null,null,null,null,null,null,null,null,null,null,null,null,null,null,null,null,null,null,null,null,null,null,null,null,null,null,null,null,{"$f":"SUM(B126:AF126)","v":0},"　連続",null,null,null,{"$f":"AG126","v":0},{"$f":"AL126*請求書・納品書!$M$14","v":0}]
[null,null,null,null,null,null,null,null,null,null,null,null,null,null,null,null,null,null,null,null,null,null,null,null,null,null,null,null,null,null,null,null,null,null,null,null,null,"合　計",{"$f":"SUM(AM123:AM126)","v":0}]
[null,null,null,null,null,null,null,null,null,null,null,null,null,null,null,null,null,null,null,null,null,null,null,null,null,null,null,null,null,null,null,null,null,{"$f":"A128","v":0},"日数(日)","勤務時間(h)"," 早退（h）","合計(h)","金額(円)"]
["残業",null,null,null,null,null,null,null,null,null,null,null,null,null,null,null,null,null,null,null,null,null,null,null,null,null,null,null,null,null,null,null,{"$f":"SUM(B129:AF129)","v":0},"　出勤",{"$f":"COUNTIF(B128:AF128,\"出\")","v":0},{"$f":"AI129*7.8","v":0},{"$f":"AG130","v":0},{"$f":"AJ129-AK129","v":0},{"$f":"ROUNDDOWN(AL129*請求書・納品書!$M$11,)","v":0}]
["遅・早(出)",null,null,null,null,null,null,null,null,null,null,null,null,null,null,null,null,null,null,null,null,null,null,null,null,null,null,null,null,null,null,null,{"$f":"SUM(B130:AF130)","v":0},"　残業",null,null,null,{"$f":"AG129","v":0},{"$f":"ROUNDDOWN(AL130*請求書・納品書!$M$12,)","v":0}]
["遅・早(公)",null,null,null,null,null,null,null,null,null,null,null,null,null,null,null,null,null,null,null,null,null,null,null,null,null,null,null,null,null,null,null,{"$f":"SUM(B131:AF131)","v":0},"　公出",{"$f":"COUNTIF(B128:AF128,\"公\")","v":0},{"$f":"AI131*7.8","v":0},{"$f":"AG131","v":0},{"$f":"AJ131-AK131","v":0},{"$f":"ROUNDDOWN(AL131*請求書・納品書!$M$13,)","v":0}]
["連続",null,null,null,null,null,null,null,null,null,null,null,null,null,null,null,null,null,null,null,null,null,null,null,null,null,null,null,null,null,null,null,{"$f":"SUM(B132:AF132)","v":0},"　連続",null,null,null,{"$f":"AG132","v":0},{"$f":"AL132*請求書・納品書!$M$14","v":0}]
[null,null,null,null,null,null,null,null,null,null,null,null,null,null,null,null,null,null,null,null,null,null,null,null,null,null,null,null,null,null,null,null,null,null,null,null,null,"合　計",{"$f":"SUM(AM129:AM132)","v":0}]
[null,null,null,null,null,null,null,null,null,null,null,null,null,null,null,null,null,null,null,null,null,null,null,null,null,null,null,null,null,null,null,null,null,{"$f":"A134","v":0},"日数(日)","勤務時間(h)"," 早退（h）","合計(h)","金額(円)"]
["残業",null,null,null,null,null,null,null,null,null,null,null,null,null,null,null,null,null,null,null,null,null,null,null,null,null,null,null,null,null,null,null,{"$f":"SUM(B135:AF135)","v":0},"　出勤",{"$f":"COUNTIF(B134:AF134,\"出\")","v":0},{"$f":"AI135*7.8","v":0},{"$f":"AG136","v":0},{"$f":"AJ135-AK135","v":0},{"$f":"ROUNDDOWN(AL135*請求書・納品書!$M$11,)","v":0}]
["遅・早(出)",null,null,null,null,null,null,null,null,null,null,null,null,null,null,null,null,null,null,null,null,null,null,null,null,null,null,null,null,null,null,null,{"$f":"SUM(B136:AF136)","v":0},"　残業",null,null,null,{"$f":"AG135","v":0},{"$f":"ROUNDDOWN(AL136*請求書・納品書!$M$12,)","v":0}]
["遅・早(公)",null,null,null,null,null,null,null,null,null,null,null,null,null,null,null,null,null,null,null,null,null,null,null,null,null,null,null,null,null,null,null,{"$f":"SUM(B137:AF137)","v":0},"　公出",{"$f":"COUNTIF(B134:AF134,\"公\")","v":0},{"$f":"AI137*7.8","v":0},{"$f":"AG137","v":0},{"$f":"AJ137-AK137","v":0},{"$f":"ROUNDDOWN(AL137*請求書・納品書!$M$13,)","v":0}]
["連続",null,null,null,null,null,null,null,null,null,null,null,null,null,null,null,null,null,null,null,null,null,null,null,null,null,null,null,null,null,null,null,{"$f":"SUM(B138:AF138)","v":0},"　連続",null,null,null,{"$f":"AG138","v":0},{"$f":"AL138*請求書・納品書!$M$14","v":0}]
[null,null,null,null,null,null,null,null,null,null,null,null,null,null,null,null,null,null,null,null,null,null,null,null,null,null,null,null,null,null,null,null,null,null,null,null,null,"合　計",{"$f":"SUM(AM135:AM138)","v":0}]
[null,null,null,null,null,null,null,null,null,null,null,null,null,null,null,null,null,null,null,null,null,null,null,null,null,null,null,null,null,null,null,null,null,{"$f":"A140","v":0},"日数(日)","勤務時間(h)"," 早退（h）","合計(h)","金額(円)"]
["残業",null,null,null,null,null,null,null,null,null,null,null,null,null,null,null,null,null,null,null,null,null,null,null,null,null,null,null,null,null,null,null,{"$f":"SUM(B141:AF141)","v":0},"　出勤",{"$f":"COUNTIF(B140:AF140,\"出\")","v":0},{"$f":"AI141*7.8","v":0},{"$f":"AG142","v":0},{"$f":"AJ141-AK141","v":0},{"$f":"ROUNDDOWN(AL141*請求書・納品書!$M$11,)","v":0}]
["遅・早(出)",null,null,null,null,null,null,null,null,null,null,null,null,null,null,null,null,null,null,null,null,null,null,null,null,null,null,null,null,null,null,null,{"$f":"SUM(B142:AF142)","v":0},"　残業",null,null,null,{"$f":"AG141","v":0},{"$f":"ROUNDDOWN(AL142*請求書・納品書!$M$12,)","v":0}]
["遅・早(公)",null,null,null,null,null,null,null,null,null,null,null,null,null,null,null,null,null,null,null,null,null,null,null,null,null,null,null,null,null,null,null,{"$f":"SUM(B143:AF143)","v":0},"　公出",{"$f":"COUNTIF(B140:AF140,\"公\")","v":0},{"$f":"AI143*7.8","v":0},{"$f":"AG143","v":0},{"$f":"AJ143-AK143","v":0},{"$f":"ROUNDDOWN(AL143*請求書・納品書!$M$13,)","v":0}]
["連続",null,null,null,null,null,null,null,null,null,null,null,null,null,null,null,null,null,null,null,null,null,null,null,null,null,null,null,null,null,null,null,{"$f":"SUM(B144:AF144)","v":0},"　連続",null,null,null,{"$f":"AG144","v":0},{"$f":"AL144*請求書・納品書!$M$14","v":0}]
[null,null,null,null,null,null,null,null,null,null,null,null,null,null,null,null,null,null,null,null,null,null,null,null,null,null,null,null,null,null,null,null,null,null,null,null,null,"合　計",{"$f":"SUM(AM141:AM144)","v":0},null,{"$f":"AM127+AM133+AM139+AM145","v":0}]
[null,null,null,null,null,null,null,null,null,null,null,null,null,null,null,null,null,null,null,null,null,null,null,null,null,null,null,null,null,null,null,null,null,{"$f":"A146","v":0},"日数(日)","勤務時間(h)"," 早退（h）","合計(h)","金額(円)"]
["残業",null,null,null,null,null,null,null,null,null,null,null,null,null,null,null,null,null,null,null,null,null,null,null,null,null,null,null,null,null,null,null,{"$f":"SUM(B147:AF147)","v":0},"　出勤",{"$f":"COUNTIF(B146:AF146,\"出\")","v":0},{"$f":"AI147*7.8","v":0},{"$f":"AG148","v":0},{"$f":"AJ147-AK147","v":0},{"$f":"ROUNDDOWN(AL147*請求書・納品書!$M$11,)","v":0}]
["遅・早(出)",null,null,null,null,null,null,null,null,null,null,null,null,null,null,null,null,null,null,null,null,null,null,null,null,null,null,null,null,null,null,null,{"$f":"SUM(B148:AF148)","v":0},"　残業",null,null,null,{"$f":"AG147","v":0},{"$f":"ROUNDDOWN(AL148*請求書・納品書!$M$12,)","v":0}]
["遅・早(公)",null,null,null,null,null,null,null,null,null,null,null,null,null,null,null,null,null,null,null,null,null,null,null,null,null,null,null,null,null,null,null,{"$f":"SUM(B149:AF149)","v":0},"　公出",{"$f":"COUNTIF(B146:AF146,\"公\")","v":0},{"$f":"AI149*7.8","v":0},{"$f":"AG149","v":0},{"$f":"AJ149-AK149","v":0},{"$f":"ROUNDDOWN(AL149*請求書・納品書!$M$13,)","v":0}]
["連続",null,null,null,null,null,null,null,null,null,null,null,null,null,null,null,null,null,null,null,null,null,null,null,null,null,null,null,null,null,null,null,{"$f":"SUM(B150:AF150)","v":0},"　連続",null,null,null,{"$f":"AG150","v":0},{"$f":"AL150*請求書・納品書!$M$14","v":0}]
[null,null,null,null,null,null,null,null,null,null,null,null,null,null,null,null,null,null,null,null,null,null,null,null,null,null,null,null,null,null,null,null,null,null,null,null,null,"合　計",{"$f":"SUM(AM147:AM150)","v":0}]
[null,null,null,null,null,null,null,null,null,null,null,null,null,null,null,null,null,null,null,null,null,null,null,null,null,null,null,null,null,null,null,null,null,{"$f":"A152","v":0},"日数(日)","勤務時間(h)"," 早退（h）","合計(h)","金額(円)"]
["残業",null,null,null,null,null,null,null,null,null,null,null,null,null,null,null,null,null,null,null,null,null,null,null,null,null,null,null,null,null,null,null,{"$f":"SUM(B153:AF153)","v":0},"　出勤",{"$f":"COUNTIF(B152:AF152,\"出\")","v":0},{"$f":"AI153*7.8","v":0},{"$f":"AG154","v":0},{"$f":"AJ153-AK153","v":0},{"$f":"ROUNDDOWN(AL153*請求書・納品書!$M$11,)","v":0}]
["遅・早(出)",null,null,null,null,null,null,null,null,null,null,null,null,null,null,null,null,null,null,null,null,null,null,null,null,null,null,null,null,null,null,null,{"$f":"SUM(B154:AF154)","v":0},"　残業",null,null,null,{"$f":"AG153","v":0},{"$f":"ROUNDDOWN(AL154*請求書・納品書!$M$12,)","v":0}]
["遅・早(公)",null,null,null,null,null,null,null,null,null,null,null,null,null,null,null,null,null,null,null,null,null,null,null,null,null,null,null,null,null,null,null,{"$f":"SUM(B155:AF155)","v":0},"　公出",{"$f":"COUNTIF(B152:AF152,\"公\")","v":0},{"$f":"AI155*7.8","v":0},{"$f":"AG155","v":0},{"$f":"AJ155-AK155","v":0},{"$f":"ROUNDDOWN(AL155*請求書・納品書!$M$13,)","v":0}]
["連続",null,null,null,null,null,null,null,null,null,null,null,null,null,null,null,null,null,null,null,null,null,null,null,null,null,null,null,null,null,null,null,{"$f":"SUM(B156:AF156)","v":0},"　連続",null,null,null,{"$f":"AG156","v":0},{"$f":"AL156*請求書・納品書!$M$14","v":0}]
[null,null,null,null,null,null,null,null,null,null,null,null,null,null,null,null,null,null,null,null,null,null,null,null,null,null,null,null,null,null,null,null,null,null,null,null,null,"合　計",{"$f":"SUM(AM153:AM156)","v":0}]
[null,null,null,null,null,null,null,null,null,null,null,null,null,null,null,null,null,null,null,null,null,null,null,null,null,null,null,null,null,null,null,null,null,{"$f":"A158","v":0},"日数(日)","勤務時間(h)"," 早退（h）","合計(h)","金額(円)"]
["残業",null,null,null,null,null,null,null,null,null,null,null,null,null,null,null,null,null,null,null,null,null,null,null,null,null,null,null,null,null,null,null,{"$f":"SUM(B159:AF159)","v":0},"　出勤",{"$f":"COUNTIF(B158:AF158,\"出\")","v":0},{"$f":"AI159*7.8","v":0},{"$f":"AG160","v":0},{"$f":"AJ159-AK159","v":0},{"$f":"ROUNDDOWN(AL159*請求書・納品書!$M$11,)","v":0}]
["遅・早(出)",null,null,null,null,null,null,null,null,null,null,null,null,null,null,null,null,null,null,null,null,null,null,null,null,null,null,null,null,null,null,null,{"$f":"SUM(B160:AF160)","v":0},"　残業",null,null,null,{"$f":"AG159","v":0},{"$f":"ROUNDDOWN(AL160*請求書・納品書!$M$12,)","v":0}]
["遅・早(公)",null,null,null,null,null,null,null,null,null,null,null,null,null,null,null,null,null,null,null,null,null,null,null,null,null,null,null,null,null,null,null,{"$f":"SUM(B161:AF161)","v":0},"　公出",{"$f":"COUNTIF(B158:AF158,\"公\")","v":0},{"$f":"AI161*7.8","v":0},{"$f":"AG161","v":0},{"$f":"AJ161-AK161","v":0},{"$f":"ROUNDDOWN(AL161*請求書・納品書!$M$13,)","v":0}]
["連続",null,null,null,null,null,null,null,null,null,null,null,null,null,null,null,null,null,null,null,null,null,null,null,null,null,null,null,null,null,null,null,{"$f":"SUM(B162:AF162)","v":0},"　連続",null,null,null,{"$f":"AG162","v":0},{"$f":"AL162*請求書・納品書!$M$14","v":0}]
[null,null,null,null,null,null,null,null,null,null,null,null,null,null,null,null,null,null,null,null,null,null,null,null,null,null,null,null,null,null,null,null,null,null,null,null,null,"合　計",{"$f":"SUM(AM159:AM162)","v":0}]
[null,null,null,null,null,null,null,null,null,null,null,null,null,null,null,null,null,null,null,null,null,null,null,null,null,null,null,null,null,null,null,null,null,{"$f":"A164","v":0},"日数(日)","勤務時間(h)"," 早退（h）","合計(h)","金額(円)"]
["残業",null,null,null,null,null,null,null,null,null,null,null,null,null,null,null,null,null,null,null,null,null,null,null,null,null,null,null,null,null,null,null,{"$f":"SUM(B165:AF165)","v":0},"　出勤",{"$f":"COUNTIF(B164:AF164,\"出\")","v":0},{"$f":"AI165*7.8","v":0},{"$f":"AG166","v":0},{"$f":"AJ165-AK165","v":0},{"$f":"ROUNDDOWN(AL165*請求書・納品書!$M$11,)","v":0}]
["遅・早(出)",null,null,null,null,null,null,null,null,null,null,null,null,null,null,null,null,null,null,null,null,null,null,null,null,null,null,null,null,null,null,null,{"$f":"SUM(B166:AF166)","v":0},"　残業",null,null,null,{"$f":"AG165","v":0},{"$f":"ROUNDDOWN(AL166*請求書・納品書!$M$12,)","v":0}]
["遅・早(公)",null,null,null,null,null,null,null,null,null,null,null,null,null,null,null,null,null,null,null,null,null,null,null,null,null,null,null,null,null,null,null,{"$f":"SUM(B167:AF167)","v":0},"　公出",{"$f":"COUNTIF(B164:AF164,\"公\")","v":0},{"$f":"AI167*7.8","v":0},{"$f":"AG167","v":0},{"$f":"AJ167-AK167","v":0},{"$f":"ROUNDDOWN(AL167*請求書・納品書!$M$13,)","v":0}]
["連続",null,null,null,null,null,null,null,null,null,null,null,null,null,null,null,null,null,null,null,null,null,null,null,null,null,null,null,null,null,null,null,{"$f":"SUM(B168:AF168)","v":0},"　連続",null,null,null,{"$f":"AG168","v":0},{"$f":"AL168*請求書・納品書!$M$14","v":0}]
[null,null,null,null,null,null,null,null,null,null,null,null,null,null,null,null,null,null,null,null,null,null,null,null,null,null,null,null,null,null,null,null,null,null,null,null,null,"合　計",{"$f":"SUM(AM165:AM168)","v":0},null,{"$f":"AM151+AM157+AM163+AM169","v":0}]
[null,null,null,null,null,null,null,null,null,null,null,null,null,null,null,null,null,null,null,null,null,null,null,null,null,null,null,null,null,null,null,null,null,{"$f":"A170","v":0},"日数(日)","勤務時間(h)"," 早退（h）","合計(h)","金額(円)"]
["残業",null,null,null,null,null,null,null,null,null,null,null,null,null,null,null,null,null,null,null,null,null,null,null,null,null,null,null,null,null,null,null,{"$f":"SUM(B171:AF171)","v":0},"　出勤",{"$f":"COUNTIF(B170:AF170,\"出\")","v":0},{"$f":"AI171*7.8","v":0},{"$f":"AG172","v":0},{"$f":"AJ171-AK171","v":0},{"$f":"ROUNDDOWN(AL171*請求書・納品書!$M$11,)","v":0}]
["遅・早(出)",null,null,null,null,null,null,null,null,null,null,null,null,null,null,null,null,null,null,null,null,null,null,null,null,null,null,null,null,null,null,null,{"$f":"SUM(B172:AF172)","v":0},"　残業",null,null,null,{"$f":"AG171","v":0},{"$f":"ROUNDDOWN(AL172*請求書・納品書!$M$12,)","v":0}]
["遅・早(公)",null,null,null,null,null,null,null,null,null,null,null,null,null,null,null,null,null,null,null,null,null,null,null,null,null,null,null,null,null,null,null,{"$f":"SUM(B173:AF173)","v":0},"　公出",{"$f":"COUNTIF(B170:AF170,\"公\")","v":0},{"$f":"AI173*7.8","v":0},{"$f":"AG173","v":0},{"$f":"AJ173-AK173","v":0},{"$f":"ROUNDDOWN(AL173*請求書・納品書!$M$13,)","v":0}]
["連続",null,null,null,null,null,null,null,null,null,null,null,null,null,null,null,null,null,null,null,null,null,null,null,null,null,null,null,null,null,null,null,{"$f":"SUM(B174:AF174)","v":0},"　連続",null,null,null,{"$f":"AG174","v":0},{"$f":"AL174*請求書・納品書!$M$14","v":0}]
[null,null,null,null,null,null,null,null,null,null,null,null,null,null,null,null,null,null,null,null,null,null,null,null,null,null,null,null,null,null,null,null,null,null,null,null,null,"合　計",{"$f":"SUM(AM171:AM174)","v":0}]
[null,null,null,null,null,null,null,null,null,null,null,null,null,null,null,null,null,null,null,null,null,null,null,null,null,null,null,null,null,null,null,null,null,{"$f":"A176","v":0},"日数(日)","勤務時間(h)"," 早退（h）","合計(h)","金額(円)"]
["残業",null,null,null,null,null,null,null,null,null,null,null,null,null,null,null,null,null,null,null,null,null,null,null,null,null,null,null,null,null,null,null,{"$f":"SUM(B177:AF177)","v":0},"　出勤",{"$f":"COUNTIF(B176:AF176,\"出\")","v":0},{"$f":"AI177*7.8","v":0},{"$f":"AG178","v":0},{"$f":"AJ177-AK177","v":0},{"$f":"ROUNDDOWN(AL177*請求書・納品書!$M$11,)","v":0}]
["遅・早(出)",null,null,null,null,null,null,null,null,null,null,null,null,null,null,null,null,null,null,null,null,null,null,null,null,null,null,null,null,null,null,null,{"$f":"SUM(B178:AF178)","v":0},"　残業",null,null,null,{"$f":"AG177","v":0},{"$f":"ROUNDDOWN(AL178*請求書・納品書!$M$12,)","v":0}]
["遅・早(公)",null,null,null,null,null,null,null,null,null,null,null,null,null,null,null,null,null,null,null,null,null,null,null,null,null,null,null,null,null,null,null,{"$f":"SUM(B179:AF179)","v":0},"　公出",{"$f":"COUNTIF(B176:AF176,\"公\")","v":0},{"$f":"AI179*7.8","v":0},{"$f":"AG179","v":0},{"$f":"AJ179-AK179","v":0},{"$f":"ROUNDDOWN(AL179*請求書・納品書!$M$13,)","v":0}]
["連続",null,null,null,null,null,null,null,null,null,null,null,null,null,null,null,null,null,null,null,null,null,null,null,null,null,null,null,null,null,null,null,{"$f":"SUM(B180:AF180)","v":0},"　連続",null,null,null,{"$f":"AG180","v":0},{"$f":"AL180*請求書・納品書!$M$14","v":0}]
[null,null,null,null,null,null,null,null,null,null,null,null,null,null,null,null,null,null,null,null,null,null,null,null,null,null,null,null,null,null,null,null,null,null,null,null,null,"合　計",{"$f":"SUM(AM177:AM180)","v":0}]
[null,null,null,null,null,null,null,null,null,null,null,null,null,null,null,null,null,null,null,null,null,null,null,null,null,null,null,null,null,null,null,null,null,{"$f":"A182","v":0},"日数(日)","勤務時間(h)"," 早退（h）","合計(h)","金額(円)"]
["残業",null,null,null,null,null,null,null,null,null,null,null,null,null,null,null,null,null,null,null,null,null,null,null,null,null,null,null,null,null,null,null,{"$f":"SUM(B183:AF183)","v":0},"　出勤",{"$f":"COUNTIF(B182:AF182,\"出\")","v":0},{"$f":"AI183*7.8","v":0},{"$f":"AG184","v":0},{"$f":"AJ183-AK183","v":0},{"$f":"ROUNDDOWN(AL183*請求書・納品書!$M$11,)","v":0}]
["遅・早(出)",null,null,null,null,null,null,null,null,null,null,null,null,null,null,null,null,null,null,null,null,null,null,null,null,null,null,null,null,null,null,null,{"$f":"SUM(B184:AF184)","v":0},"　残業",null,null,null,{"$f":"AG183","v":0},{"$f":"ROUNDDOWN(AL184*請求書・納品書!$M$12,)","v":0}]
["遅・早(公)",null,null,null,null,null,null,null,null,null,null,null,null,null,null,null,null,null,null,null,null,null,null,null,null,null,null,null,null,null,null,null,{"$f":"SUM(B185:AF185)","v":0},"　公出",{"$f":"COUNTIF(B182:AF182,\"公\")","v":0},{"$f":"AI185*7.8","v":0},{"$f":"AG185","v":0},{"$f":"AJ185-AK185","v":0},{"$f":"ROUNDDOWN(AL185*請求書・納品書!$M$13,)","v":0}]
["連続",null,null,null,null,null,null,null,null,null,null,null,null,null,null,null,null,null,null,null,null,null,null,null,null,null,null,null,null,null,null,null,{"$f":"SUM(B186:AF186)","v":0},"　連続",null,null,null,{"$f":"AG186","v":0},{"$f":"AL186*請求書・納品書!$M$14","v":0}]
[null,null,null,null,null,null,null,null,null,null,null,null,null,null,null,null,null,null,null,null,null,null,null,null,null,null,null,null,null,null,null,null,null,null,null,null,null,"合　計",{"$f":"SUM(AM183:AM186)","v":0}]
[null,null,null,null,null,null,null,null,null,null,null,null,null,null,null,null,null,null,null,null,null,null,null,null,null,null,null,null,null,null,null,null,null,{"$f":"A188","v":0},"日数(日)","勤務時間(h)"," 早退（h）","合計(h)","金額(円)"]
["残業",null,null,null,null,null,null,null,null,null,null,null,null,null,null,null,null,null,null,null,null,null,null,null,null,null,null,null,null,null,null,null,{"$f":"SUM(B189:AF189)","v":0},"　出勤",{"$f":"COUNTIF(B188:AF188,\"出\")","v":0},{"$f":"AI189*7.8","v":0},{"$f":"AG190","v":0},{"$f":"AJ189-AK189","v":0},{"$f":"ROUNDDOWN(AL189*請求書・納品書!$M$11,)","v":0}]
["遅・早(出)",null,null,null,null,null,null,null,null,null,null,null,null,null,null,null,null,null,null,null,null,null,null,null,null,null,null,null,null,null,null,null,{"$f":"SUM(B190:AF190)","v":0},"　残業",null,null,null,{"$f":"AG189","v":0},{"$f":"ROUNDDOWN(AL190*請求書・納品書!$M$12,)","v":0}]
["遅・早(公)",null,null,null,null,null,null,null,null,null,null,null,null,null,null,null,null,null,null,null,null,null,null,null,null,null,null,null,null,null,null,null,{"$f":"SUM(B191:AF191)","v":0},"　公出",{"$f":"COUNTIF(B188:AF188,\"公\")","v":0},{"$f":"AI191*7.8","v":0},{"$f":"AG191","v":0},{"$f":"AJ191-AK191","v":0},{"$f":"ROUNDDOWN(AL191*請求書・納品書!$M$13,)","v":0}]
["連続",null,null,null,null,null,null,null,null,null,null,null,null,null,null,null,null,null,null,null,null,null,null,null,null,null,null,null,null,null,null,null,{"$f":"SUM(B192:AF192)","v":0},"　連続",null,null,null,{"$f":"AG192","v":0},{"$f":"AL192*請求書・納品書!$M$14","v":0}]
[null,null,null,null,null,null,null,null,null,null,null,null,null,null,null,null,null,null,null,null,null,null,null,null,null,null,null,null,null,null,null,null,null,null,null,null,null,"合　計",{"$f":"SUM(AM189:AM192)","v":0},null,{"$f":"AM175+AM181+AM187+AM193","v":0}]

{"sheet":"12","index":8,"n_rows":193,"n_cols":42,"rows_kept":193,"cut":false,"hidden":false,"merged":[]}
[{"$f":"'4'!A1","v":2010},1,2,3,4,5,6,7,8,9,10,11,12,13,14,15,16,17,18,19,20,21,22,23,24,25,26,27,28,29,30,31,"計",{"$f":"A1&\"年\"&MID(CELL(\"filename\",$A$1),FIND(\"]\",CELL(\"filename\",$A$1))+1,31) &\"月\"","v":"2010年12月"}]
[null,null,null,null,null,null,null,null,null,null,null,null,null,null,null,null,null,null,null,null,null,null,null,null,null,null,null,null,null,null,null,null,null,{"$f":"A2","v":0},"日数(日)","勤務時間(h)"," 早退（h）","合計(h)","金額(円)","出","　合計",{"$f":"SUM(AM:AM)/2","v":0}]
["残業",null,null,null,null,null,null,null,null,null,null,null,null,null,null,null,null,null,null,null,null,null,null,null,null,null,null,null,null,null,null,null,{"$f":"SUM(B3:AF3)","v":0},"　出勤",{"$f":"COUNTIF(B2:AF2,\"出\")","v":0},{"$f":"AI3*7.8","v":0},{"$f":"AG4","v":0},{"$f":"AJ3-AK3","v":0},{"$f":"ROUNDDOWN(AL3*請求書・納品書!$M$11,)","v":0},"公","　人数",{"$f":"COUNTA(AH:AH)-COUNTIF(AH:AH,0)-32*4-1","v":0}]
["遅・早(出)",null,null,null,null,null,null,null,null,null,null,null,null,null,null,null,null,null,null,null,null,null,null,null,null,null,null,null,null,null,null,null,{"$f":"SUM(B4:AF4)","v":0},"　残業",null,null,null,{"$f":"AG3","v":0},{"$f":"ROUNDDOWN(AL4*請求書・納品書!$M$12,)","v":0},"欠","　管理費",{"$f":"(AP3-AP9)*19400","v":0}]
["遅・早(公)",null,null,null,null,null,null,null,null,null,null,null,null,null,null,null,null,null,null,null,null,null,null,null,null,null,null,null,null,null,null,null,{"$f":"SUM(B5:AF5)","v":0},"　公出",{"$f":"COUNTIF(B2:AF2,\"公\")","v":0},{"$f":"AI5*7.8","v":0},{"$f":"AG5","v":0},{"$f":"AJ5-AK5","v":0},{"$f":"ROUNDDOWN(AL5*請求書・納品書!$M$13,)","v":0},"有","　小計",{"$f":"AP2+AP4","v":0}]
["連続",null,null,null,null,null,null,null,null,null,null,null,null,null,null,null,null,null,null,null,null,null,null,null,null,null,null,null,null,null,null,null,{"$f":"SUM(B6:AF6)","v":0},"　連続",null,null,null,{"$f":"AG6","v":0},{"$f":"AL6*請求書・納品書!$M$14","v":0},"半","　消費税",{"$f":"ROUNDDOWN(AP5*0.05,)","v":0}]
[null,null,null,null,null,null,null,null,null,null,null,null,null,null,null,null,null,null,null,null,null,null,null,null,null,null,null,null,null,null,null,null,null,null,null,null,null,"合　計",{"$f":"SUM(AM3:AM6)","v":0},null,"　総合計",{"$f":"AP5+AP6","v":0}]
[null,null,null,null,null,null,null,null,null,null,null,null,null,null,null,null,null,null,null,null,null,null,null,null,null,null,null,null,null,null,null,null,null,{"$f":"A8","v":0},"日数(日)","勤務時間(h)"," 早退（h）","合計(h)","金額(円)"]
["残業",null,null,null,null,null,null,null,null,null,null,null,null,null,null,null,null,null,null,null,null,null,null,null,null,null,null,null,null,null,null,null,{"$f":"SUM(B9:AF9)","v":0},"　出勤",{"$f":"COUNTIF(B8:AF8,\"出\")","v":0},{"$f":"AI9*7.8","v":0},{"$f":"AG10","v":0},{"$f":"AJ9-AK9","v":0},{"$f":"ROUNDDOWN(AL9*請求書・納品書!$M$11,)","v":0},null,"管理費に入れない人数"]
["遅・早(出)",null,null,null,null,null,null,null,null,null,null,null,null,null,null,null,null,null,null,null,null,null,null,null,null,null,null,null,null,null,null,null,{"$f":"SUM(B10:AF10)","v":0},"　残業",null,null,null,{"$f":"AG9","v":0},{"$f":"ROUNDDOWN(AL10*請求書・納品書!$M$12,)","v":0}]
["遅・早(公)",null,null,null,null,null,null,null,null,null,null,null,null,null,null,null,null,null,null,null,null,null,null,null,null,null,null,null,null,null,null,null,{"$f":"SUM(B11:AF11)","v":0},"　公出",{"$f":"COUNTIF(B8:AF8,\"公\")","v":0},{"$f":"AI11*7.8","v":0},{"$f":"AG11","v":0},{"$f":"AJ11-AK11","v":0},{"$f":"ROUNDDOWN(AL11*請求書・納品書!$M$13,)","v":0}]
["連続",null,null,null,null,null,null,null,null,null,null,null,null,null,null,null,null,null,null,null,null,null,null,null,null,null,null,null,null,null,null,null,{"$f":"SUM(B12:AF12)","v":0},"　連続",null,null,null,{"$f":"AG12","v":0},{"$f":"AL12*請求書・納品書!$M$14","v":0}]
[null,null,null,null,null,null,null,null,null,null,null,null,null,null,null,null,null,null,null,null,null,null,null,null,null,null,null,null,null,null,null,null,null,null,null,null,null,"合　計",{"$f":"SUM(AM9:AM12)","v":0}]
[null,null,null,null,null,null,null,null,null,null,null,null,null,null,null,null,null,null,null,null,null,null,null,null,null,null,null,null,null,null,null,null,null,{"$f":"A14","v":0},"日数(日)","勤務時間(h)"," 早退（h）","合計(h)","金額(円)"]
["残業",null,null,null,null,null,null,null,null,null,null,null,null,null,null,null,null,null,null,null,null,null,null,null,null,null,null,null,null,null,null,null,{"$f":"SUM(B15:AF15)","v":0},"　出勤",{"$f":"COUNTIF(B14:AF14,\"出\")","v":0},{"$f":"AI15*7.8","v":0},{"$f":"AG16","v":0},{"$f":"AJ15-AK15","v":0},{"$f":"ROUNDDOWN(AL15*請求書・納品書!$M$11,)","v":0}]
["遅・早(出)",null,null,null,null,null,null,null,null,null,null,null,null,null,null,null,null,null,null,null,null,null,null,null,null,null,null,null,null,null,null,null,{"$f":"SUM(B16:AF16)","v":0},"　残業",null,null,null,{"$f":"AG15","v":0},{"$f":"ROUNDDOWN(AL16*請求書・納品書!$M$12,)","v":0}]
["遅・早(公)",null,null,null,null,null,null,null,null,null,null,null,null,null,null,null,null,null,null,null,null,null,null,null,null,null,null,null,null,null,null,null,{"$f":"SUM(B17:AF17)","v":0},"　公出",{"$f":"COUNTIF(B14:AF14,\"公\")","v":0},{"$f":"AI17*7.8","v":0},{"$f":"AG17","v":0},{"$f":"AJ17-AK17","v":0},{"$f":"ROUNDDOWN(AL17*請求書・納品書!$M$13,)","v":0}]
["連続",null,null,null,null,null,null,null,null,null,null,null,null,null,null,null,null,null,null,null,null,null,null,null,null,null,null,null,null,null,null,null,{"$f":"SUM(B18:AF18)","v":0},"　連続",null,null,null,{"$f":"AG18","v":0},{"$f":"AL18*請求書・納品書!$M$14","v":0}]
[null,null,null,null,null,null,null,null,null,null,null,null,null,null,null,null,null,null,null,null,null,null,null,null,null,null,null,null,null,null,null,null,null,null,null,null,null,"合　計",{"$f":"SUM(AM15:AM18)","v":0}]
[null,null,null,null,null,null,null,null,null,null,null,null,null,null,null,null,null,null,null,null,null,null,null,null,null,null,null,null,null,null,null,null,null,{"$f":"A20","v":0},"日数(日)","勤務時間(h)"," 早退（h）","合計(h)","金額(円)"]
["残業",null,null,null,null,null,null,null,null,null,null,null,null,null,null,null,null,null,null,null,null,null,null,null,null,null,null,null,null,null,null,null,{"$f":"SUM(B21:AF21)","v":0},"　出勤",{"$f":"COUNTIF(B20:AF20,\"出\")","v":0},{"$f":"AI21*7.8","v":0},{"$f":"AG22","v":0},{"$f":"AJ21-AK21","v":0},{"$f":"ROUNDDOWN(AL21*請求書・納品書!$M$11,)","v":0}]
["遅・早(出)",null,null,null,null,null,null,null,null,null,null,null,null,null,null,null,null,null,null,null,null,null,null,null,null,null,null,null,null,null,null,null,{"$f":"SUM(B22:AF22)","v":0},"　残業",null,null,null,{"$f":"AG21","v":0},{"$f":"ROUNDDOWN(AL22*請求書・納品書!$M$12,)","v":0}]
["遅・早(公)",null,null,null,null,null,null,null,null,null,null,null,null,null,null,null,null,null,null,null,null,null,null,null,null,null,null,null,null,null,null,null,{"$f":"SUM(B23:AF23)","v":0},"　公出",{"$f":"COUNTIF(B20:AF20,\"公\")","v":0},{"$f":"AI23*7.8","v":0},{"$f":"AG23","v":0},{"$f":"AJ23-AK23","v":0},{"$f":"ROUNDDOWN(AL23*請求書・納品書!$M$13,)","v":0}]
["連続",null,null,null,null,null,null,null,null,null,null,null,null,null,null,null,null,null,null,null,null,null,null,null,null,null,null,null,null,null,null,null,{"$f":"SUM(B24:AF24)","v":0},"　連続",null,null,null,{"$f":"AG24","v":0},{"$f":"AL24*請求書・納品書!$M$14","v":0}]
[null,null,null,null,null,null,null,null,null,null,null,null,null,null,null,null,null,null,null,null,null,null,null,null,null,null,null,null,null,null,null,null,null,null,null,null,null,"合　計",{"$f":"SUM(AM21:AM24)","v":0},null,{"$f":"AM7+AM13+AM19+AM25","v":0}]
[null,null,null,null,null,null,null,null,null,null,null,null,null,null,null,null,null,null,null,null,null,null,null,null,null,null,null,null,null,null,null,null,null,{"$f":"A26","v":0},"日数(日)","勤務時間(h)"," 早退（h）","合計(h)","金額(円)"]
["残業",null,null,null,null,null,null,null,null,null,null,null,null,null,null,null,null,null,null,null,null,null,null,null,null,null,null,null,null,null,null,null,{"$f":"SUM(B27:AF27)","v":0},"　出勤",{"$f":"COUNTIF(B26:AF26,\"出\")","v":0},{"$f":"AI27*7.8","v":0},{"$f":"AG28","v":0},{"$f":"AJ27-AK27","v":0},{"$f":"ROUNDDOWN(AL27*請求書・納品書!$M$11,)","v":0}]
["遅・早(出)",null,null,null,null,null,null,null,null,null,null,null,null,null,null,null,null,null,null,null,null,null,null,null,null,null,null,null,null,null,null,null,{"$f":"SUM(B28:AF28)","v":0},"　残業",null,null,null,{"$f":"AG27","v":0},{"$f":"ROUNDDOWN(AL28*請求書・納品書!$M$12,)","v":0}]
["遅・早(公)",null,null,null,null,null,null,null,null,null,null,null,null,null,null,null,null,null,null,null,null,null,null,null,null,null,null,null,null,null,null,null,{"$f":"SUM(B29:AF29)","v":0},"　公出",{"$f":"COUNTIF(B26:AF26,\"公\")","v":0},{"$f":"AI29*7.8","v":0},{"$f":"AG29","v":0},{"$f":"AJ29-AK29","v":0},{"$f":"ROUNDDOWN(AL29*請求書・納品書!$M$13,)","v":0}]
["連続",null,null,null,null,null,null,null,null,null,null,null,null,null,null,null,null,null,null,null,null,null,null,null,null,null,null,null,null,null,null,null,{"$f":"SUM(B30:AF30)","v":0},"　連続",null,null,null,{"$f":"AG30","v":0},{"$f":"AL30*請求書・納品書!$M$14","v":0}]
[null,null,null,null,null,null,null,null,null,null,null,null,null,null,null,null,null,null,null,null,null,null,null,null,null,null,null,null,null,null,null,null,null,null,null,null,null,"合　計",{"$f":"SUM(AM27:AM30)","v":0}]
[null,null,null,null,null,null,null,null,null,null,null,null,null,null,null,null,null,null,null,null,null,null,null,null,null,null,null,null,null,null,null,null,null,{"$f":"A32","v":0},"日数(日)","勤務時間(h)"," 早退（h）","合計(h)","金額(円)"]
["残業",null,null,null,null,null,null,null,null,null,null,null,null,null,null,null,null,null,null,null,null,null,null,null,null,null,null,null,null,null,null,null,{"$f":"SUM(B33:AF33)","v":0},"　出勤",{"$f":"COUNTIF(B32:AF32,\"出\")","v":0},{"$f":"AI33*7.8","v":0},{"$f":"AG34","v":0},{"$f":"AJ33-AK33","v":0},{"$f":"ROUNDDOWN(AL33*請求書・納品書!$M$11,)","v":0}]
["遅・早(出)",null,null,null,null,null,null,null,null,null,null,null,null,null,null,null,null,null,null,null,null,null,null,null,null,null,null,null,null,null,null,null,{"$f":"SUM(B34:AF34)","v":0},"　残業",null,null,null,{"$f":"AG33","v":0},{"$f":"ROUNDDOWN(AL34*請求書・納品書!$M$12,)","v":0}]
["遅・早(公)",null,null,null,null,null,null,null,null,null,null,null,null,null,null,null,null,null,null,null,null,null,null,null,null,null,null,null,null,null,null,null,{"$f":"SUM(B35:AF35)","v":0},"　公出",{"$f":"COUNTIF(B32:AF32,\"公\")","v":0},{"$f":"AI35*7.8","v":0},{"$f":"AG35","v":0},{"$f":"AJ35-AK35","v":0},{"$f":"ROUNDDOWN(AL35*請求書・納品書!$M$13,)","v":0}]
["連続",null,null,null,null,null,null,null,null,null,null,null,null,null,null,null,null,null,null,null,null,null,null,null,null,null,null,null,null,null,null,null,{"$f":"SUM(B36:AF36)","v":0},"　連続",null,null,null,{"$f":"AG36","v":0},{"$f":"AL36*請求書・納品書!$M$14","v":0}]
[null,null,null,null,null,null,null,null,null,null,null,null,null,null,null,null,null,null,null,null,null,null,null,null,null,null,null,null,null,null,null,null,null,null,null,null,null,"合　計",{"$f":"SUM(AM33:AM36)","v":0}]
[null,null,null,null,null,null,null,null,null,null,null,null,null,null,null,null,null,null,null,null,null,null,null,null,null,null,null,null,null,null,null,null,null,{"$f":"A38","v":0},"日数(日)","勤務時間(h)"," 早退（h）","合計(h)","金額(円)"]
["残業",null,null,null,null,null,null,null,null,null,null,null,null,null,null,null,null,null,null,null,null,null,null,null,null,null,null,null,null,null,null,null,{"$f":"SUM(B39:AF39)","v":0},"　出勤",{"$f":"COUNTIF(B38:AF38,\"出\")","v":0},{"$f":"AI39*7.8","v":0},{"$f":"AG40","v":0},{"$f":"AJ39-AK39","v":0},{"$f":"ROUNDDOWN(AL39*請求書・納品書!$M$11,)","v":0}]
["遅・早(出)",null,null,null,null,null,null,null,null,null,null,null,null,null,null,null,null,null,null,null,null,null,null,null,null,null,null,null,null,null,null,null,{"$f":"SUM(B40:AF40)","v":0},"　残業",null,null,null,{"$f":"AG39","v":0},{"$f":"ROUNDDOWN(AL40*請求書・納品書!$M$12,)","v":0}]
["遅・早(公)",null,null,null,null,null,null,null,null,null,null,null,null,null,null,null,null,null,null,null,null,null,null,null,null,null,null,null,null,null,null,null,{"$f":"SUM(B41:AF41)","v":0},"　公出",{"$f":"COUNTIF(B38:AF38,\"公\")","v":0},{"$f":"AI41*7.8","v":0},{"$f":"AG41","v":0},{"$f":"AJ41-AK41","v":0},{"$f":"ROUNDDOWN(AL41*請求書・納品書!$M$13,)","v":0}]
["連続",null,null,null,null,null,null,null,null,null,null,null,null,null,null,null,null,null,null,null,null,null,null,null,null,null,null,null,null,null,null,null,{"$f":"SUM(B42:AF42)","v":0},"　連続",null,null,null,{"$f":"AG42","v":0},{"$f":"AL42*請求書・納品書!$M$14","v":0}]
[null,null,null,null,null,null,null,null,null,null,null,null,null,null,null,null,null,null,null,null,null,null,null,null,null,null,null,null,null,null,null,null,null,null,null,null,null,"合　計",{"$f":"SUM(AM39:AM42)","v":0}]
[null,null,null,null,null,null,null,null,null,null,null,null,null,null,null,null,null,null,null,null,null,null,null,null,null,null,null,null,null,null,null,null,null,{"$f":"A44","v":0},"日数(日)","勤務時間(h)"," 早退（h）","合計(h)","金額(円)"]
["残業",null,null,null,null,null,null,null,null,null,null,null,null,null,null,null,null,null,null,null,null,null,null,null,null,null,null,null,null,null,null,null,{"$f":"SUM(B45:AF45)","v":0},"　出勤",{"$f":"COUNTIF(B44:AF44,\"出\")","v":0},{"$f":"AI45*7.8","v":0},{"$f":"AG46","v":0},{"$f":"AJ45-AK45","v":0},{"$f":"ROUNDDOWN(AL45*請求書・納品書!$M$11,)","v":0}]
["遅・早(出)",null,null,null,null,null,null,null,null,null,null,null,null,null,null,null,null,null,null,null,null,null,null,null,null,null,null,null,null,null,null,null,{"$f":"SUM(B46:AF46)","v":0},"　残業",null,null,null,{"$f":"AG45","v":0},{"$f":"ROUNDDOWN(AL46*請求書・納品書!$M$12,)","v":0}]
["遅・早(公)",null,null,null,null,null,null,null,null,null,null,null,null,null,null,null,null,null,null,null,null,null,null,null,null,null,null,null,null,null,null,null,{"$f":"SUM(B47:AF47)","v":0},"　公出",{"$f":"COUNTIF(B44:AF44,\"公\")","v":0},{"$f":"AI47*7.8","v":0},{"$f":"AG47","v":0},{"$f":"AJ47-AK47","v":0},{"$f":"ROUNDDOWN(AL47*請求書・納品書!$M$13,)","v":0}]
["連続",null,null,null,null,null,null,null,null,null,null,null,null,null,null,null,null,null,null,null,null,null,null,null,null,null,null,null,null,null,null,null,{"$f":"SUM(B48:AF48)","v":0},"　連続",null,null,null,{"$f":"AG48","v":0},{"$f":"AL48*請求書・納品書!$M$14","v":0}]
[null,null,null,null,null,null,null,null,null,null,null,null,null,null,null,null,null,null,null,null,null,null,null,null,null,null,null,null,null,null,null,null,null,null,null,null,null,"合　計",{"$f":"SUM(AM45:AM48)","v":0},null,{"$f":"AM31+AM37+AM43+AM49","v":0}]
[null,null,null,null,null,null,null,null,null,null,null,null,null,null,null,null,null,null,null,null,null,null,null,null,null,null,null,null,null,null,null,null,null,{"$f":"A50","v":0},"日数(日)","勤務時間(h)"," 早退（h）","合計(h)","金額(円)"]
["残業",null,null,null,null,null,null,null,null,null,null,null,null,null,null,null,null,null,null,null,null,null,null,null,null,null,null,null,null,null,null,null,{"$f":"SUM(B51:AF51)","v":0},"　出勤",{"$f":"COUNTIF(B50:AF50,\"出\")","v":0},{"$f":"AI51*7.8","v":0},{"$f":"AG52","v":0},{"$f":"AJ51-AK51","v":0},{"$f":"ROUNDDOWN(AL51*請求書・納品書!$M$11,)","v":0}]
["遅・早(出)",null,null,null,null,null,null,null,null,null,null,null,null,null,null,null,null,null,null,null,null,null,null,null,null,null,null,null,null,null,null,null,{"$f":"SUM(B52:AF52)","v":0},"　残業",null,null,null,{"$f":"AG51","v":0},{"$f":"ROUNDDOWN(AL52*請求書・納品書!$M$12,)","v":0}]
["遅・早(公)",null,null,null,null,null,null,null,null,null,null,null,null,null,null,null,null,null,null,null,null,null,null,null,null,null,null,null,null,null,null,null,{"$f":"SUM(B53:AF53)","v":0},"　公出",{"$f":"COUNTIF(B50:AF50,\"公\")","v":0},{"$f":"AI53*7.8","v":0},{"$f":"AG53","v":0},{"$f":"AJ53-AK53","v":0},{"$f":"ROUNDDOWN(AL53*請求書・納品書!$M$13,)","v":0}]
["連続",null,null,null,null,null,null,null,null,null,null,null,null,null,null,null,null,null,null,null,null,null,null,null,null,null,null,null,null,null,null,null,{"$f":"SUM(B54:AF54)","v":0},"　連続",null,null,null,{"$f":"AG54","v":0},{"$f":"AL54*請求書・納品書!$M$14","v":0}]
[null,null,null,null,null,null,null,null,null,null,null,null,null,null,null,null,null,null,null,null,null,null,null,null,null,null,null,null,null,null,null,null,null,null,null,null,null,"合　計",{"$f":"SUM(AM51:AM54)","v":0}]
[null,null,null,null,null,null,null,null,null,null,null,null,null,null,null,null,null,null,null,null,null,null,null,null,null,null,null,null,null,null,null,null,null,{"$f":"A56","v":0},"日数(日)","勤務時間(h)"," 早退（h）","合計(h)","金額(円)"]
["残業",null,null,null,null,null,null,null,null,null,null,null,null,null,null,null,null,null,null,null,null,null,null,null,null,null,null,null,null,null,null,null,{"$f":"SUM(B57:AF57)","v":0},"　出勤",{"$f":"COUNTIF(B56:AF56,\"出\")","v":0},{"$f":"AI57*7.8","v":0},{"$f":"AG58","v":0},{"$f":"AJ57-AK57","v":0},{"$f":"ROUNDDOWN(AL57*請求書・納品書!$M$11,)","v":0}]
["遅・早(出)",null,null,null,null,null,null,null,null,null,null,null,null,null,null,null,null,null,null,null,null,null,null,null,null,null,null,null,null,null,null,null,{"$f":"SUM(B58:AF58)","v":0},"　残業",null,null,null,{"$f":"AG57","v":0},{"$f":"ROUNDDOWN(AL58*請求書・納品書!$M$12,)","v":0}]
["遅・早(公)",null,null,null,null,null,null,null,null,null,null,null,null,null,null,null,null,null,null,null,null,null,null,null,null,null,null,null,null,null,null,null,{"$f":"SUM(B59:AF59)","v":0},"　公出",{"$f":"COUNTIF(B56:AF56,\"公\")","v":0},{"$f":"AI59*7.8","v":0},{"$f":"AG59","v":0},{"$f":"AJ59-AK59","v":0},{"$f":"ROUNDDOWN(AL59*請求書・納品書!$M$13,)","v":0}]
["連続",null,null,null,null,null,null,null,null,null,null,null,null,null,null,null,null,null,null,null,null,null,null,null,null,null,null,null,null,null,null,null,{"$f":"SUM(B60:AF60)","v":0},"　連続",null,null,null,{"$f":"AG60","v":0},{"$f":"AL60*請求書・納品書!$M$14","v":0}]
[null,null,null,null,null,null,null,null,null,null,null,null,null,null,null,null,null,null,null,null,null,null,null,null,null,null,null,null,null,null,null,null,null,null,null,null,null,"合　計",{"$f":"SUM(AM57:AM60)","v":0}]
[null,null,null,null,null,null,null,null,null,null,null,null,null,null,null,null,null,null,null,null,null,null,null,null,null,null,null,null,null,null,null,null,null,{"$f":"A62","v":0},"日数(日)","勤務時間(h)"," 早退（h）","合計(h)","金額(円)"]
["残業",null,null,null,null,null,null,null,null,null,null,null,null,null,null,null,null,null,null,null,null,null,null,null,null,null,null,null,null,null,null,null,{"$f":"SUM(B63:AF63)","v":0},"　出勤",{"$f":"COUNTIF(B62:AF62,\"出\")","v":0},{"$f":"AI63*7.8","v":0},{"$f":"AG64","v":0},{"$f":"AJ63-AK63","v":0},{"$f":"ROUNDDOWN(AL63*請求書・納品書!$M$11,)","v":0}]
["遅・早(出)",null,null,null,null,null,null,null,null,null,null,null,null,null,null,null,null,null,null,null,null,null,null,null,null,null,null,null,null,null,null,null,{"$f":"SUM(B64:AF64)","v":0},"　残業",null,null,null,{"$f":"AG63","v":0},{"$f":"ROUNDDOWN(AL64*請求書・納品書!$M$12,)","v":0}]
["遅・早(公)",null,null,null,null,null,null,null,null,null,null,null,null,null,null,null,null,null,null,null,null,null,null,null,null,null,null,null,null,null,null,null,{"$f":"SUM(B65:AF65)","v":0},"　公出",{"$f":"COUNTIF(B62:AF62,\"公\")","v":0},{"$f":"AI65*7.8","v":0},{"$f":"AG65","v":0},{"$f":"AJ65-AK65","v":0},{"$f":"ROUNDDOWN(AL65*請求書・納品書!$M$13,)","v":0}]
["連続",null,null,null,null,null,null,null,null,null,null,null,null,null,null,null,null,null,null,null,null,null,null,null,null,null,null,null,null,null,null,null,{"$f":"SUM(B66:AF66)","v":0},"　連続",null,null,null,{"$f":"AG66","v":0},{"$f":"AL66*請求書・納品書!$M$14","v":0}]
[null,null,null,null,null,null,null,null,null,null,null,null,null,null,null,null,null,null,null,null,null,null,null,null,null,null,null,null,null,null,null,null,null,null,null,null,null,"合　計",{"$f":"SUM(AM63:AM66)","v":0}]
[null,null,null,null,null,null,null,null,null,null,null,null,null,null,null,null,null,null,null,null,null,null,null,null,null,null,null,null,null,null,null,null,null,{"$f":"A68","v":0},"日数(日)","勤務時間(h)"," 早退（h）","合計(h)","金額(円)"]
["残業",null,null,null,null,null,null,null,null,null,null,null,null,null,null,null,null,null,null,null,null,null,null,null,null,null,null,null,null,null,null,null,{"$f":"SUM(B69:AF69)","v":0},"　出勤",{"$f":"COUNTIF(B68:AF68,\"出\")","v":0},{"$f":"AI69*7.8","v":0},{"$f":"AG70","v":0},{"$f":"AJ69-AK69","v":0},{"$f":"ROUNDDOWN(AL69*請求書・納品書!$M$11,)","v":0}]
["遅・早(出)",null,null,null,null,null,null,null,null,null,null,null,null,null,null,null,null,null,null,null,null,null,null,null,null,null,null,null,null,null,null,null,{"$f":"SUM(B70:AF70)","v":0},"　残業",null,null,null,{"$f":"AG69","v":0},{"$f":"ROUNDDOWN(AL70*請求書・納品書!$M$12,)","v":0}]
["遅・早(公)",null,null,null,null,null,null,null,null,null,null,null,null,null,null,null,null,null,null,null,null,null,null,null,null,null,null,null,null,null,null,null,{"$f":"SUM(B71:AF71)","v":0},"　公出",{"$f":"COUNTIF(B68:AF68,\"公\")","v":0},{"$f":"AI71*7.8","v":0},{"$f":"AG71","v":0},{"$f":"AJ71-AK71","v":0},{"$f":"ROUNDDOWN(AL71*請求書・納品書!$M$13,)","v":0}]
["連続",null,null,null,null,null,null,null,null,null,null,null,null,null,null,null,null,null,null,null,null,null,null,null,null,null,null,null,null,null,null,null,{"$f":"SUM(B72:AF72)","v":0},"　連続",null,null,null,{"$f":"AG72","v":0},{"$f":"AL72*請求書・納品書!$M$14","v":0}]
[null,null,null,null,null,null,null,null,null,null,null,null,null,null,null,null,null,null,null,null,null,null,null,null,null,null,null,null,null,null,null,null,null,null,null,null,null,"合　計",{"$f":"SUM(AM69:AM72)","v":0},null,{"$f":"AM55+AM61+AM67+AM73","v":0}]
[null,null,null,null,null,null,null,null,null,null,null,null,null,null,null,null,null,null,null,null,null,null,null,null,null,null,null,null,null,null,null,null,null,{"$f":"A74","v":0},"日数(日)","勤務時間(h)"," 早退（h）","合計(h)","金額(円)"]
["残業",null,null,null,null,null,null,null,null,null,null,null,null,null,null,null,null,null,null,null,null,null,null,null,null,null,null,null,null,null,null,null,{"$f":"SUM(B75:AF75)","v":0},"　出勤",{"$f":"COUNTIF(B74:AF74,\"出\")","v":0},{"$f":"AI75*7.8","v":0},{"$f":"AG76","v":0},{"$f":"AJ75-AK75","v":0},{"$f":"ROUNDDOWN(AL75*請求書・納品書!$M$11,)","v":0}]
["遅・早(出)",null,null,null,null,null,null,null,null,null,null,null,null,null,null,null,null,null,null,null,null,null,null,null,null,null,null,null,null,null,null,null,{"$f":"SUM(B76:AF76)","v":0},"　残業",null,null,null,{"$f":"AG75","v":0},{"$f":"ROUNDDOWN(AL76*請求書・納品書!$M$12,)","v":0}]
["遅・早(公)",null,null,null,null,null,null,null,null,null,null,null,null,null,null,null,null,null,null,null,null,null,null,null,null,null,null,null,null,null,null,null,{"$f":"SUM(B77:AF77)","v":0},"　公出",{"$f":"COUNTIF(B74:AF74,\"公\")","v":0},{"$f":"AI77*7.8","v":0},{"$f":"AG77","v":0},{"$f":"AJ77-AK77","v":0},{"$f":"ROUNDDOWN(AL77*請求書・納品書!$M$13,)","v":0}]
["連続",null,null,null,null,null,null,null,null,null,null,null,null,null,null,null,null,null,null,null,null,null,null,null,null,null,null,null,null,null,null,null,{"$f":"SUM(B78:AF78)","v":0},"　連続",null,null,null,{"$f":"AG78","v":0},{"$f":"AL78*請求書・納品書!$M$14","v":0}]
[null,null,null,null,null,null,null,null,null,null,null,null,null,null,null,null,null,null,null,null,null,null,null,null,null,null,null,null,null,null,null,null,null,null,null,null,null,"合　計",{"$f":"SUM(AM75:AM78)","v":0}]
[null,null,null,null,null,null,null,null,null,null,null,null,null,null,null,null,null,null,null,null,null,null,null,null,null,null,null,null,null,null,null,null,null,{"$f":"A80","v":0},"日数(日)","勤務時間(h)"," 早退（h）","合計(h)","金額(円)"]
["残業",null,null,null,null,null,null,null,null,null,null,null,null,null,null,null,null,null,null,null,null,null,null,null,null,null,null,null,null,null,null,null,{"$f":"SUM(B81:AF81)","v":0},"　出勤",{"$f":"COUNTIF(B80:AF80,\"出\")","v":0},{"$f":"AI81*7.8","v":0},{"$f":"AG82","v":0},{"$f":"AJ81-AK81","v":0},{"$f":"ROUNDDOWN(AL81*請求書・納品書!$M$11,)","v":0}]
["遅・早(出)",null,null,null,null,null,null,null,null,null,null,null,null,null,null,null,null,null,null,null,null,null,null,null,null,null,null,null,null,null,null,null,{"$f":"SUM(B82:AF82)","v":0},"　残業",null,null,null,{"$f":"AG81","v":0},{"$f":"ROUNDDOWN(AL82*請求書・納品書!$M$12,)","v":0}]
["遅・早(公)",null,null,null,null,null,null,null,null,null,null,null,null,null,null,null,null,null,null,null,null,null,null,null,null,null,null,null,null,null,null,null,{"$f":"SUM(B83:AF83)","v":0},"　公出",{"$f":"COUNTIF(B80:AF80,\"公\")","v":0},{"$f":"AI83*7.8","v":0},{"$f":"AG83","v":0},{"$f":"AJ83-AK83","v":0},{"$f":"ROUNDDOWN(AL83*請求書・納品書!$M$13,)","v":0}]
["連続",null,null,null,null,null,null,null,null,null,null,null,null,null,null,null,null,null,null,null,null,null,null,null,null,null,null,null,null,null,null,null,{"$f":"SUM(B84:AF84)","v":0},"　連続",null,null,null,{"$f":"AG84","v":0},{"$f":"AL84*請求書・納品書!$M$14","v":0}]
[null,null,null,null,null,null,null,null,null,null,null,null,null,null,null,null,null,null,null,null,null,null,null,null,null,null,null,null,null,null,null,null,null,null,null,null,null,"合　計",{"$f":"SUM(AM81:AM84)","v":0}]
[null,null,null,null,null,null,null,null,null,null,null,null,null,null,null,null,null,null,null,null,null,null,null,null,null,null,null,null,null,null,null,null,null,{"$f":"A86","v":0},"日数(日)","勤務時間(h)"," 早退（h）","合計(h)","金額(円)"]
["残業",null,null,null,null,null,null,null,null,null,null,null,null,null,null,null,null,null,null,null,null,null,null,null,null,null,null,null,null,null,null,null,{"$f":"SUM(B87:AF87)","v":0},"　出勤",{"$f":"COUNTIF(B86:AF86,\"出\")","v":0},{"$f":"AI87*7.8","v":0},{"$f":"AG88","v":0},{"$f":"AJ87-AK87","v":0},{"$f":"ROUNDDOWN(AL87*請求書・納品書!$M$11,)","v":0}]
["遅・早(出)",null,null,null,null,null,null,null,null,null,null,null,null,null,null,null,null,null,null,null,null,null,null,null,null,null,null,null,null,null,null,null,{"$f":"SUM(B88:AF88)","v":0},"　残業",null,null,null,{"$f":"AG87","v":0},{"$f":"ROUNDDOWN(AL88*請求書・納品書!$M$12,)","v":0}]
["遅・早(公)",null,null,null,null,null,null,null,null,null,null,null,null,null,null,null,null,null,null,null,null,null,null,null,null,null,null,null,null,null,null,null,{"$f":"SUM(B89:AF89)","v":0},"　公出",{"$f":"COUNTIF(B86:AF86,\"公\")","v":0},{"$f":"AI89*7.8","v":0},{"$f":"AG89","v":0},{"$f":"AJ89-AK89","v":0},{"$f":"ROUNDDOWN(AL89*請求書・納品書!$M$13,)","v":0}]
["連続",null,null,null,null,null,null,null,null,null,null,null,null,null,null,null,null,null,null,null,null,null,null,null,null,null,null,null,null,null,null,null,{"$f":"SUM(B90:AF90)","v":0},"　連続",null,null,null,{"$f":"AG90","v":0},{"$f":"AL90*請求書・納品書!$M$14","v":0}]
[null,null,null,null,null,null,null,null,null,null,null,null,null,null,null,null,null,null,null,null,null,null,null,null,null,null,null,null,null,null,null,null,null,null,null,null,null,"合　計",{"$f":"SUM(AM87:AM90)","v":0}]
[null,null,null,null,null,null,null,null,null,null,null,null,null,null,null,null,null,null,null,null,null,null,null,null,null,null,null,null,null,null,null,null,null,{"$f":"A92","v":0},"日数(日)","勤務時間(h)"," 早退（h）","合計(h)","金額(円)"]
["残業",null,null,null,null,null,null,null,null,null,null,null,null,null,null,null,null,null,null,null,null,null,null,null,null,null,null,null,null,null,null,null,{"$f":"SUM(B93:AF93)","v":0},"　出勤",{"$f":"COUNTIF(B92:AF92,\"出\")","v":0},{"$f":"AI93*7.8","v":0},{"$f":"AG94","v":0},{"$f":"AJ93-AK93","v":0},{"$f":"ROUNDDOWN(AL93*請求書・納品書!$M$11,)","v":0}]
["遅・早(出)",null,null,null,null,null,null,null,null,null,null,null,null,null,null,null,null,null,null,null,null,null,null,null,null,null,null,null,null,null,null,null,{"$f":"SUM(B94:AF94)","v":0},"　残業",null,null,null,{"$f":"AG93","v":0},{"$f":"ROUNDDOWN(AL94*請求書・納品書!$M$12,)","v":0}]
["遅・早(公)",null,null,null,null,null,null,null,null,null,null,null,null,null,null,null,null,null,null,null,null,null,null,null,null,null,null,null,null,null,null,null,{"$f":"SUM(B95:AF95)","v":0},"　公出",{"$f":"COUNTIF(B92:AF92,\"公\")","v":0},{"$f":"AI95*7.8","v":0},{"$f":"AG95","v":0},{"$f":"AJ95-AK95","v":0},{"$f":"ROUNDDOWN(AL95*請求書・納品書!$M$13,)","v":0}]
["連続",null,null,null,null,null,null,null,null,null,null,null,null,null,null,null,null,null,null,null,null,null,null,null,null,null,null,null,null,null,null,null,{"$f":"SUM(B96:AF96)","v":0},"　連続",null,null,null,{"$f":"AG96","v":0},{"$f":"AL96*請求書・納品書!$M$14","v":0}]
[null,null,null,null,null,null,null,null,null,null,null,null,null,null,null,null,null,null,null,null,null,null,null,null,null,null,null,null,null,null,null,null,null,null,null,null,null,"合　計",{"$f":"SUM(AM93:AM96)","v":0},null,{"$f":"AM79+AM85+AM91+AM97","v":0}]
[null,null,null,null,null,null,null,null,null,null,null,null,null,null,null,null,null,null,null,null,null,null,null,null,null,null,null,null,null,null,null,null,null,{"$f":"A98","v":0},"日数(日)","勤務時間(h)"," 早退（h）","合計(h)","金額(円)"]
["残業",null,null,null,null,null,null,null,null,null,null,null,null,null,null,null,null,null,null,null,null,null,null,null,null,null,null,null,null,null,null,null,{"$f":"SUM(B99:AF99)","v":0},"　出勤",{"$f":"COUNTIF(B98:AF98,\"出\")","v":0},{"$f":"AI99*7.8","v":0},{"$f":"AG100","v":0},{"$f":"AJ99-AK99","v":0},{"$f":"ROUNDDOWN(AL99*請求書・納品書!$M$11,)","v":0}]
["遅・早(出)",null,null,null,null,null,null,null,null,null,null,null,null,null,null,null,null,null,null,null,null,null,null,null,null,null,null,null,null,null,null,null,{"$f":"SUM(B100:AF100)","v":0},"　残業",null,null,null,{"$f":"AG99","v":0},{"$f":"ROUNDDOWN(AL100*請求書・納品書!$M$12,)","v":0}]
["遅・早(公)",null,null,null,null,null,null,null,null,null,null,null,null,null,null,null,null,null,null,null,null,null,null,null,null,null,null,null,null,null,null,null,{"$f":"SUM(B101:AF101)","v":0},"　公出",{"$f":"COUNTIF(B98:AF98,\"公\")","v":0},{"$f":"AI101*7.8","v":0},{"$f":"AG101","v":0},{"$f":"AJ101-AK101","v":0},{"$f":"ROUNDDOWN(AL101*請求書・納品書!$M$13,)","v":0}]
["連続",null,null,null,null,null,null,null,null,null,null,null,null,null,null,null,null,null,null,null,null,null,null,null,null,null,null,null,null,null,null,null,{"$f":"SUM(B102:AF102)","v":0},"　連続",null,null,null,{"$f":"AG102","v":0},{"$f":"AL102*請求書・納品書!$M$14","v":0}]
[null,null,null,null,null,null,null,null,null,null,null,null,null,null,null,null,null,null,null,null,null,null,null,null,null,null,null,null,null,null,null,null,null,null,null,null,null,"合　計",{"$f":"SUM(AM99:AM102)","v":0}]
[null,null,null,null,null,null,null,null,null,null,null,null,null,null,null,null,null,null,null,null,null,null,null,null,null,null,null,null,null,null,null,null,null,{"$f":"A104","v":0},"日数(日)","勤務時間(h)"," 早退（h）","合計(h)","金額(円)"]
["残業",null,null,null,null,null,null,null,null,null,null,null,null,null,null,null,null,null,null,null,null,null,null,null,null,null,null,null,null,null,null,null,{"$f":"SUM(B105:AF105)","v":0},"　出勤",{"$f":"COUNTIF(B104:AF104,\"出\")","v":0},{"$f":"AI105*7.8","v":0},{"$f":"AG106","v":0},{"$f":"AJ105-AK105","v":0},{"$f":"ROUNDDOWN(AL105*請求書・納品書!$M$11,)","v":0}]
["遅・早(出)",null,null,null,null,null,null,null,null,null,null,null,null,null,null,null,null,null,null,null,null,null,null,null,null,null,null,null,null,null,null,null,{"$f":"SUM(B106:AF106)","v":0},"　残業",null,null,null,{"$f":"AG105","v":0},{"$f":"ROUNDDOWN(AL106*請求書・納品書!$M$12,)","v":0}]
["遅・早(公)",null,null,null,null,null,null,null,null,null,null,null,null,null,null,null,null,null,null,null,null,null,null,null,null,null,null,null,null,null,null,null,{"$f":"SUM(B107:AF107)","v":0},"　公出",{"$f":"COUNTIF(B104:AF104,\"公\")","v":0},{"$f":"AI107*7.8","v":0},{"$f":"AG107","v":0},{"$f":"AJ107-AK107","v":0},{"$f":"ROUNDDOWN(AL107*請求書・納品書!$M$13,)","v":0}]
["連続",null,null,null,null,null,null,null,null,null,null,null,null,null,null,null,null,null,null,null,null,null,null,null,null,null,null,null,null,null,null,null,{"$f":"SUM(B108:AF108)","v":0},"　連続",null,null,null,{"$f":"AG108","v":0},{"$f":"AL108*請求書・納品書!$M$14","v":0}]
[null,null,null,null,null,null,null,null,null,null,null,null,null,null,null,null,null,null,null,null,null,null,null,null,null,null,null,null,null,null,null,null,null,null,null,null,null,"合　計",{"$f":"SUM(AM105:AM108)","v":0}]
[null,null,null,null,null,null,null,null,null,null,null,null,null,null,null,null,null,null,null,null,null,null,null,null,null,null,null,null,null,null,null,null,null,{"$f":"A110","v":0},"日数(日)","勤務時間(h)"," 早退（h）","合計(h)","金額(円)"]
["残業",null,null,null,null,null,null,null,null,null,null,null,null,null,null,null,null,null,null,null,null,null,null,null,null,null,null,null,null,null,null,null,{"$f":"SUM(B111:AF111)","v":0},"　出勤",{"$f":"COUNTIF(B110:AF110,\"出\")","v":0},{"$f":"AI111*7.8","v":0},{"$f":"AG112","v":0},{"$f":"AJ111-AK111","v":0},{"$f":"ROUNDDOWN(AL111*請求書・納品書!$M$11,)","v":0}]
["遅・早(出)",null,null,null,null,null,null,null,null,null,null,null,null,null,null,null,null,null,null,null,null,null,null,null,null,null,null,null,null,null,null,null,{"$f":"SUM(B112:AF112)","v":0},"　残業",null,null,null,{"$f":"AG111","v":0},{"$f":"ROUNDDOWN(AL112*請求書・納品書!$M$12,)","v":0}]
["遅・早(公)",null,null,null,null,null,null,null,null,null,null,null,null,null,null,null,null,null,null,null,null,null,null,null,null,null,null,null,null,null,null,null,{"$f":"SUM(B113:AF113)","v":0},"　公出",{"$f":"COUNTIF(B110:AF110,\"公\")","v":0},{"$f":"AI113*7.8","v":0},{"$f":"AG113","v":0},{"$f":"AJ113-AK113","v":0},{"$f":"ROUNDDOWN(AL113*請求書・納品書!$M$13,)","v":0}]
["連続",null,null,null,null,null,null,null,null,null,null,null,null,null,null,null,null,null,null,null,null,null,null,null,null,null,null,null,null,null,null,null,{"$f":"SUM(B114:AF114)","v":0},"　連続",null,null,null,{"$f":"AG114","v":0},{"$f":"AL114*請求書・納品書!$M$14","v":0}]
[null,null,null,null,null,null,null,null,null,null,null,null,null,null,null,null,null,null,null,null,null,null,null,null,null,null,null,null,null,null,null,null,null,null,null,null,null,"合　計",{"$f":"SUM(AM111:AM114)","v":0}]
[null,null,null,null,null,null,null,null,null,null,null,null,null,null,null,null,null,null,null,null,null,null,null,null,null,null,null,null,null,null,null,null,null,{"$f":"A116","v":0},"日数(日)","勤務時間(h)"," 早退（h）","合計(h)","金額(円)"]
["残業",null,null,null,null,null,null,null,null,null,null,null,null,null,null,null,null,null,null,null,null,null,null,null,null,null,null,null,null,null,null,null,{"$f":"SUM(B117:AF117)","v":0},"　出勤",{"$f":"COUNTIF(B116:AF116,\"出\")","v":0},{"$f":"AI117*7.8","v":0},{"$f":"AG118","v":0},{"$f":"AJ117-AK117","v":0},{"$f":"ROUNDDOWN(AL117*請求書・納品書!$M$11,)","v":0}]
["遅・早(出)",null,null,null,null,null,null,null,null,null,null,null,null,null,null,null,null,null,null,null,null,null,null,null,null,null,null,null,null,null,null,null,{"$f":"SUM(B118:AF118)","v":0},"　残業",null,null,null,{"$f":"AG117","v":0},{"$f":"ROUNDDOWN(AL118*請求書・納品書!$M$12,)","v":0}]
["遅・早(公)",null,null,null,null,null,null,null,null,null,null,null,null,null,null,null,null,null,null,null,null,null,null,null,null,null,null,null,null,null,null,null,{"$f":"SUM(B119:AF119)","v":0},"　公出",{"$f":"COUNTIF(B116:AF116,\"公\")","v":0},{"$f":"AI119*7.8","v":0},{"$f":"AG119","v":0},{"$f":"AJ119-AK119","v":0},{"$f":"ROUNDDOWN(AL119*請求書・納品書!$M$13,)","v":0}]
["連続",null,null,null,null,null,null,null,null,null,null,null,null,null,null,null,null,null,null,null,null,null,null,null,null,null,null,null,null,null,null,null,{"$f":"SUM(B120:AF120)","v":0},"　連続",null,null,null,{"$f":"AG120","v":0},{"$f":"AL120*請求書・納品書!$M$14","v":0}]
[null,null,null,null,null,null,null,null,null,null,null,null,null,null,null,null,null,null,null,null,null,null,null,null,null,null,null,null,null,null,null,null,null,null,null,null,null,"合　計",{"$f":"SUM(AM117:AM120)","v":0},null,{"$f":"AM103+AM109+AM115+AM121","v":0}]
[null,null,null,null,null,null,null,null,null,null,null,null,null,null,null,null,null,null,null,null,null,null,null,null,null,null,null,null,null,null,null,null,null,{"$f":"A122","v":0},"日数(日)","勤務時間(h)"," 早退（h）","合計(h)","金額(円)"]
["残業",null,null,null,null,null,null,null,null,null,null,null,null,null,null,null,null,null,null,null,null,null,null,null,null,null,null,null,null,null,null,null,{"$f":"SUM(B123:AF123)","v":0},"　出勤",{"$f":"COUNTIF(B122:AF122,\"出\")","v":0},{"$f":"AI123*7.8","v":0},{"$f":"AG124","v":0},{"$f":"AJ123-AK123","v":0},{"$f":"ROUNDDOWN(AL123*請求書・納品書!$M$11,)","v":0}]
["遅・早(出)",null,null,null,null,null,null,null,null,null,null,null,null,null,null,null,null,null,null,null,null,null,null,null,null,null,null,null,null,null,null,null,{"$f":"SUM(B124:AF124)","v":0},"　残業",null,null,null,{"$f":"AG123","v":0},{"$f":"ROUNDDOWN(AL124*請求書・納品書!$M$12,)","v":0}]
["遅・早(公)",null,null,null,null,null,null,null,null,null,null,null,null,null,null,null,null,null,null,null,null,null,null,null,null,null,null,null,null,null,null,null,{"$f":"SUM(B125:AF125)","v":0},"　公出",{"$f":"COUNTIF(B122:AF122,\"公\")","v":0},{"$f":"AI125*7.8","v":0},{"$f":"AG125","v":0},{"$f":"AJ125-AK125","v":0},{"$f":"ROUNDDOWN(AL125*請求書・納品書!$M$13,)","v":0}]
["連続",null,null,null,null,null,null,null,null,null,null,null,null,null,null,null,null,null,null,null,null,null,null,null,null,null,null,null,null,null,null,null,{"$f":"SUM(B126:AF126)","v":0},"　連続",null,null,null,{"$f":"AG126","v":0},{"$f":"AL126*請求書・納品書!$M$14","v":0}]
[null,null,null,null,null,null,null,null,null,null,null,null,null,null,null,null,null,null,null,null,null,null,null,null,null,null,null,null,null,null,null,null,null,null,null,null,null,"合　計",{"$f":"SUM(AM123:AM126)","v":0}]
[null,null,null,null,null,null,null,null,null,null,null,null,null,null,null,null,null,null,null,null,null,null,null,null,null,null,null,null,null,null,null,null,null,{"$f":"A128","v":0},"日数(日)","勤務時間(h)"," 早退（h）","合計(h)","金額(円)"]
["残業",null,null,null,null,null,null,null,null,null,null,null,null,null,null,null,null,null,null,null,null,null,null,null,null,null,null,null,null,null,null,null,{"$f":"SUM(B129:AF129)","v":0},"　出勤",{"$f":"COUNTIF(B128:AF128,\"出\")","v":0},{"$f":"AI129*7.8","v":0},{"$f":"AG130","v":0},{"$f":"AJ129-AK129","v":0},{"$f":"ROUNDDOWN(AL129*請求書・納品書!$M$11,)","v":0}]
["遅・早(出)",null,null,null,null,null,null,null,null,null,null,null,null,null,null,null,null,null,null,null,null,null,null,null,null,null,null,null,null,null,null,null,{"$f":"SUM(B130:AF130)","v":0},"　残業",null,null,null,{"$f":"AG129","v":0},{"$f":"ROUNDDOWN(AL130*請求書・納品書!$M$12,)","v":0}]
["遅・早(公)",null,null,null,null,null,null,null,null,null,null,null,null,null,null,null,null,null,null,null,null,null,null,null,null,null,null,null,null,null,null,null,{"$f":"SUM(B131:AF131)","v":0},"　公出",{"$f":"COUNTIF(B128:AF128,\"公\")","v":0},{"$f":"AI131*7.8","v":0},{"$f":"AG131","v":0},{"$f":"AJ131-AK131","v":0},{"$f":"ROUNDDOWN(AL131*請求書・納品書!$M$13,)","v":0}]
["連続",null,null,null,null,null,null,null,null,null,null,null,null,null,null,null,null,null,null,null,null,null,null,null,null,null,null,null,null,null,null,null,{"$f":"SUM(B132:AF132)","v":0},"　連続",null,null,null,{"$f":"AG132","v":0},{"$f":"AL132*請求書・納品書!$M$14","v":0}]
[null,null,null,null,null,null,null,null,null,null,null,null,null,null,null,null,null,null,null,null,null,null,null,null,null,null,null,null,null,null,null,null,null,null,null,null,null,"合　計",{"$f":"SUM(AM129:AM132)","v":0}]
[null,null,null,null,null,null,null,null,null,null,null,null,null,null,null,null,null,null,null,null,null,null,null,null,null,null,null,null,null,null,null,null,null,{"$f":"A134","v":0},"日数(日)","勤務時間(h)"," 早退（h）","合計(h)","金額(円)"]
["残業",null,null,null,null,null,null,null,null,null,null,null,null,null,null,null,null,null,null,null,null,null,null,null,null,null,null,null,null,null,null,null,{"$f":"SUM(B135:AF135)","v":0},"　出勤",{"$f":"COUNTIF(B134:AF134,\"出\")","v":0},{"$f":"AI135*7.8","v":0},{"$f":"AG136","v":0},{"$f":"AJ135-AK135","v":0},{"$f":"ROUNDDOWN(AL135*請求書・納品書!$M$11,)","v":0}]
["遅・早(出)",null,null,null,null,null,null,null,null,null,null,null,null,null,null,null,null,null,null,null,null,null,null,null,null,null,null,null,null,null,null,null,{"$f":"SUM(B136:AF136)","v":0},"　残業",null,null,null,{"$f":"AG135","v":0},{"$f":"ROUNDDOWN(AL136*請求書・納品書!$M$12,)","v":0}]
["遅・早(公)",null,null,null,null,null,null,null,null,null,null,null,null,null,null,null,null,null,null,null,null,null,null,null,null,null,null,null,null,null,null,null,{"$f":"SUM(B137:AF137)","v":0},"　公出",{"$f":"COUNTIF(B134:AF134,\"公\")","v":0},{"$f":"AI137*7.8","v":0},{"$f":"AG137","v":0},{"$f":"AJ137-AK137","v":0},{"$f":"ROUNDDOWN(AL137*請求書・納品書!$M$13,)","v":0}]
["連続",null,null,null,null,null,null,null,null,null,null,null,null,null,null,null,null,null,null,null,null,null,null,null,null,null,null,null,null,null,null,null,{"$f":"SUM(B138:AF138)","v":0},"　連続",null,null,null,{"$f":"AG138","v":0},{"$f":"AL138*請求書・納品書!$M$14","v":0}]
[null,null,null,null,null,null,null,null,null,null,null,null,null,null,null,null,null,null,null,null,null,null,null,null,null,null,null,null,null,null,null,null,null,null,null,null,null,"合　計",{"$f":"SUM(AM135:AM138)","v":0}]
[null,null,null,null,null,null,null,null,null,null,null,null,null,null,null,null,null,null,null,null,null,null,null,null,null,null,null,null,null,null,null,null,null,{"$f":"A140","v":0},"日数(日)","勤務時間(h)"," 早退（h）","合計(h)","金額(円)"]
["残業",null,null,null,null,null,null,null,null,null,null,null,null,null,null,null,null,null,null,null,null,null,null,null,null,null,null,null,null,null,null,null,{"$f":"SUM(B141:AF141)","v":0},"　出勤",{"$f":"COUNTIF(B140:AF140,\"出\")","v":0},{"$f":"AI141*7.8","v":0},{"$f":"AG142","v":0},{"$f":"AJ141-AK141","v":0},{"$f":"ROUNDDOWN(AL141*請求書・納品書!$M$11,)","v":0}]
["遅・早(出)",null,null,null,null,null,null,null,null,null,null,null,null,null,null,null,null,null,null,null,null,null,null,null,null,null,null,null,null,null,null,null,{"$f":"SUM(B142:AF142)","v":0},"　残業",null,null,null,{"$f":"AG141","v":0},{"$f":"ROUNDDOWN(AL142*請求書・納品書!$M$12,)","v":0}]
["遅・早(公)",null,null,null,null,null,null,null,null,null,null,null,null,null,null,null,null,null,null,null,null,null,null,null,null,null,null,null,null,null,null,null,{"$f":"SUM(B143:AF143)","v":0},"　公出",{"$f":"COUNTIF(B140:AF140,\"公\")","v":0},{"$f":"AI143*7.8","v":0},{"$f":"AG143","v":0},{"$f":"AJ143-AK143","v":0},{"$f":"ROUNDDOWN(AL143*請求書・納品書!$M$13,)","v":0}]
["連続",null,null,null,null,null,null,null,null,null,null,null,null,null,null,null,null,null,null,null,null,null,null,null,null,null,null,null,null,null,null,null,{"$f":"SUM(B144:AF144)","v":0},"　連続",null,null,null,{"$f":"AG144","v":0},{"$f":"AL144*請求書・納品書!$M$14","v":0}]
[null,null,null,null,null,null,null,null,null,null,null,null,null,null,null,null,null,null,null,null,null,null,null,null,null,null,null,null,null,null,null,null,null,null,null,null,null,"合　計",{"$f":"SUM(AM141:AM144)","v":0},null,{"$f":"AM127+AM133+AM139+AM145","v":0}]
[null,null,null,null,null,null,null,null,null,null,null,null,null,null,null,null,null,null,null,null,null,null,null,null,null,null,null,null,null,null,null,null,null,{"$f":"A146","v":0},"日数(日)","勤務時間(h)"," 早退（h）","合計(h)","金額(円)"]
["残業",null,null,null,null,null,null,null,null,null,null,null,null,null,null,null,null,null,null,null,null,null,null,null,null,null,null,null,null,null,null,null,{"$f":"SUM(B147:AF147)","v":0},"　出勤",{"$f":"COUNTIF(B146:AF146,\"出\")","v":0},{"$f":"AI147*7.8","v":0},{"$f":"AG148","v":0},{"$f":"AJ147-AK147","v":0},{"$f":"ROUNDDOWN(AL147*請求書・納品書!$M$11,)","v":0}]
["遅・早(出)",null,null,null,null,null,null,null,null,null,null,null,null,null,null,null,null,null,null,null,null,null,null,null,null,null,null,null,null,null,null,null,{"$f":"SUM(B148:AF148)","v":0},"　残業",null,null,null,{"$f":"AG147","v":0},{"$f":"ROUNDDOWN(AL148*請求書・納品書!$M$12,)","v":0}]
["遅・早(公)",null,null,null,null,null,null,null,null,null,null,null,null,null,null,null,null,null,null,null,null,null,null,null,null,null,null,null,null,null,null,null,{"$f":"SUM(B149:AF149)","v":0},"　公出",{"$f":"COUNTIF(B146:AF146,\"公\")","v":0},{"$f":"AI149*7.8","v":0},{"$f":"AG149","v":0},{"$f":"AJ149-AK149","v":0},{"$f":"ROUNDDOWN(AL149*請求書・納品書!$M$13,)","v":0}]
["連続",null,null,null,null,null,null,null,null,null,null,null,null,null,null,null,null,null,null,null,null,null,null,null,null,null,null,null,null,null,null,null,{"$f":"SUM(B150:AF150)","v":0},"　連続",null,null,null,{"$f":"AG150","v":0},{"$f":"AL150*請求書・納品書!$M$14","v":0}]
[null,null,null,null,null,null,null,null,null,null,null,null,null,null,null,null,null,null,null,null,null,null,null,null,null,null,null,null,null,null,null,null,null,null,null,null,null,"合　計",{"$f":"SUM(AM147:AM150)","v":0}]
[null,null,null,null,null,null,null,null,null,null,null,null,null,null,null,null,null,null,null,null,null,null,null,null,null,null,null,null,null,null,null,null,null,{"$f":"A152","v":0},"日数(日)","勤務時間(h)"," 早退（h）","合計(h)","金額(円)"]
["残業",null,null,null,null,null,null,null,null,null,null,null,null,null,null,null,null,null,null,null,null,null,null,null,null,null,null,null,null,null,null,null,{"$f":"SUM(B153:AF153)","v":0},"　出勤",{"$f":"COUNTIF(B152:AF152,\"出\")","v":0},{"$f":"AI153*7.8","v":0},{"$f":"AG154","v":0},{"$f":"AJ153-AK153","v":0},{"$f":"ROUNDDOWN(AL153*請求書・納品書!$M$11,)","v":0}]
["遅・早(出)",null,null,null,null,null,null,null,null,null,null,null,null,null,null,null,null,null,null,null,null,null,null,null,null,null,null,null,null,null,null,null,{"$f":"SUM(B154:AF154)","v":0},"　残業",null,null,null,{"$f":"AG153","v":0},{"$f":"ROUNDDOWN(AL154*請求書・納品書!$M$12,)","v":0}]
["遅・早(公)",null,null,null,null,null,null,null,null,null,null,null,null,null,null,null,null,null,null,null,null,null,null,null,null,null,null,null,null,null,null,null,{"$f":"SUM(B155:AF155)","v":0},"　公出",{"$f":"COUNTIF(B152:AF152,\"公\")","v":0},{"$f":"AI155*7.8","v":0},{"$f":"AG155","v":0},{"$f":"AJ155-AK155","v":0},{"$f":"ROUNDDOWN(AL155*請求書・納品書!$M$13,)","v":0}]
["連続",null,null,null,null,null,null,null,null,null,null,null,null,null,null,null,null,null,null,null,null,null,null,null,null,null,null,null,null,null,null,null,{"$f":"SUM(B156:AF156)","v":0},"　連続",null,null,null,{"$f":"AG156","v":0},{"$f":"AL156*請求書・納品書!$M$14","v":0}]
[null,null,null,null,null,null,null,null,null,null,null,null,null,null,null,null,null,null,null,null,null,null,null,null,null,null,null,null,null,null,null,null,null,null,null,null,null,"合　計",{"$f":"SUM(AM153:AM156)","v":0}]
[null,null,null,null,null,null,null,null,null,null,null,null,null,null,null,null,null,null,null,null,null,null,null,null,null,null,null,null,null,null,null,null,null,{"$f":"A158","v":0},"日数(日)","勤務時間(h)"," 早退（h）","合計(h)","金額(円)"]
["残業",null,null,null,null,null,null,null,null,null,null,null,null,null,null,null,null,null,null,null,null,null,null,null,null,null,null,null,null,null,null,null,{"$f":"SUM(B159:AF159)","v":0},"　出勤",{"$f":"COUNTIF(B158:AF158,\"出\")","v":0},{"$f":"AI159*7.8","v":0},{"$f":"AG160","v":0},{"$f":"AJ159-AK159","v":0},{"$f":"ROUNDDOWN(AL159*請求書・納品書!$M$11,)","v":0}]
["遅・早(出)",null,null,null,null,null,null,null,null,null,null,null,null,null,null,null,null,null,null,null,null,null,null,null,null,null,null,null,null,null,null,null,{"$f":"SUM(B160:AF160)","v":0},"　残業",null,null,null,{"$f":"AG159","v":0},{"$f":"ROUNDDOWN(AL160*請求書・納品書!$M$12,)","v":0}]
["遅・早(公)",null,null,null,null,null,null,null,null,null,null,null,null,null,null,null,null,null,null,null,null,null,null,null,null,null,null,null,null,null,null,null,{"$f":"SUM(B161:AF161)","v":0},"　公出",{"$f":"COUNTIF(B158:AF158,\"公\")","v":0},{"$f":"AI161*7.8","v":0},{"$f":"AG161","v":0},{"$f":"AJ161-AK161","v":0},{"$f":"ROUNDDOWN(AL161*請求書・納品書!$M$13,)","v":0}]
["連続",null,null,null,null,null,null,null,null,null,null,null,null,null,null,null,null,null,null,null,null,null,null,null,null,null,null,null,null,null,null,null,{"$f":"SUM(B162:AF162)","v":0},"　連続",null,null,null,{"$f":"AG162","v":0},{"$f":"AL162*請求書・納品書!$M$14","v":0}]
[null,null,null,null,null,null,null,null,null,null,null,null,null,null,null,null,null,null,null,null,null,null,null,null,null,null,null,null,null,null,null,null,null,null,null,null,null,"合　計",{"$f":"SUM(AM159:AM162)","v":0}]
[null,null,null,null,null,null,null,null,null,null,null,null,null,null,null,null,null,null,null,null,null,null,null,null,null,null,null,null,null,null,null,null,null,{"$f":"A164","v":0},"日数(日)","勤務時間(h)"," 早退（h）","合計(h)","金額(円)"]
["残業",null,null,null,null,null,null,null,null,null,null,null,null,null,null,null,null,null,null,null,null,null,null,null,null,null,null,null,null,null,null,null,{"$f":"SUM(B165:AF165)","v":0},"　出勤",{"$f":"COUNTIF(B164:AF164,\"出\")","v":0},{"$f":"AI165*7.8","v":0},{"$f":"AG166","v":0},{"$f":"AJ165-AK165","v":0},{"$f":"ROUNDDOWN(AL165*請求書・納品書!$M$11,)","v":0}]
["遅・早(出)",null,null,null,null,null,null,null,null,null,null,null,null,null,null,null,null,null,null,null,null,null,null,null,null,null,null,null,null,null,null,null,{"$f":"SUM(B166:AF166)","v":0},"　残業",null,null,null,{"$f":"AG165","v":0},{"$f":"ROUNDDOWN(AL166*請求書・納品書!$M$12,)","v":0}]
["遅・早(公)",null,null,null,null,null,null,null,null,null,null,null,null,null,null,null,null,null,null,null,null,null,null,null,null,null,null,null,null,null,null,null,{"$f":"SUM(B167:AF167)","v":0},"　公出",{"$f":"COUNTIF(B164:AF164,\"公\")","v":0},{"$f":"AI167*7.8","v":0},{"$f":"AG167","v":0},{"$f":"AJ167-AK167","v":0},{"$f":"ROUNDDOWN(AL167*請求書・納品書!$M$13,)","v":0}]
["連続",null,null,null,null,null,null,null,null,null,null,null,null,null,null,null,null,null,null,null,null,null,null,null,null,null,null,null,null,null,null,null,{"$f":"SUM(B168:AF168)","v":0},"　連続",null,null,null,{"$f":"AG168","v":0},{"$f":"AL168*請求書・納品書!$M$14","v":0}]
[null,null,null,null,null,null,null,null,null,null,null,null,null,null,null,null,null,null,null,null,null,null,null,null,null,null,null,null,null,null,null,null,null,null,null,null,null,"合　計",{"$f":"SUM(AM165:AM168)","v":0},null,{"$f":"AM151+AM157+AM163+AM169","v":0}]
[null,null,null,null,null,null,null,null,null,null,null,null,null,null,null,null,null,null,null,null,null,null,null,null,null,null,null,null,null,null,null,null,null,{"$f":"A170","v":0},"日数(日)","勤務時間(h)"," 早退（h）","合計(h)","金額(円)"]
["残業",null,null,null,null,null,null,null,null,null,null,null,null,null,null,null,null,null,null,null,null,null,null,null,null,null,null,null,null,null,null,null,{"$f":"SUM(B171:AF171)","v":0},"　出勤",{"$f":"COUNTIF(B170:AF170,\"出\")","v":0},{"$f":"AI171*7.8","v":0},{"$f":"AG172","v":0},{"$f":"AJ171-AK171","v":0},{"$f":"ROUNDDOWN(AL171*請求書・納品書!$M$11,)","v":0}]
["遅・早(出)",null,null,null,null,null,null,null,null,null,null,null,null,null,null,null,null,null,null,null,null,null,null,null,null,null,null,null,null,null,null,null,{"$f":"SUM(B172:AF172)","v":0},"　残業",null,null,null,{"$f":"AG171","v":0},{"$f":"ROUNDDOWN(AL172*請求書・納品書!$M$12,)","v":0}]
["遅・早(公)",null,null,null,null,null,null,null,null,null,null,null,null,null,null,null,null,null,null,null,null,null,null,null,null,null,null,null,null,null,null,null,{"$f":"SUM(B173:AF173)","v":0},"　公出",{"$f":"COUNTIF(B170:AF170,\"公\")","v":0},{"$f":"AI173*7.8","v":0},{"$f":"AG173","v":0},{"$f":"AJ173-AK173","v":0},{"$f":"ROUNDDOWN(AL173*請求書・納品書!$M$13,)","v":0}]
["連続",null,null,null,null,null,null,null,null,null,null,null,null,null,null,null,null,null,null,null,null,null,null,null,null,null,null,null,null,null,null,null,{"$f":"SUM(B174:AF174)","v":0},"　連続",null,null,null,{"$f":"AG174","v":0},{"$f":"AL174*請求書・納品書!$M$14","v":0}]
[null,null,null,null,null,null,null,null,null,null,null,null,null,null,null,null,null,null,null,null,null,null,null,null,null,null,null,null,null,null,null,null,null,null,null,null,null,"合　計",{"$f":"SUM(AM171:AM174)","v":0}]
[null,null,null,null,null,null,null,null,null,null,null,null,null,null,null,null,null,null,null,null,null,null,null,null,null,null,null,null,null,null,null,null,null,{"$f":"A176","v":0},"日数(日)","勤務時間(h)"," 早退（h）","合計(h)","金額(円)"]
["残業",null,null,null,null,null,null,null,null,null,null,null,null,null,null,null,null,null,null,null,null,null,null,null,null,null,null,null,null,null,null,null,{"$f":"SUM(B177:AF177)","v":0},"　出勤",{"$f":"COUNTIF(B176:AF176,\"出\")","v":0},{"$f":"AI177*7.8","v":0},{"$f":"AG178","v":0},{"$f":"AJ177-AK177","v":0},{"$f":"ROUNDDOWN(AL177*請求書・納品書!$M$11,)","v":0}]
["遅・早(出)",null,null,null,null,null,null,null,null,null,null,null,null,null,null,null,null,null,null,null,null,null,null,null,null,null,null,null,null,null,null,null,{"$f":"SUM(B178:AF178)","v":0},"　残業",null,null,null,{"$f":"AG177","v":0},{"$f":"ROUNDDOWN(AL178*請求書・納品書!$M$12,)","v":0}]
["遅・早(公)",null,null,null,null,null,null,null,null,null,null,null,null,null,null,null,null,null,null,null,null,null,null,null,null,null,null,null,null,null,null,null,{"$f":"SUM(B179:AF179)","v":0},"　公出",{"$f":"COUNTIF(B176:AF176,\"公\")","v":0},{"$f":"AI179*7.8","v":0},{"$f":"AG179","v":0},{"$f":"AJ179-AK179","v":0},{"$f":"ROUNDDOWN(AL179*請求書・納品書!$M$13,)","v":0}]
["連続",null,null,null,null,null,null,null,null,null,null,null,null,null,null,null,null,null,null,null,null,null,null,null,null,null,null,null,null,null,null,null,{"$f":"SUM(B180:AF180)","v":0},"　連続",null,null,null,{"$f":"AG180","v":0},{"$f":"AL180*請求書・納品書!$M$14","v":0}]
[null,null,null,null,null,null,null,null,null,null,null,null,null,null,null,null,null,null,null,null,null,null,null,null,null,null,null,null,null,null,null,null,null,null,null,null,null,"合　計",{"$f":"SUM(AM177:AM180)","v":0}]
[null,null,null,null,null,null,null,null,null,null,null,null,null,null,null,null,null,null,null,null,null,null,null,null,null,null,null,null,null,null,null,null,null,{"$f":"A182","v":0},"日数(日)","勤務時間(h)"," 早退（h）","合計(h)","金額(円)"]
["残業",null,null,null,null,null,null,null,null,null,null,null,null,null,null,null,null,null,null,null,null,null,null,null,null,null,null,null,null,null,null,null,{"$f":"SUM(B183:AF183)","v":0},"　出勤",{"$f":"COUNTIF(B182:AF182,\"出\")","v":0},{"$f":"AI183*7.8","v":0},{"$f":"AG184","v":0},{"$f":"AJ183-AK183","v":0},{"$f":"ROUNDDOWN(AL183*請求書・納品書!$M$11,)","v":0}]
["遅・早(出)",null,null,null,null,null,null,null,null,null,null,null,null,null,null,null,null,null,null,null,null,null,null,null,null,null,null,null,null,null,null,null,{"$f":"SUM(B184:AF184)","v":0},"　残業",null,null,null,{"$f":"AG183","v":0},{"$f":"ROUNDDOWN(AL184*請求書・納品書!$M$12,)","v":0}]
["遅・早(公)",null,null,null,null,null,null,null,null,null,null,null,null,null,null,null,null,null,null,null,null,null,null,null,null,null,null,null,null,null,null,null,{"$f":"SUM(B185:AF185)","v":0},"　公出",{"$f":"COUNTIF(B182:AF182,\"公\")","v":0},{"$f":"AI185*7.8","v":0},{"$f":"AG185","v":0},{"$f":"AJ185-AK185","v":0},{"$f":"ROUNDDOWN(AL185*請求書・納品書!$M$13,)","v":0}]
["連続",null,null,null,null,null,null,null,null,null,null,null,null,null,null,null,null,null,null,null,null,null,null,null,null,null,null,null,null,null,null,null,{"$f":"SUM(B186:AF186)","v":0},"　連続",null,null,null,{"$f":"AG186","v":0},{"$f":"AL186*請求書・納品書!$M$14","v":0}]
[null,null,null,null,null,null,null,null,null,null,null,null,null,null,null,null,null,null,null,null,null,null,null,null,null,null,null,null,null,null,null,null,null,null,null,null,null,"合　計",{"$f":"SUM(AM183:AM186)","v":0}]
[null,null,null,null,null,null,null,null,null,null,null,null,null,null,null,null,null,null,null,null,null,null,null,null,null,null,null,null,null,null,null,null,null,{"$f":"A188","v":0},"日数(日)","勤務時間(h)"," 早退（h）","合計(h)","金額(円)"]
["残業",null,null,null,null,null,null,null,null,null,null,null,null,null,null,null,null,null,null,null,null,null,null,null,null,null,null,null,null,null,null,null,{"$f":"SUM(B189:AF189)","v":0},"　出勤",{"$f":"COUNTIF(B188:AF188,\"出\")","v":0},{"$f":"AI189*7.8","v":0},{"$f":"AG190","v":0},{"$f":"AJ189-AK189","v":0},{"$f":"ROUNDDOWN(AL189*請求書・納品書!$M$11,)","v":0}]
["遅・早(出)",null,null,null,null,null,null,null,null,null,null,null,null,null,null,null,null,null,null,null,null,null,null,null,null,null,null,null,null,null,null,null,{"$f":"SUM(B190:AF190)","v":0},"　残業",null,null,null,{"$f":"AG189","v":0},{"$f":"ROUNDDOWN(AL190*請求書・納品書!$M$12,)","v":0}]
["遅・早(公)",null,null,null,null,null,null,null,null,null,null,null,null,null,null,null,null,null,null,null,null,null,null,null,null,null,null,null,null,null,null,null,{"$f":"SUM(B191:AF191)","v":0},"　公出",{"$f":"COUNTIF(B188:AF188,\"公\")","v":0},{"$f":"AI191*7.8","v":0},{"$f":"AG191","v":0},{"$f":"AJ191-AK191","v":0},{"$f":"ROUNDDOWN(AL191*請求書・納品書!$M$13,)","v":0}]
["連続",null,null,null,null,null,null,null,null,null,null,null,null,null,null,null,null,null,null,null,null,null,null,null,null,null,null,null,null,null,null,null,{"$f":"SUM(B192:AF192)","v":0},"　連続",null,null,null,{"$f":"AG192","v":0},{"$f":"AL192*請求書・納品書!$M$14","v":0}]
[null,null,null,null,null,null,null,null,null,null,null,null,null,null,null,null,null,null,null,null,null,null,null,null,null,null,null,null,null,null,null,null,null,null,null,null,null,"合　計",{"$f":"SUM(AM189:AM192)","v":0},null,{"$f":"AM175+AM181+AM187+AM193","v":0}]

{"sheet":"1","index":9,"n_rows":193,"n_cols":42,"rows_kept":193,"cut":false,"hidden":false,"merged":[]}
[{"$f":"'4'!A1+1","v":2011},1,2,3,4,5,6,7,8,9,10,11,12,13,14,15,16,17,18,19,20,21,22,23,24,25,26,27,28,29,30,31,"計",{"$f":"A1&\"年\"&MID(CELL(\"filename\",$A$1),FIND(\"]\",CELL(\"filename\",$A$1))+1,31) &\"月\"","v":"2011年1月"}]
[null,null,null,null,null,null,null,null,null,null,null,null,null,null,null,null,null,null,null,null,null,null,null,null,null,null,null,null,null,null,null,null,null,{"$f":"A2","v":0},"日数(日)","勤務時間(h)"," 早退（h）","合計(h)","金額(円)","出","　合計",{"$f":"SUM(AM:AM)/2","v":0}]
["残業",null,null,null,null,null,null,null,null,null,null,null,null,null,null,null,null,null,null,null,null,null,null,null,null,null,null,null,null,null,null,null,{"$f":"SUM(B3:AF3)","v":0},"　出勤",{"$f":"COUNTIF(B2:AF2,\"出\")","v":0},{"$f":"AI3*7.8","v":0},{"$f":"AG4","v":0},{"$f":"AJ3-AK3","v":0},{"$f":"ROUNDDOWN(AL3*請求書・納品書!$M$11,)","v":0},"公","　人数",{"$f":"COUNTA(AH:AH)-COUNTIF(AH:AH,0)-32*4-1","v":0}]
["遅・早(出)",null,null,null,null,null,null,null,null,null,null,null,null,null,null,null,null,null,null,null,null,null,null,null,null,null,null,null,null,null,null,null,{"$f":"SUM(B4:AF4)","v":0},"　残業",null,null,null,{"$f":"AG3","v":0},{"$f":"ROUNDDOWN(AL4*請求書・納品書!$M$12,)","v":0},"欠","　管理費",{"$f":"(AP3-AP9)*19400","v":0}]
["遅・早(公)",null,null,null,null,null,null,null,null,null,null,null,null,null,null,null,null,null,null,null,null,null,null,null,null,null,null,null,null,null,null,null,{"$f":"SUM(B5:AF5)","v":0},"　公出",{"$f":"COUNTIF(B2:AF2,\"公\")","v":0},{"$f":"AI5*7.8","v":0},{"$f":"AG5","v":0},{"$f":"AJ5-AK5","v":0},{"$f":"ROUNDDOWN(AL5*請求書・納品書!$M$13,)","v":0},"有","　小計",{"$f":"AP2+AP4","v":0}]
["連続",null,null,null,null,null,null,null,null,null,null,null,null,null,null,null,null,null,null,null,null,null,null,null,null,null,null,null,null,null,null,null,{"$f":"SUM(B6:AF6)","v":0},"　連続",null,null,null,{"$f":"AG6","v":0},{"$f":"AL6*請求書・納品書!$M$14","v":0},"半","　消費税",{"$f":"ROUNDDOWN(AP5*0.05,)","v":0}]
[null,null,null,null,null,null,null,null,null,null,null,null,null,null,null,null,null,null,null,null,null,null,null,null,null,null,null,null,null,null,null,null,null,null,null,null,null,"合　計",{"$f":"SUM(AM3:AM6)","v":0},null,"　総合計",{"$f":"AP5+AP6","v":0}]
[null,null,null,null,null,null,null,null,null,null,null,null,null,null,null,null,null,null,null,null,null,null,null,null,null,null,null,null,null,null,null,null,null,{"$f":"A8","v":0},"日数(日)","勤務時間(h)"," 早退（h）","合計(h)","金額(円)"]
["残業",null,null,null,null,null,null,null,null,null,null,null,null,null,null,null,null,null,null,null,null,null,null,null,null,null,null,null,null,null,null,null,{"$f":"SUM(B9:AF9)","v":0},"　出勤",{"$f":"COUNTIF(B8:AF8,\"出\")","v":0},{"$f":"AI9*7.8","v":0},{"$f":"AG10","v":0},{"$f":"AJ9-AK9","v":0},{"$f":"ROUNDDOWN(AL9*請求書・納品書!$M$11,)","v":0},null,"管理費に入れない人数"]
["遅・早(出)",null,null,null,null,null,null,null,null,null,null,null,null,null,null,null,null,null,null,null,null,null,null,null,null,null,null,null,null,null,null,null,{"$f":"SUM(B10:AF10)","v":0},"　残業",null,null,null,{"$f":"AG9","v":0},{"$f":"ROUNDDOWN(AL10*請求書・納品書!$M$12,)","v":0}]
["遅・早(公)",null,null,null,null,null,null,null,null,null,null,null,null,null,null,null,null,null,null,null,null,null,null,null,null,null,null,null,null,null,null,null,{"$f":"SUM(B11:AF11)","v":0},"　公出",{"$f":"COUNTIF(B8:AF8,\"公\")","v":0},{"$f":"AI11*7.8","v":0},{"$f":"AG11","v":0},{"$f":"AJ11-AK11","v":0},{"$f":"ROUNDDOWN(AL11*請求書・納品書!$M$13,)","v":0}]
["連続",null,null,null,null,null,null,null,null,null,null,null,null,null,null,null,null,null,null,null,null,null,null,null,null,null,null,null,null,null,null,null,{"$f":"SUM(B12:AF12)","v":0},"　連続",null,null,null,{"$f":"AG12","v":0},{"$f":"AL12*請求書・納品書!$M$14","v":0}]
[null,null,null,null,null,null,null,null,null,null,null,null,null,null,null,null,null,null,null,null,null,null,null,null,null,null,null,null,null,null,null,null,null,null,null,null,null,"合　計",{"$f":"SUM(AM9:AM12)","v":0}]
[null,null,null,null,null,null,null,null,null,null,null,null,null,null,null,null,null,null,null,null,null,null,null,null,null,null,null,null,null,null,null,null,null,{"$f":"A14","v":0},"日数(日)","勤務時間(h)"," 早退（h）","合計(h)","金額(円)"]
["残業",null,null,null,null,null,null,null,null,null,null,null,null,null,null,null,null,null,null,null,null,null,null,null,null,null,null,null,null,null,null,null,{"$f":"SUM(B15:AF15)","v":0},"　出勤",{"$f":"COUNTIF(B14:AF14,\"出\")","v":0},{"$f":"AI15*7.8","v":0},{"$f":"AG16","v":0},{"$f":"AJ15-AK15","v":0},{"$f":"ROUNDDOWN(AL15*請求書・納品書!$M$11,)","v":0}]
["遅・早(出)",null,null,null,null,null,null,null,null,null,null,null,null,null,null,null,null,null,null,null,null,null,null,null,null,null,null,null,null,null,null,null,{"$f":"SUM(B16:AF16)","v":0},"　残業",null,null,null,{"$f":"AG15","v":0},{"$f":"ROUNDDOWN(AL16*請求書・納品書!$M$12,)","v":0}]
["遅・早(公)",null,null,null,null,null,null,null,null,null,null,null,null,null,null,null,null,null,null,null,null,null,null,null,null,null,null,null,null,null,null,null,{"$f":"SUM(B17:AF17)","v":0},"　公出",{"$f":"COUNTIF(B14:AF14,\"公\")","v":0},{"$f":"AI17*7.8","v":0},{"$f":"AG17","v":0},{"$f":"AJ17-AK17","v":0},{"$f":"ROUNDDOWN(AL17*請求書・納品書!$M$13,)","v":0}]
["連続",null,null,null,null,null,null,null,null,null,null,null,null,null,null,null,null,null,null,null,null,null,null,null,null,null,null,null,null,null,null,null,{"$f":"SUM(B18:AF18)","v":0},"　連続",null,null,null,{"$f":"AG18","v":0},{"$f":"AL18*請求書・納品書!$M$14","v":0}]
[null,null,null,null,null,null,null,null,null,null,null,null,null,null,null,null,null,null,null,null,null,null,null,null,null,null,null,null,null,null,null,null,null,null,null,null,null,"合　計",{"$f":"SUM(AM15:AM18)","v":0}]
[null,null,null,null,null,null,null,null,null,null,null,null,null,null,null,null,null,null,null,null,null,null,null,null,null,null,null,null,null,null,null,null,null,{"$f":"A20","v":0},"日数(日)","勤務時間(h)"," 早退（h）","合計(h)","金額(円)"]
["残業",null,null,null,null,null,null,null,null,null,null,null,null,null,null,null,null,null,null,null,null,null,null,null,null,null,null,null,null,null,null,null,{"$f":"SUM(B21:AF21)","v":0},"　出勤",{"$f":"COUNTIF(B20:AF20,\"出\")","v":0},{"$f":"AI21*7.8","v":0},{"$f":"AG22","v":0},{"$f":"AJ21-AK21","v":0},{"$f":"ROUNDDOWN(AL21*請求書・納品書!$M$11,)","v":0}]
["遅・早(出)",null,null,null,null,null,null,null,null,null,null,null,null,null,null,null,null,null,null,null,null,null,null,null,null,null,null,null,null,null,null,null,{"$f":"SUM(B22:AF22)","v":0},"　残業",null,null,null,{"$f":"AG21","v":0},{"$f":"ROUNDDOWN(AL22*請求書・納品書!$M$12,)","v":0}]
["遅・早(公)",null,null,null,null,null,null,null,null,null,null,null,null,null,null,null,null,null,null,null,null,null,null,null,null,null,null,null,null,null,null,null,{"$f":"SUM(B23:AF23)","v":0},"　公出",{"$f":"COUNTIF(B20:AF20,\"公\")","v":0},{"$f":"AI23*7.8","v":0},{"$f":"AG23","v":0},{"$f":"AJ23-AK23","v":0},{"$f":"ROUNDDOWN(AL23*請求書・納品書!$M$13,)","v":0}]
["連続",null,null,null,null,null,null,null,null,null,null,null,null,null,null,null,null,null,null,null,null,null,null,null,null,null,null,null,null,null,null,null,{"$f":"SUM(B24:AF24)","v":0},"　連続",null,null,null,{"$f":"AG24","v":0},{"$f":"AL24*請求書・納品書!$M$14","v":0}]
[null,null,null,null,null,null,null,null,null,null,null,null,null,null,null,null,null,null,null,null,null,null,null,null,null,null,null,null,null,null,null,null,null,null,null,null,null,"合　計",{"$f":"SUM(AM21:AM24)","v":0},null,{"$f":"AM7+AM13+AM19+AM25","v":0}]
[null,null,null,null,null,null,null,null,null,null,null,null,null,null,null,null,null,null,null,null,null,null,null,null,null,null,null,null,null,null,null,null,null,{"$f":"A26","v":0},"日数(日)","勤務時間(h)"," 早退（h）","合計(h)","金額(円)"]
["残業",null,null,null,null,null,null,null,null,null,null,null,null,null,null,null,null,null,null,null,null,null,null,null,null,null,null,null,null,null,null,null,{"$f":"SUM(B27:AF27)","v":0},"　出勤",{"$f":"COUNTIF(B26:AF26,\"出\")","v":0},{"$f":"AI27*7.8","v":0},{"$f":"AG28","v":0},{"$f":"AJ27-AK27","v":0},{"$f":"ROUNDDOWN(AL27*請求書・納品書!$M$11,)","v":0}]
["遅・早(出)",null,null,null,null,null,null,null,null,null,null,null,null,null,null,null,null,null,null,null,null,null,null,null,null,null,null,null,null,null,null,null,{"$f":"SUM(B28:AF28)","v":0},"　残業",null,null,null,{"$f":"AG27","v":0},{"$f":"ROUNDDOWN(AL28*請求書・納品書!$M$12,)","v":0}]
["遅・早(公)",null,null,null,null,null,null,null,null,null,null,null,null,null,null,null,null,null,null,null,null,null,null,null,null,null,null,null,null,null,null,null,{"$f":"SUM(B29:AF29)","v":0},"　公出",{"$f":"COUNTIF(B26:AF26,\"公\")","v":0},{"$f":"AI29*7.8","v":0},{"$f":"AG29","v":0},{"$f":"AJ29-AK29","v":0},{"$f":"ROUNDDOWN(AL29*請求書・納品書!$M$13,)","v":0}]
["連続",null,null,null,null,null,null,null,null,null,null,null,null,null,null,null,null,null,null,null,null,null,null,null,null,null,null,null,null,null,null,null,{"$f":"SUM(B30:AF30)","v":0},"　連続",null,null,null,{"$f":"AG30","v":0},{"$f":"AL30*請求書・納品書!$M$14","v":0}]
[null,null,null,null,null,null,null,null,null,null,null,null,null,null,null,null,null,null,null,null,null,null,null,null,null,null,null,null,null,null,null,null,null,null,null,null,null,"合　計",{"$f":"SUM(AM27:AM30)","v":0}]
[null,null,null,null,null,null,null,null,null,null,null,null,null,null,null,null,null,null,null,null,null,null,null,null,null,null,null,null,null,null,null,null,null,{"$f":"A32","v":0},"日数(日)","勤務時間(h)"," 早退（h）","合計(h)","金額(円)"]
["残業",null,null,null,null,null,null,null,null,null,null,null,null,null,null,null,null,null,null,null,null,null,null,null,null,null,null,null,null,null,null,null,{"$f":"SUM(B33:AF33)","v":0},"　出勤",{"$f":"COUNTIF(B32:AF32,\"出\")","v":0},{"$f":"AI33*7.8","v":0},{"$f":"AG34","v":0},{"$f":"AJ33-AK33","v":0},{"$f":"ROUNDDOWN(AL33*請求書・納品書!$M$11,)","v":0}]
["遅・早(出)",null,null,null,null,null,null,null,null,null,null,null,null,null,null,null,null,null,null,null,null,null,null,null,null,null,null,null,null,null,null,null,{"$f":"SUM(B34:AF34)","v":0},"　残業",null,null,null,{"$f":"AG33","v":0},{"$f":"ROUNDDOWN(AL34*請求書・納品書!$M$12,)","v":0}]
["遅・早(公)",null,null,null,null,null,null,null,null,null,null,null,null,null,null,null,null,null,null,null,null,null,null,null,null,null,null,null,null,null,null,null,{"$f":"SUM(B35:AF35)","v":0},"　公出",{"$f":"COUNTIF(B32:AF32,\"公\")","v":0},{"$f":"AI35*7.8","v":0},{"$f":"AG35","v":0},{"$f":"AJ35-AK35","v":0},{"$f":"ROUNDDOWN(AL35*請求書・納品書!$M$13,)","v":0}]
["連続",null,null,null,null,null,null,null,null,null,null,null,null,null,null,null,null,null,null,null,null,null,null,null,null,null,null,null,null,null,null,null,{"$f":"SUM(B36:AF36)","v":0},"　連続",null,null,null,{"$f":"AG36","v":0},{"$f":"AL36*請求書・納品書!$M$14","v":0}]
[null,null,null,null,null,null,null,null,null,null,null,null,null,null,null,null,null,null,null,null,null,null,null,null,null,null,null,null,null,null,null,null,null,null,null,null,null,"合　計",{"$f":"SUM(AM33:AM36)","v":0}]
[null,null,null,null,null,null,null,null,null,null,null,null,null,null,null,null,null,null,null,null,null,null,null,null,null,null,null,null,null,null,null,null,null,{"$f":"A38","v":0},"日数(日)","勤務時間(h)"," 早退（h）","合計(h)","金額(円)"]
["残業",null,null,null,null,null,null,null,null,null,null,null,null,null,null,null,null,null,null,null,null,null,null,null,null,null,null,null,null,null,null,null,{"$f":"SUM(B39:AF39)","v":0},"　出勤",{"$f":"COUNTIF(B38:AF38,\"出\")","v":0},{"$f":"AI39*7.8","v":0},{"$f":"AG40","v":0},{"$f":"AJ39-AK39","v":0},{"$f":"ROUNDDOWN(AL39*請求書・納品書!$M$11,)","v":0}]
["遅・早(出)",null,null,null,null,null,null,null,null,null,null,null,null,null,null,null,null,null,null,null,null,null,null,null,null,null,null,null,null,null,null,null,{"$f":"SUM(B40:AF40)","v":0},"　残業",null,null,null,{"$f":"AG39","v":0},{"$f":"ROUNDDOWN(AL40*請求書・納品書!$M$12,)","v":0}]
["遅・早(公)",null,null,null,null,null,null,null,null,null,null,null,null,null,null,null,null,null,null,null,null,null,null,null,null,null,null,null,null,null,null,null,{"$f":"SUM(B41:AF41)","v":0},"　公出",{"$f":"COUNTIF(B38:AF38,\"公\")","v":0},{"$f":"AI41*7.8","v":0},{"$f":"AG41","v":0},{"$f":"AJ41-AK41","v":0},{"$f":"ROUNDDOWN(AL41*請求書・納品書!$M$13,)","v":0}]
["連続",null,null,null,null,null,null,null,null,null,null,null,null,null,null,null,null,null,null,null,null,null,null,null,null,null,null,null,null,null,null,null,{"$f":"SUM(B42:AF42)","v":0},"　連続",null,null,null,{"$f":"AG42","v":0},{"$f":"AL42*請求書・納品書!$M$14","v":0}]
[null,null,null,null,null,null,null,null,null,null,null,null,null,null,null,null,null,null,null,null,null,null,null,null,null,null,null,null,null,null,null,null,null,null,null,null,null,"合　計",{"$f":"SUM(AM39:AM42)","v":0}]
[null,null,null,null,null,null,null,null,null,null,null,null,null,null,null,null,null,null,null,null,null,null,null,null,null,null,null,null,null,null,null,null,null,{"$f":"A44","v":0},"日数(日)","勤務時間(h)"," 早退（h）","合計(h)","金額(円)"]
["残業",null,null,null,null,null,null,null,null,null,null,null,null,null,null,null,null,null,null,null,null,null,null,null,null,null,null,null,null,null,null,null,{"$f":"SUM(B45:AF45)","v":0},"　出勤",{"$f":"COUNTIF(B44:AF44,\"出\")","v":0},{"$f":"AI45*7.8","v":0},{"$f":"AG46","v":0},{"$f":"AJ45-AK45","v":0},{"$f":"ROUNDDOWN(AL45*請求書・納品書!$M$11,)","v":0}]
["遅・早(出)",null,null,null,null,null,null,null,null,null,null,null,null,null,null,null,null,null,null,null,null,null,null,null,null,null,null,null,null,null,null,null,{"$f":"SUM(B46:AF46)","v":0},"　残業",null,null,null,{"$f":"AG45","v":0},{"$f":"ROUNDDOWN(AL46*請求書・納品書!$M$12,)","v":0}]
["遅・早(公)",null,null,null,null,null,null,null,null,null,null,null,null,null,null,null,null,null,null,null,null,null,null,null,null,null,null,null,null,null,null,null,{"$f":"SUM(B47:AF47)","v":0},"　公出",{"$f":"COUNTIF(B44:AF44,\"公\")","v":0},{"$f":"AI47*7.8","v":0},{"$f":"AG47","v":0},{"$f":"AJ47-AK47","v":0},{"$f":"ROUNDDOWN(AL47*請求書・納品書!$M$13,)","v":0}]
["連続",null,null,null,null,null,null,null,null,null,null,null,null,null,null,null,null,null,null,null,null,null,null,null,null,null,null,null,null,null,null,null,{"$f":"SUM(B48:AF48)","v":0},"　連続",null,null,null,{"$f":"AG48","v":0},{"$f":"AL48*請求書・納品書!$M$14","v":0}]
[null,null,null,null,null,null,null,null,null,null,null,null,null,null,null,null,null,null,null,null,null,null,null,null,null,null,null,null,null,null,null,null,null,null,null,null,null,"合　計",{"$f":"SUM(AM45:AM48)","v":0},null,{"$f":"AM31+AM37+AM43+AM49","v":0}]
[null,null,null,null,null,null,null,null,null,null,null,null,null,null,null,null,null,null,null,null,null,null,null,null,null,null,null,null,null,null,null,null,null,{"$f":"A50","v":0},"日数(日)","勤務時間(h)"," 早退（h）","合計(h)","金額(円)"]
["残業",null,null,null,null,null,null,null,null,null,null,null,null,null,null,null,null,null,null,null,null,null,null,null,null,null,null,null,null,null,null,null,{"$f":"SUM(B51:AF51)","v":0},"　出勤",{"$f":"COUNTIF(B50:AF50,\"出\")","v":0},{"$f":"AI51*7.8","v":0},{"$f":"AG52","v":0},{"$f":"AJ51-AK51","v":0},{"$f":"ROUNDDOWN(AL51*請求書・納品書!$M$11,)","v":0}]
["遅・早(出)",null,null,null,null,null,null,null,null,null,null,null,null,null,null,null,null,null,null,null,null,null,null,null,null,null,null,null,null,null,null,null,{"$f":"SUM(B52:AF52)","v":0},"　残業",null,null,null,{"$f":"AG51","v":0},{"$f":"ROUNDDOWN(AL52*請求書・納品書!$M$12,)","v":0}]
["遅・早(公)",null,null,null,null,null,null,null,null,null,null,null,null,null,null,null,null,null,null,null,null,null,null,null,null,null,null,null,null,null,null,null,{"$f":"SUM(B53:AF53)","v":0},"　公出",{"$f":"COUNTIF(B50:AF50,\"公\")","v":0},{"$f":"AI53*7.8","v":0},{"$f":"AG53","v":0},{"$f":"AJ53-AK53","v":0},{"$f":"ROUNDDOWN(AL53*請求書・納品書!$M$13,)","v":0}]
["連続",null,null,null,null,null,null,null,null,null,null,null,null,null,null,null,null,null,null,null,null,null,null,null,null,null,null,null,null,null,null,null,{"$f":"SUM(B54:AF54)","v":0},"　連続",null,null,null,{"$f":"AG54","v":0},{"$f":"AL54*請求書・納品書!$M$14","v":0}]
[null,null,null,null,null,null,null,null,null,null,null,null,null,null,null,null,null,null,null,null,null,null,null,null,null,null,null,null,null,null,null,null,null,null,null,null,null,"合　計",{"$f":"SUM(AM51:AM54)","v":0}]
[null,null,null,null,null,null,null,null,null,null,null,null,null,null,null,null,null,null,null,null,null,null,null,null,null,null,null,null,null,null,null,null,null,{"$f":"A56","v":0},"日数(日)","勤務時間(h)"," 早退（h）","合計(h)","金額(円)"]
["残業",null,null,null,null,null,null,null,null,null,null,null,null,null,null,null,null,null,null,null,null,null,null,null,null,null,null,null,null,null,null,null,{"$f":"SUM(B57:AF57)","v":0},"　出勤",{"$f":"COUNTIF(B56:AF56,\"出\")","v":0},{"$f":"AI57*7.8","v":0},{"$f":"AG58","v":0},{"$f":"AJ57-AK57","v":0},{"$f":"ROUNDDOWN(AL57*請求書・納品書!$M$11,)","v":0}]
["遅・早(出)",null,null,null,null,null,null,null,null,null,null,null,null,null,null,null,null,null,null,null,null,null,null,null,null,null,null,null,null,null,null,null,{"$f":"SUM(B58:AF58)","v":0},"　残業",null,null,null,{"$f":"AG57","v":0},{"$f":"ROUNDDOWN(AL58*請求書・納品書!$M$12,)","v":0}]
["遅・早(公)",null,null,null,null,null,null,null,null,null,null,null,null,null,null,null,null,null,null,null,null,null,null,null,null,null,null,null,null,null,null,null,{"$f":"SUM(B59:AF59)","v":0},"　公出",{"$f":"COUNTIF(B56:AF56,\"公\")","v":0},{"$f":"AI59*7.8","v":0},{"$f":"AG59","v":0},{"$f":"AJ59-AK59","v":0},{"$f":"ROUNDDOWN(AL59*請求書・納品書!$M$13,)","v":0}]
["連続",null,null,null,null,null,null,null,null,null,null,null,null,null,null,null,null,null,null,null,null,null,null,null,null,null,null,null,null,null,null,null,{"$f":"SUM(B60:AF60)","v":0},"　連続",null,null,null,{"$f":"AG60","v":0},{"$f":"AL60*請求書・納品書!$M$14","v":0}]
[null,null,null,null,null,null,null,null,null,null,null,null,null,null,null,null,null,null,null,null,null,null,null,null,null,null,null,null,null,null,null,null,null,null,null,null,null,"合　計",{"$f":"SUM(AM57:AM60)","v":0}]
[null,null,null,null,null,null,null,null,null,null,null,null,null,null,null,null,null,null,null,null,null,null,null,null,null,null,null,null,null,null,null,null,null,{"$f":"A62","v":0},"日数(日)","勤務時間(h)"," 早退（h）","合計(h)","金額(円)"]
["残業",null,null,null,null,null,null,null,null,null,null,null,null,null,null,null,null,null,null,null,null,null,null,null,null,null,null,null,null,null,null,null,{"$f":"SUM(B63:AF63)","v":0},"　出勤",{"$f":"COUNTIF(B62:AF62,\"出\")","v":0},{"$f":"AI63*7.8","v":0},{"$f":"AG64","v":0},{"$f":"AJ63-AK63","v":0},{"$f":"ROUNDDOWN(AL63*請求書・納品書!$M$11,)","v":0}]
["遅・早(出)",null,null,null,null,null,null,null,null,null,null,null,null,null,null,null,null,null,null,null,null,null,null,null,null,null,null,null,null,null,null,null,{"$f":"SUM(B64:AF64)","v":0},"　残業",null,null,null,{"$f":"AG63","v":0},{"$f":"ROUNDDOWN(AL64*請求書・納品書!$M$12,)","v":0}]
["遅・早(公)",null,null,null,null,null,null,null,null,null,null,null,null,null,null,null,null,null,null,null,null,null,null,null,null,null,null,null,null,null,null,null,{"$f":"SUM(B65:AF65)","v":0},"　公出",{"$f":"COUNTIF(B62:AF62,\"公\")","v":0},{"$f":"AI65*7.8","v":0},{"$f":"AG65","v":0},{"$f":"AJ65-AK65","v":0},{"$f":"ROUNDDOWN(AL65*請求書・納品書!$M$13,)","v":0}]
["連続",null,null,null,null,null,null,null,null,null,null,null,null,null,null,null,null,null,null,null,null,null,null,null,null,null,null,null,null,null,null,null,{"$f":"SUM(B66:AF66)","v":0},"　連続",null,null,null,{"$f":"AG66","v":0},{"$f":"AL66*請求書・納品書!$M$14","v":0}]
[null,null,null,null,null,null,null,null,null,null,null,null,null,null,null,null,null,null,null,null,null,null,null,null,null,null,null,null,null,null,null,null,null,null,null,null,null,"合　計",{"$f":"SUM(AM63:AM66)","v":0}]
[null,null,null,null,null,null,null,null,null,null,null,null,null,null,null,null,null,null,null,null,null,null,null,null,null,null,null,null,null,null,null,null,null,{"$f":"A68","v":0},"日数(日)","勤務時間(h)"," 早退（h）","合計(h)","金額(円)"]
["残業",null,null,null,null,null,null,null,null,null,null,null,null,null,null,null,null,null,null,null,null,null,null,null,null,null,null,null,null,null,null,null,{"$f":"SUM(B69:AF69)","v":0},"　出勤",{"$f":"COUNTIF(B68:AF68,\"出\")","v":0},{"$f":"AI69*7.8","v":0},{"$f":"AG70","v":0},{"$f":"AJ69-AK69","v":0},{"$f":"ROUNDDOWN(AL69*請求書・納品書!$M$11,)","v":0}]
["遅・早(出)",null,null,null,null,null,null,null,null,null,null,null,null,null,null,null,null,null,null,null,null,null,null,null,null,null,null,null,null,null,null,null,{"$f":"SUM(B70:AF70)","v":0},"　残業",null,null,null,{"$f":"AG69","v":0},{"$f":"ROUNDDOWN(AL70*請求書・納品書!$M$12,)","v":0}]
["遅・早(公)",null,null,null,null,null,null,null,null,null,null,null,null,null,null,null,null,null,null,null,null,null,null,null,null,null,null,null,null,null,null,null,{"$f":"SUM(B71:AF71)","v":0},"　公出",{"$f":"COUNTIF(B68:AF68,\"公\")","v":0},{"$f":"AI71*7.8","v":0},{"$f":"AG71","v":0},{"$f":"AJ71-AK71","v":0},{"$f":"ROUNDDOWN(AL71*請求書・納品書!$M$13,)","v":0}]
["連続",null,null,null,null,null,null,null,null,null,null,null,null,null,null,null,null,null,null,null,null,null,null,null,null,null,null,null,null,null,null,null,{"$f":"SUM(B72:AF72)","v":0},"　連続",null,null,null,{"$f":"AG72","v":0},{"$f":"AL72*請求書・納品書!$M$14","v":0}]
[null,null,null,null,null,null,null,null,null,null,null,null,null,null,null,null,null,null,null,null,null,null,null,null,null,null,null,null,null,null,null,null,null,null,null,null,null,"合　計",{"$f":"SUM(AM69:AM72)","v":0},null,{"$f":"AM55+AM61+AM67+AM73","v":0}]
[null,null,null,null,null,null,null,null,null,null,null,null,null,null,null,null,null,null,null,null,null,null,null,null,null,null,null,null,null,null,null,null,null,{"$f":"A74","v":0},"日数(日)","勤務時間(h)"," 早退（h）","合計(h)","金額(円)"]
["残業",null,null,null,null,null,null,null,null,null,null,null,null,null,null,null,null,null,null,null,null,null,null,null,null,null,null,null,null,null,null,null,{"$f":"SUM(B75:AF75)","v":0},"　出勤",{"$f":"COUNTIF(B74:AF74,\"出\")","v":0},{"$f":"AI75*7.8","v":0},{"$f":"AG76","v":0},{"$f":"AJ75-AK75","v":0},{"$f":"ROUNDDOWN(AL75*請求書・納品書!$M$11,)","v":0}]
["遅・早(出)",null,null,null,null,null,null,null,null,null,null,null,null,null,null,null,null,null,null,null,null,null,null,null,null,null,null,null,null,null,null,null,{"$f":"SUM(B76:AF76)","v":0},"　残業",null,null,null,{"$f":"AG75","v":0},{"$f":"ROUNDDOWN(AL76*請求書・納品書!$M$12,)","v":0}]
["遅・早(公)",null,null,null,null,null,null,null,null,null,null,null,null,null,null,null,null,null,null,null,null,null,null,null,null,null,null,null,null,null,null,null,{"$f":"SUM(B77:AF77)","v":0},"　公出",{"$f":"COUNTIF(B74:AF74,\"公\")","v":0},{"$f":"AI77*7.8","v":0},{"$f":"AG77","v":0},{"$f":"AJ77-AK77","v":0},{"$f":"ROUNDDOWN(AL77*請求書・納品書!$M$13,)","v":0}]
["連続",null,null,null,null,null,null,null,null,null,null,null,null,null,null,null,null,null,null,null,null,null,null,null,null,null,null,null,null,null,null,null,{"$f":"SUM(B78:AF78)","v":0},"　連続",null,null,null,{"$f":"AG78","v":0},{"$f":"AL78*請求書・納品書!$M$14","v":0}]
[null,null,null,null,null,null,null,null,null,null,null,null,null,null,null,null,null,null,null,null,null,null,null,null,null,null,null,null,null,null,null,null,null,null,null,null,null,"合　計",{"$f":"SUM(AM75:AM78)","v":0}]
[null,null,null,null,null,null,null,null,null,null,null,null,null,null,null,null,null,null,null,null,null,null,null,null,null,null,null,null,null,null,null,null,null,{"$f":"A80","v":0},"日数(日)","勤務時間(h)"," 早退（h）","合計(h)","金額(円)"]
["残業",null,null,null,null,null,null,null,null,null,null,null,null,null,null,null,null,null,null,null,null,null,null,null,null,null,null,null,null,null,null,null,{"$f":"SUM(B81:AF81)","v":0},"　出勤",{"$f":"COUNTIF(B80:AF80,\"出\")","v":0},{"$f":"AI81*7.8","v":0},{"$f":"AG82","v":0},{"$f":"AJ81-AK81","v":0},{"$f":"ROUNDDOWN(AL81*請求書・納品書!$M$11,)","v":0}]
["遅・早(出)",null,null,null,null,null,null,null,null,null,null,null,null,null,null,null,null,null,null,null,null,null,null,null,null,null,null,null,null,null,null,null,{"$f":"SUM(B82:AF82)","v":0},"　残業",null,null,null,{"$f":"AG81","v":0},{"$f":"ROUNDDOWN(AL82*請求書・納品書!$M$12,)","v":0}]
["遅・早(公)",null,null,null,null,null,null,null,null,null,null,null,null,null,null,null,null,null,null,null,null,null,null,null,null,null,null,null,null,null,null,null,{"$f":"SUM(B83:AF83)","v":0},"　公出",{"$f":"COUNTIF(B80:AF80,\"公\")","v":0},{"$f":"AI83*7.8","v":0},{"$f":"AG83","v":0},{"$f":"AJ83-AK83","v":0},{"$f":"ROUNDDOWN(AL83*請求書・納品書!$M$13,)","v":0}]
["連続",null,null,null,null,null,null,null,null,null,null,null,null,null,null,null,null,null,null,null,null,null,null,null,null,null,null,null,null,null,null,null,{"$f":"SUM(B84:AF84)","v":0},"　連続",null,null,null,{"$f":"AG84","v":0},{"$f":"AL84*請求書・納品書!$M$14","v":0}]
[null,null,null,null,null,null,null,null,null,null,null,null,null,null,null,null,null,null,null,null,null,null,null,null,null,null,null,null,null,null,null,null,null,null,null,null,null,"合　計",{"$f":"SUM(AM81:AM84)","v":0}]
[null,null,null,null,null,null,null,null,null,null,null,null,null,null,null,null,null,null,null,null,null,null,null,null,null,null,null,null,null,null,null,null,null,{"$f":"A86","v":0},"日数(日)","勤務時間(h)"," 早退（h）","合計(h)","金額(円)"]
["残業",null,null,null,null,null,null,null,null,null,null,null,null,null,null,null,null,null,null,null,null,null,null,null,null,null,null,null,null,null,null,null,{"$f":"SUM(B87:AF87)","v":0},"　出勤",{"$f":"COUNTIF(B86:AF86,\"出\")","v":0},{"$f":"AI87*7.8","v":0},{"$f":"AG88","v":0},{"$f":"AJ87-AK87","v":0},{"$f":"ROUNDDOWN(AL87*請求書・納品書!$M$11,)","v":0}]
["遅・早(出)",null,null,null,null,null,null,null,null,null,null,null,null,null,null,null,null,null,null,null,null,null,null,null,null,null,null,null,null,null,null,null,{"$f":"SUM(B88:AF88)","v":0},"　残業",null,null,null,{"$f":"AG87","v":0},{"$f":"ROUNDDOWN(AL88*請求書・納品書!$M$12,)","v":0}]
["遅・早(公)",null,null,null,null,null,null,null,null,null,null,null,null,null,null,null,null,null,null,null,null,null,null,null,null,null,null,null,null,null,null,null,{"$f":"SUM(B89:AF89)","v":0},"　公出",{"$f":"COUNTIF(B86:AF86,\"公\")","v":0},{"$f":"AI89*7.8","v":0},{"$f":"AG89","v":0},{"$f":"AJ89-AK89","v":0},{"$f":"ROUNDDOWN(AL89*請求書・納品書!$M$13,)","v":0}]
["連続",null,null,null,null,null,null,null,null,null,null,null,null,null,null,null,null,null,null,null,null,null,null,null,null,null,null,null,null,null,null,null,{"$f":"SUM(B90:AF90)","v":0},"　連続",null,null,null,{"$f":"AG90","v":0},{"$f":"AL90*請求書・納品書!$M$14","v":0}]
[null,null,null,null,null,null,null,null,null,null,null,null,null,null,null,null,null,null,null,null,null,null,null,null,null,null,null,null,null,null,null,null,null,null,null,null,null,"合　計",{"$f":"SUM(AM87:AM90)","v":0}]
[null,null,null,null,null,null,null,null,null,null,null,null,null,null,null,null,null,null,null,null,null,null,null,null,null,null,null,null,null,null,null,null,null,{"$f":"A92","v":0},"日数(日)","勤務時間(h)"," 早退（h）","合計(h)","金額(円)"]
["残業",null,null,null,null,null,null,null,null,null,null,null,null,null,null,null,null,null,null,null,null,null,null,null,null,null,null,null,null,null,null,null,{"$f":"SUM(B93:AF93)","v":0},"　出勤",{"$f":"COUNTIF(B92:AF92,\"出\")","v":0},{"$f":"AI93*7.8","v":0},{"$f":"AG94","v":0},{"$f":"AJ93-AK93","v":0},{"$f":"ROUNDDOWN(AL93*請求書・納品書!$M$11,)","v":0}]
["遅・早(出)",null,null,null,null,null,null,null,null,null,null,null,null,null,null,null,null,null,null,null,null,null,null,null,null,null,null,null,null,null,null,null,{"$f":"SUM(B94:AF94)","v":0},"　残業",null,null,null,{"$f":"AG93","v":0},{"$f":"ROUNDDOWN(AL94*請求書・納品書!$M$12,)","v":0}]
["遅・早(公)",null,null,null,null,null,null,null,null,null,null,null,null,null,null,null,null,null,null,null,null,null,null,null,null,null,null,null,null,null,null,null,{"$f":"SUM(B95:AF95)","v":0},"　公出",{"$f":"COUNTIF(B92:AF92,\"公\")","v":0},{"$f":"AI95*7.8","v":0},{"$f":"AG95","v":0},{"$f":"AJ95-AK95","v":0},{"$f":"ROUNDDOWN(AL95*請求書・納品書!$M$13,)","v":0}]
["連続",null,null,null,null,null,null,null,null,null,null,null,null,null,null,null,null,null,null,null,null,null,null,null,null,null,null,null,null,null,null,null,{"$f":"SUM(B96:AF96)","v":0},"　連続",null,null,null,{"$f":"AG96","v":0},{"$f":"AL96*請求書・納品書!$M$14","v":0}]
[null,null,null,null,null,null,null,null,null,null,null,null,null,null,null,null,null,null,null,null,null,null,null,null,null,null,null,null,null,null,null,null,null,null,null,null,null,"合　計",{"$f":"SUM(AM93:AM96)","v":0},null,{"$f":"AM79+AM85+AM91+AM97","v":0}]
[null,null,null,null,null,null,null,null,null,null,null,null,null,null,null,null,null,null,null,null,null,null,null,null,null,null,null,null,null,null,null,null,null,{"$f":"A98","v":0},"日数(日)","勤務時間(h)"," 早退（h）","合計(h)","金額(円)"]
["残業",null,null,null,null,null,null,null,null,null,null,null,null,null,null,null,null,null,null,null,null,null,null,null,null,null,null,null,null,null,null,null,{"$f":"SUM(B99:AF99)","v":0},"　出勤",{"$f":"COUNTIF(B98:AF98,\"出\")","v":0},{"$f":"AI99*7.8","v":0},{"$f":"AG100","v":0},{"$f":"AJ99-AK99","v":0},{"$f":"ROUNDDOWN(AL99*請求書・納品書!$M$11,)","v":0}]
["遅・早(出)",null,null,null,null,null,null,null,null,null,null,null,null,null,null,null,null,null,null,null,null,null,null,null,null,null,null,null,null,null,null,null,{"$f":"SUM(B100:AF100)","v":0},"　残業",null,null,null,{"$f":"AG99","v":0},{"$f":"ROUNDDOWN(AL100*請求書・納品書!$M$12,)","v":0}]
["遅・早(公)",null,null,null,null,null,null,null,null,null,null,null,null,null,null,null,null,null,null,null,null,null,null,null,null,null,null,null,null,null,null,null,{"$f":"SUM(B101:AF101)","v":0},"　公出",{"$f":"COUNTIF(B98:AF98,\"公\")","v":0},{"$f":"AI101*7.8","v":0},{"$f":"AG101","v":0},{"$f":"AJ101-AK101","v":0},{"$f":"ROUNDDOWN(AL101*請求書・納品書!$M$13,)","v":0}]
["連続",null,null,null,null,null,null,null,null,null,null,null,null,null,null,null,null,null,null,null,null,null,null,null,null,null,null,null,null,null,null,null,{"$f":"SUM(B102:AF102)","v":0},"　連続",null,null,null,{"$f":"AG102","v":0},{"$f":"AL102*請求書・納品書!$M$14","v":0}]
[null,null,null,null,null,null,null,null,null,null,null,null,null,null,null,null,null,null,null,null,null,null,null,null,null,null,null,null,null,null,null,null,null,null,null,null,null,"合　計",{"$f":"SUM(AM99:AM102)","v":0}]
[null,null,null,null,null,null,null,null,null,null,null,null,null,null,null,null,null,null,null,null,null,null,null,null,null,null,null,null,null,null,null,null,null,{"$f":"A104","v":0},"日数(日)","勤務時間(h)"," 早退（h）","合計(h)","金額(円)"]
["残業",null,null,null,null,null,null,null,null,null,null,null,null,null,null,null,null,null,null,null,null,null,null,null,null,null,null,null,null,null,null,null,{"$f":"SUM(B105:AF105)","v":0},"　出勤",{"$f":"COUNTIF(B104:AF104,\"出\")","v":0},{"$f":"AI105*7.8","v":0},{"$f":"AG106","v":0},{"$f":"AJ105-AK105","v":0},{"$f":"ROUNDDOWN(AL105*請求書・納品書!$M$11,)","v":0}]
["遅・早(出)",null,null,null,null,null,null,null,null,null,null,null,null,null,null,null,null,null,null,null,null,null,null,null,null,null,null,null,null,null,null,null,{"$f":"SUM(B106:AF106)","v":0},"　残業",null,null,null,{"$f":"AG105","v":0},{"$f":"ROUNDDOWN(AL106*請求書・納品書!$M$12,)","v":0}]
["遅・早(公)",null,null,null,null,null,null,null,null,null,null,null,null,null,null,null,null,null,null,null,null,null,null,null,null,null,null,null,null,null,null,null,{"$f":"SUM(B107:AF107)","v":0},"　公出",{"$f":"COUNTIF(B104:AF104,\"公\")","v":0},{"$f":"AI107*7.8","v":0},{"$f":"AG107","v":0},{"$f":"AJ107-AK107","v":0},{"$f":"ROUNDDOWN(AL107*請求書・納品書!$M$13,)","v":0}]
["連続",null,null,null,null,null,null,null,null,null,null,null,null,null,null,null,null,null,null,null,null,null,null,null,null,null,null,null,null,null,null,null,{"$f":"SUM(B108:AF108)","v":0},"　連続",null,null,null,{"$f":"AG108","v":0},{"$f":"AL108*請求書・納品書!$M$14","v":0}]
[null,null,null,null,null,null,null,null,null,null,null,null,null,null,null,null,null,null,null,null,null,null,null,null,null,null,null,null,null,null,null,null,null,null,null,null,null,"合　計",{"$f":"SUM(AM105:AM108)","v":0}]
[null,null,null,null,null,null,null,null,null,null,null,null,null,null,null,null,null,null,null,null,null,null,null,null,null,null,null,null,null,null,null,null,null,{"$f":"A110","v":0},"日数(日)","勤務時間(h)"," 早退（h）","合計(h)","金額(円)"]
["残業",null,null,null,null,null,null,null,null,null,null,null,null,null,null,null,null,null,null,null,null,null,null,null,null,null,null,null,null,null,null,null,{"$f":"SUM(B111:AF111)","v":0},"　出勤",{"$f":"COUNTIF(B110:AF110,\"出\")","v":0},{"$f":"AI111*7.8","v":0},{"$f":"AG112","v":0},{"$f":"AJ111-AK111","v":0},{"$f":"ROUNDDOWN(AL111*請求書・納品書!$M$11,)","v":0}]
["遅・早(出)",null,null,null,null,null,null,null,null,null,null,null,null,null,null,null,null,null,null,null,null,null,null,null,null,null,null,null,null,null,null,null,{"$f":"SUM(B112:AF112)","v":0},"　残業",null,null,null,{"$f":"AG111","v":0},{"$f":"ROUNDDOWN(AL112*請求書・納品書!$M$12,)","v":0}]
["遅・早(公)",null,null,null,null,null,null,null,null,null,null,null,null,null,null,null,null,null,null,null,null,null,null,null,null,null,null,null,null,null,null,null,{"$f":"SUM(B113:AF113)","v":0},"　公出",{"$f":"COUNTIF(B110:AF110,\"公\")","v":0},{"$f":"AI113*7.8","v":0},{"$f":"AG113","v":0},{"$f":"AJ113-AK113","v":0},{"$f":"ROUNDDOWN(AL113*請求書・納品書!$M$13,)","v":0}]
["連続",null,null,null,null,null,null,null,null,null,null,null,null,null,null,null,null,null,null,null,null,null,null,null,null,null,null,null,null,null,null,null,{"$f":"SUM(B114:AF114)","v":0},"　連続",null,null,null,{"$f":"AG114","v":0},{"$f":"AL114*請求書・納品書!$M$14","v":0}]
[null,null,null,null,null,null,null,null,null,null,null,null,null,null,null,null,null,null,null,null,null,null,null,null,null,null,null,null,null,null,null,null,null,null,null,null,null,"合　計",{"$f":"SUM(AM111:AM114)","v":0}]
[null,null,null,null,null,null,null,null,null,null,null,null,null,null,null,null,null,null,null,null,null,null,null,null,null,null,null,null,null,null,null,null,null,{"$f":"A116","v":0},"日数(日)","勤務時間(h)"," 早退（h）","合計(h)","金額(円)"]
["残業",null,null,null,null,null,null,null,null,null,null,null,null,null,null,null,null,null,null,null,null,null,null,null,null,null,null,null,null,null,null,null,{"$f":"SUM(B117:AF117)","v":0},"　出勤",{"$f":"COUNTIF(B116:AF116,\"出\")","v":0},{"$f":"AI117*7.8","v":0},{"$f":"AG118","v":0},{"$f":"AJ117-AK117","v":0},{"$f":"ROUNDDOWN(AL117*請求書・納品書!$M$11,)","v":0}]
["遅・早(出)",null,null,null,null,null,null,null,null,null,null,null,null,null,null,null,null,null,null,null,null,null,null,null,null,null,null,null,null,null,null,null,{"$f":"SUM(B118:AF118)","v":0},"　残業",null,null,null,{"$f":"AG117","v":0},{"$f":"ROUNDDOWN(AL118*請求書・納品書!$M$12,)","v":0}]
["遅・早(公)",null,null,null,null,null,null,null,null,null,null,null,null,null,null,null,null,null,null,null,null,null,null,null,null,null,null,null,null,null,null,null,{"$f":"SUM(B119:AF119)","v":0},"　公出",{"$f":"COUNTIF(B116:AF116,\"公\")","v":0},{"$f":"AI119*7.8","v":0},{"$f":"AG119","v":0},{"$f":"AJ119-AK119","v":0},{"$f":"ROUNDDOWN(AL119*請求書・納品書!$M$13,)","v":0}]
["連続",null,null,null,null,null,null,null,null,null,null,null,null,null,null,null,null,null,null,null,null,null,null,null,null,null,null,null,null,null,null,null,{"$f":"SUM(B120:AF120)","v":0},"　連続",null,null,null,{"$f":"AG120","v":0},{"$f":"AL120*請求書・納品書!$M$14","v":0}]
[null,null,null,null,null,null,null,null,null,null,null,null,null,null,null,null,null,null,null,null,null,null,null,null,null,null,null,null,null,null,null,null,null,null,null,null,null,"合　計",{"$f":"SUM(AM117:AM120)","v":0},null,{"$f":"AM103+AM109+AM115+AM121","v":0}]
[null,null,null,null,null,null,null,null,null,null,null,null,null,null,null,null,null,null,null,null,null,null,null,null,null,null,null,null,null,null,null,null,null,{"$f":"A122","v":0},"日数(日)","勤務時間(h)"," 早退（h）","合計(h)","金額(円)"]
["残業",null,null,null,null,null,null,null,null,null,null,null,null,null,null,null,null,null,null,null,null,null,null,null,null,null,null,null,null,null,null,null,{"$f":"SUM(B123:AF123)","v":0},"　出勤",{"$f":"COUNTIF(B122:AF122,\"出\")","v":0},{"$f":"AI123*7.8","v":0},{"$f":"AG124","v":0},{"$f":"AJ123-AK123","v":0},{"$f":"ROUNDDOWN(AL123*請求書・納品書!$M$11,)","v":0}]
["遅・早(出)",null,null,null,null,null,null,null,null,null,null,null,null,null,null,null,null,null,null,null,null,null,null,null,null,null,null,null,null,null,null,null,{"$f":"SUM(B124:AF124)","v":0},"　残業",null,null,null,{"$f":"AG123","v":0},{"$f":"ROUNDDOWN(AL124*請求書・納品書!$M$12,)","v":0}]
["遅・早(公)",null,null,null,null,null,null,null,null,null,null,null,null,null,null,null,null,null,null,null,null,null,null,null,null,null,null,null,null,null,null,null,{"$f":"SUM(B125:AF125)","v":0},"　公出",{"$f":"COUNTIF(B122:AF122,\"公\")","v":0},{"$f":"AI125*7.8","v":0},{"$f":"AG125","v":0},{"$f":"AJ125-AK125","v":0},{"$f":"ROUNDDOWN(AL125*請求書・納品書!$M$13,)","v":0}]
["連続",null,null,null,null,null,null,null,null,null,null,null,null,null,null,null,null,null,null,null,null,null,null,null,null,null,null,null,null,null,null,null,{"$f":"SUM(B126:AF126)","v":0},"　連続",null,null,null,{"$f":"AG126","v":0},{"$f":"AL126*請求書・納品書!$M$14","v":0}]
[null,null,null,null,null,null,null,null,null,null,null,null,null,null,null,null,null,null,null,null,null,null,null,null,null,null,null,null,null,null,null,null,null,null,null,null,null,"合　計",{"$f":"SUM(AM123:AM126)","v":0}]
[null,null,null,null,null,null,null,null,null,null,null,null,null,null,null,null,null,null,null,null,null,null,null,null,null,null,null,null,null,null,null,null,null,{"$f":"A128","v":0},"日数(日)","勤務時間(h)"," 早退（h）","合計(h)","金額(円)"]
["残業",null,null,null,null,null,null,null,null,null,null,null,null,null,null,null,null,null,null,null,null,null,null,null,null,null,null,null,null,null,null,null,{"$f":"SUM(B129:AF129)","v":0},"　出勤",{"$f":"COUNTIF(B128:AF128,\"出\")","v":0},{"$f":"AI129*7.8","v":0},{"$f":"AG130","v":0},{"$f":"AJ129-AK129","v":0},{"$f":"ROUNDDOWN(AL129*請求書・納品書!$M$11,)","v":0}]
["遅・早(出)",null,null,null,null,null,null,null,null,null,null,null,null,null,null,null,null,null,null,null,null,null,null,null,null,null,null,null,null,null,null,null,{"$f":"SUM(B130:AF130)","v":0},"　残業",null,null,null,{"$f":"AG129","v":0},{"$f":"ROUNDDOWN(AL130*請求書・納品書!$M$12,)","v":0}]
["遅・早(公)",null,null,null,null,null,null,null,null,null,null,null,null,null,null,null,null,null,null,null,null,null,null,null,null,null,null,null,null,null,null,null,{"$f":"SUM(B131:AF131)","v":0},"　公出",{"$f":"COUNTIF(B128:AF128,\"公\")","v":0},{"$f":"AI131*7.8","v":0},{"$f":"AG131","v":0},{"$f":"AJ131-AK131","v":0},{"$f":"ROUNDDOWN(AL131*請求書・納品書!$M$13,)","v":0}]
["連続",null,null,null,null,null,null,null,null,null,null,null,null,null,null,null,null,null,null,null,null,null,null,null,null,null,null,null,null,null,null,null,{"$f":"SUM(B132:AF132)","v":0},"　連続",null,null,null,{"$f":"AG132","v":0},{"$f":"AL132*請求書・納品書!$M$14","v":0}]
[null,null,null,null,null,null,null,null,null,null,null,null,null,null,null,null,null,null,null,null,null,null,null,null,null,null,null,null,null,null,null,null,null,null,null,null,null,"合　計",{"$f":"SUM(AM129:AM132)","v":0}]
[null,null,null,null,null,null,null,null,null,null,null,null,null,null,null,null,null,null,null,null,null,null,null,null,null,null,null,null,null,null,null,null,null,{"$f":"A134","v":0},"日数(日)","勤務時間(h)"," 早退（h）","合計(h)","金額(円)"]
["残業",null,null,null,null,null,null,null,null,null,null,null,null,null,null,null,null,null,null,null,null,null,null,null,null,null,null,null,null,null,null,null,{"$f":"SUM(B135:AF135)","v":0},"　出勤",{"$f":"COUNTIF(B134:AF134,\"出\")","v":0},{"$f":"AI135*7.8","v":0},{"$f":"AG136","v":0},{"$f":"AJ135-AK135","v":0},{"$f":"ROUNDDOWN(AL135*請求書・納品書!$M$11,)","v":0}]
["遅・早(出)",null,null,null,null,null,null,null,null,null,null,null,null,null,null,null,null,null,null,null,null,null,null,null,null,null,null,null,null,null,null,null,{"$f":"SUM(B136:AF136)","v":0},"　残業",null,null,null,{"$f":"AG135","v":0},{"$f":"ROUNDDOWN(AL136*請求書・納品書!$M$12,)","v":0}]
["遅・早(公)",null,null,null,null,null,null,null,null,null,null,null,null,null,null,null,null,null,null,null,null,null,null,null,null,null,null,null,null,null,null,null,{"$f":"SUM(B137:AF137)","v":0},"　公出",{"$f":"COUNTIF(B134:AF134,\"公\")","v":0},{"$f":"AI137*7.8","v":0},{"$f":"AG137","v":0},{"$f":"AJ137-AK137","v":0},{"$f":"ROUNDDOWN(AL137*請求書・納品書!$M$13,)","v":0}]
["連続",null,null,null,null,null,null,null,null,null,null,null,null,null,null,null,null,null,null,null,null,null,null,null,null,null,null,null,null,null,null,null,{"$f":"SUM(B138:AF138)","v":0},"　連続",null,null,null,{"$f":"AG138","v":0},{"$f":"AL138*請求書・納品書!$M$14","v":0}]
[null,null,null,null,null,null,null,null,null,null,null,null,null,null,null,null,null,null,null,null,null,null,null,null,null,null,null,null,null,null,null,null,null,null,null,null,null,"合　計",{"$f":"SUM(AM135:AM138)","v":0}]
[null,null,null,null,null,null,null,null,null,null,null,null,null,null,null,null,null,null,null,null,null,null,null,null,null,null,null,null,null,null,null,null,null,{"$f":"A140","v":0},"日数(日)","勤務時間(h)"," 早退（h）","合計(h)","金額(円)"]
["残業",null,null,null,null,null,null,null,null,null,null,null,null,null,null,null,null,null,null,null,null,null,null,null,null,null,null,null,null,null,null,null,{"$f":"SUM(B141:AF141)","v":0},"　出勤",{"$f":"COUNTIF(B140:AF140,\"出\")","v":0},{"$f":"AI141*7.8","v":0},{"$f":"AG142","v":0},{"$f":"AJ141-AK141","v":0},{"$f":"ROUNDDOWN(AL141*請求書・納品書!$M$11,)","v":0}]
["遅・早(出)",null,null,null,null,null,null,null,null,null,null,null,null,null,null,null,null,null,null,null,null,null,null,null,null,null,null,null,null,null,null,null,{"$f":"SUM(B142:AF142)","v":0},"　残業",null,null,null,{"$f":"AG141","v":0},{"$f":"ROUNDDOWN(AL142*請求書・納品書!$M$12,)","v":0}]
["遅・早(公)",null,null,null,null,null,null,null,null,null,null,null,null,null,null,null,null,null,null,null,null,null,null,null,null,null,null,null,null,null,null,null,{"$f":"SUM(B143:AF143)","v":0},"　公出",{"$f":"COUNTIF(B140:AF140,\"公\")","v":0},{"$f":"AI143*7.8","v":0},{"$f":"AG143","v":0},{"$f":"AJ143-AK143","v":0},{"$f":"ROUNDDOWN(AL143*請求書・納品書!$M$13,)","v":0}]
["連続",null,null,null,null,null,null,null,null,null,null,null,null,null,null,null,null,null,null,null,null,null,null,null,null,null,null,null,null,null,null,null,{"$f":"SUM(B144:AF144)","v":0},"　連続",null,null,null,{"$f":"AG144","v":0},{"$f":"AL144*請求書・納品書!$M$14","v":0}]
[null,null,null,null,null,null,null,null,null,null,null,null,null,null,null,null,null,null,null,null,null,null,null,null,null,null,null,null,null,null,null,null,null,null,null,null,null,"合　計",{"$f":"SUM(AM141:AM144)","v":0},null,{"$f":"AM127+AM133+AM139+AM145","v":0}]
[null,null,null,null,null,null,null,null,null,null,null,null,null,null,null,null,null,null,null,null,null,null,null,null,null,null,null,null,null,null,null,null,null,{"$f":"A146","v":0},"日数(日)","勤務時間(h)"," 早退（h）","合計(h)","金額(円)"]
["残業",null,null,null,null,null,null,null,null,null,null,null,null,null,null,null,null,null,null,null,null,null,null,null,null,null,null,null,null,null,null,null,{"$f":"SUM(B147:AF147)","v":0},"　出勤",{"$f":"COUNTIF(B146:AF146,\"出\")","v":0},{"$f":"AI147*7.8","v":0},{"$f":"AG148","v":0},{"$f":"AJ147-AK147","v":0},{"$f":"ROUNDDOWN(AL147*請求書・納品書!$M$11,)","v":0}]
["遅・早(出)",null,null,null,null,null,null,null,null,null,null,null,null,null,null,null,null,null,null,null,null,null,null,null,null,null,null,null,null,null,null,null,{"$f":"SUM(B148:AF148)","v":0},"　残業",null,null,null,{"$f":"AG147","v":0},{"$f":"ROUNDDOWN(AL148*請求書・納品書!$M$12,)","v":0}]
["遅・早(公)",null,null,null,null,null,null,null,null,null,null,null,null,null,null,null,null,null,null,null,null,null,null,null,null,null,null,null,null,null,null,null,{"$f":"SUM(B149:AF149)","v":0},"　公出",{"$f":"COUNTIF(B146:AF146,\"公\")","v":0},{"$f":"AI149*7.8","v":0},{"$f":"AG149","v":0},{"$f":"AJ149-AK149","v":0},{"$f":"ROUNDDOWN(AL149*請求書・納品書!$M$13,)","v":0}]
["連続",null,null,null,null,null,null,null,null,null,null,null,null,null,null,null,null,null,null,null,null,null,null,null,null,null,null,null,null,null,null,null,{"$f":"SUM(B150:AF150)","v":0},"　連続",null,null,null,{"$f":"AG150","v":0},{"$f":"AL150*請求書・納品書!$M$14","v":0}]
[null,null,null,null,null,null,null,null,null,null,null,null,null,null,null,null,null,null,null,null,null,null,null,null,null,null,null,null,null,null,null,null,null,null,null,null,null,"合　計",{"$f":"SUM(AM147:AM150)","v":0}]
[null,null,null,null,null,null,null,null,null,null,null,null,null,null,null,null,null,null,null,null,null,null,null,null,null,null,null,null,null,null,null,null,null,{"$f":"A152","v":0},"日数(日)","勤務時間(h)"," 早退（h）","合計(h)","金額(円)"]
["残業",null,null,null,null,null,null,null,null,null,null,null,null,null,null,null,null,null,null,null,null,null,null,null,null,null,null,null,null,null,null,null,{"$f":"SUM(B153:AF153)","v":0},"　出勤",{"$f":"COUNTIF(B152:AF152,\"出\")","v":0},{"$f":"AI153*7.8","v":0},{"$f":"AG154","v":0},{"$f":"AJ153-AK153","v":0},{"$f":"ROUNDDOWN(AL153*請求書・納品書!$M$11,)","v":0}]
["遅・早(出)",null,null,null,null,null,null,null,null,null,null,null,null,null,null,null,null,null,null,null,null,null,null,null,null,null,null,null,null,null,null,null,{"$f":"SUM(B154:AF154)","v":0},"　残業",null,null,null,{"$f":"AG153","v":0},{"$f":"ROUNDDOWN(AL154*請求書・納品書!$M$12,)","v":0}]
["遅・早(公)",null,null,null,null,null,null,null,null,null,null,null,null,null,null,null,null,null,null,null,null,null,null,null,null,null,null,null,null,null,null,null,{"$f":"SUM(B155:AF155)","v":0},"　公出",{"$f":"COUNTIF(B152:AF152,\"公\")","v":0},{"$f":"AI155*7.8","v":0},{"$f":"AG155","v":0},{"$f":"AJ155-AK155","v":0},{"$f":"ROUNDDOWN(AL155*請求書・納品書!$M$13,)","v":0}]
["連続",null,null,null,null,null,null,null,null,null,null,null,null,null,null,null,null,null,null,null,null,null,null,null,null,null,null,null,null,null,null,null,{"$f":"SUM(B156:AF156)","v":0},"　連続",null,null,null,{"$f":"AG156","v":0},{"$f":"AL156*請求書・納品書!$M$14","v":0}]
[null,null,null,null,null,null,null,null,null,null,null,null,null,null,null,null,null,null,null,null,null,null,null,null,null,null,null,null,null,null,null,null,null,null,null,null,null,"合　計",{"$f":"SUM(AM153:AM156)","v":0}]
[null,null,null,null,null,null,null,null,null,null,null,null,null,null,null,null,null,null,null,null,null,null,null,null,null,null,null,null,null,null,null,null,null,{"$f":"A158","v":0},"日数(日)","勤務時間(h)"," 早退（h）","合計(h)","金額(円)"]
["残業",null,null,null,null,null,null,null,null,null,null,null,null,null,null,null,null,null,null,null,null,null,null,null,null,null,null,null,null,null,null,null,{"$f":"SUM(B159:AF159)","v":0},"　出勤",{"$f":"COUNTIF(B158:AF158,\"出\")","v":0},{"$f":"AI159*7.8","v":0},{"$f":"AG160","v":0},{"$f":"AJ159-AK159","v":0},{"$f":"ROUNDDOWN(AL159*請求書・納品書!$M$11,)","v":0}]
["遅・早(出)",null,null,null,null,null,null,null,null,null,null,null,null,null,null,null,null,null,null,null,null,null,null,null,null,null,null,null,null,null,null,null,{"$f":"SUM(B160:AF160)","v":0},"　残業",null,null,null,{"$f":"AG159","v":0},{"$f":"ROUNDDOWN(AL160*請求書・納品書!$M$12,)","v":0}]
["遅・早(公)",null,null,null,null,null,null,null,null,null,null,null,null,null,null,null,null,null,null,null,null,null,null,null,null,null,null,null,null,null,null,null,{"$f":"SUM(B161:AF161)","v":0},"　公出",{"$f":"COUNTIF(B158:AF158,\"公\")","v":0},{"$f":"AI161*7.8","v":0},{"$f":"AG161","v":0},{"$f":"AJ161-AK161","v":0},{"$f":"ROUNDDOWN(AL161*請求書・納品書!$M$13,)","v":0}]
["連続",null,null,null,null,null,null,null,null,null,null,null,null,null,null,null,null,null,null,null,null,null,null,null,null,null,null,null,null,null,null,null,{"$f":"SUM(B162:AF162)","v":0},"　連続",null,null,null,{"$f":"AG162","v":0},{"$f":"AL162*請求書・納品書!$M$14","v":0}]
[null,null,null,null,null,null,null,null,null,null,null,null,null,null,null,null,null,null,null,null,null,null,null,null,null,null,null,null,null,null,null,null,null,null,null,null,null,"合　計",{"$f":"SUM(AM159:AM162)","v":0}]
[null,null,null,null,null,null,null,null,null,null,null,null,null,null,null,null,null,null,null,null,null,null,null,null,null,null,null,null,null,null,null,null,null,{"$f":"A164","v":0},"日数(日)","勤務時間(h)"," 早退（h）","合計(h)","金額(円)"]
["残業",null,null,null,null,null,null,null,null,null,null,null,null,null,null,null,null,null,null,null,null,null,null,null,null,null,null,null,null,null,null,null,{"$f":"SUM(B165:AF165)","v":0},"　出勤",{"$f":"COUNTIF(B164:AF164,\"出\")","v":0},{"$f":"AI165*7.8","v":0},{"$f":"AG166","v":0},{"$f":"AJ165-AK165","v":0},{"$f":"ROUNDDOWN(AL165*請求書・納品書!$M$11,)","v":0}]
["遅・早(出)",null,null,null,null,null,null,null,null,null,null,null,null,null,null,null,null,null,null,null,null,null,null,null,null,null,null,null,null,null,null,null,{"$f":"SUM(B166:AF166)","v":0},"　残業",null,null,null,{"$f":"AG165","v":0},{"$f":"ROUNDDOWN(AL166*請求書・納品書!$M$12,)","v":0}]
["遅・早(公)",null,null,null,null,null,null,null,null,null,null,null,null,null,null,null,null,null,null,null,null,null,null,null,null,null,null,null,null,null,null,null,{"$f":"SUM(B167:AF167)","v":0},"　公出",{"$f":"COUNTIF(B164:AF164,\"公\")","v":0},{"$f":"AI167*7.8","v":0},{"$f":"AG167","v":0},{"$f":"AJ167-AK167","v":0},{"$f":"ROUNDDOWN(AL167*請求書・納品書!$M$13,)","v":0}]
["連続",null,null,null,null,null,null,null,null,null,null,null,null,null,null,null,null,null,null,null,null,null,null,null,null,null,null,null,null,null,null,null,{"$f":"SUM(B168:AF168)","v":0},"　連続",null,null,null,{"$f":"AG168","v":0},{"$f":"AL168*請求書・納品書!$M$14","v":0}]
[null,null,null,null,null,null,null,null,null,null,null,null,null,null,null,null,null,null,null,null,null,null,null,null,null,null,null,null,null,null,null,null,null,null,null,null,null,"合　計",{"$f":"SUM(AM165:AM168)","v":0},null,{"$f":"AM151+AM157+AM163+AM169","v":0}]
[null,null,null,null,null,null,null,null,null,null,null,null,null,null,null,null,null,null,null,null,null,null,null,null,null,null,null,null,null,null,null,null,null,{"$f":"A170","v":0},"日数(日)","勤務時間(h)"," 早退（h）","合計(h)","金額(円)"]
["残業",null,null,null,null,null,null,null,null,null,null,null,null,null,null,null,null,null,null,null,null,null,null,null,null,null,null,null,null,null,null,null,{"$f":"SUM(B171:AF171)","v":0},"　出勤",{"$f":"COUNTIF(B170:AF170,\"出\")","v":0},{"$f":"AI171*7.8","v":0},{"$f":"AG172","v":0},{"$f":"AJ171-AK171","v":0},{"$f":"ROUNDDOWN(AL171*請求書・納品書!$M$11,)","v":0}]
["遅・早(出)",null,null,null,null,null,null,null,null,null,null,null,null,null,null,null,null,null,null,null,null,null,null,null,null,null,null,null,null,null,null,null,{"$f":"SUM(B172:AF172)","v":0},"　残業",null,null,null,{"$f":"AG171","v":0},{"$f":"ROUNDDOWN(AL172*請求書・納品書!$M$12,)","v":0}]
["遅・早(公)",null,null,null,null,null,null,null,null,null,null,null,null,null,null,null,null,null,null,null,null,null,null,null,null,null,null,null,null,null,null,null,{"$f":"SUM(B173:AF173)","v":0},"　公出",{"$f":"COUNTIF(B170:AF170,\"公\")","v":0},{"$f":"AI173*7.8","v":0},{"$f":"AG173","v":0},{"$f":"AJ173-AK173","v":0},{"$f":"ROUNDDOWN(AL173*請求書・納品書!$M$13,)","v":0}]
["連続",null,null,null,null,null,null,null,null,null,null,null,null,null,null,null,null,null,null,null,null,null,null,null,null,null,null,null,null,null,null,null,{"$f":"SUM(B174:AF174)","v":0},"　連続",null,null,null,{"$f":"AG174","v":0},{"$f":"AL174*請求書・納品書!$M$14","v":0}]
[null,null,null,null,null,null,null,null,null,null,null,null,null,null,null,null,null,null,null,null,null,null,null,null,null,null,null,null,null,null,null,null,null,null,null,null,null,"合　計",{"$f":"SUM(AM171:AM174)","v":0}]
[null,null,null,null,null,null,null,null,null,null,null,null,null,null,null,null,null,null,null,null,null,null,null,null,null,null,null,null,null,null,null,null,null,{"$f":"A176","v":0},"日数(日)","勤務時間(h)"," 早退（h）","合計(h)","金額(円)"]
["残業",null,null,null,null,null,null,null,null,null,null,null,null,null,null,null,null,null,null,null,null,null,null,null,null,null,null,null,null,null,null,null,{"$f":"SUM(B177:AF177)","v":0},"　出勤",{"$f":"COUNTIF(B176:AF176,\"出\")","v":0},{"$f":"AI177*7.8","v":0},{"$f":"AG178","v":0},{"$f":"AJ177-AK177","v":0},{"$f":"ROUNDDOWN(AL177*請求書・納品書!$M$11,)","v":0}]
["遅・早(出)",null,null,null,null,null,null,null,null,null,null,null,null,null,null,null,null,null,null,null,null,null,null,null,null,null,null,null,null,null,null,null,{"$f":"SUM(B178:AF178)","v":0},"　残業",null,null,null,{"$f":"AG177","v":0},{"$f":"ROUNDDOWN(AL178*請求書・納品書!$M$12,)","v":0}]
["遅・早(公)",null,null,null,null,null,null,null,null,null,null,null,null,null,null,null,null,null,null,null,null,null,null,null,null,null,null,null,null,null,null,null,{"$f":"SUM(B179:AF179)","v":0},"　公出",{"$f":"COUNTIF(B176:AF176,\"公\")","v":0},{"$f":"AI179*7.8","v":0},{"$f":"AG179","v":0},{"$f":"AJ179-AK179","v":0},{"$f":"ROUNDDOWN(AL179*請求書・納品書!$M$13,)","v":0}]
["連続",null,null,null,null,null,null,null,null,null,null,null,null,null,null,null,null,null,null,null,null,null,null,null,null,null,null,null,null,null,null,null,{"$f":"SUM(B180:AF180)","v":0},"　連続",null,null,null,{"$f":"AG180","v":0},{"$f":"AL180*請求書・納品書!$M$14","v":0}]
[null,null,null,null,null,null,null,null,null,null,null,null,null,null,null,null,null,null,null,null,null,null,null,null,null,null,null,null,null,null,null,null,null,null,null,null,null,"合　計",{"$f":"SUM(AM177:AM180)","v":0}]
[null,null,null,null,null,null,null,null,null,null,null,null,null,null,null,null,null,null,null,null,null,null,null,null,null,null,null,null,null,null,null,null,null,{"$f":"A182","v":0},"日数(日)","勤務時間(h)"," 早退（h）","合計(h)","金額(円)"]
["残業",null,null,null,null,null,null,null,null,null,null,null,null,null,null,null,null,null,null,null,null,null,null,null,null,null,null,null,null,null,null,null,{"$f":"SUM(B183:AF183)","v":0},"　出勤",{"$f":"COUNTIF(B182:AF182,\"出\")","v":0},{"$f":"AI183*7.8","v":0},{"$f":"AG184","v":0},{"$f":"AJ183-AK183","v":0},{"$f":"ROUNDDOWN(AL183*請求書・納品書!$M$11,)","v":0}]
["遅・早(出)",null,null,null,null,null,null,null,null,null,null,null,null,null,null,null,null,null,null,null,null,null,null,null,null,null,null,null,null,null,null,null,{"$f":"SUM(B184:AF184)","v":0},"　残業",null,null,null,{"$f":"AG183","v":0},{"$f":"ROUNDDOWN(AL184*請求書・納品書!$M$12,)","v":0}]
["遅・早(公)",null,null,null,null,null,null,null,null,null,null,null,null,null,null,null,null,null,null,null,null,null,null,null,null,null,null,null,null,null,null,null,{"$f":"SUM(B185:AF185)","v":0},"　公出",{"$f":"COUNTIF(B182:AF182,\"公\")","v":0},{"$f":"AI185*7.8","v":0},{"$f":"AG185","v":0},{"$f":"AJ185-AK185","v":0},{"$f":"ROUNDDOWN(AL185*請求書・納品書!$M$13,)","v":0}]
["連続",null,null,null,null,null,null,null,null,null,null,null,null,null,null,null,null,null,null,null,null,null,null,null,null,null,null,null,null,null,null,null,{"$f":"SUM(B186:AF186)","v":0},"　連続",null,null,null,{"$f":"AG186","v":0},{"$f":"AL186*請求書・納品書!$M$14","v":0}]
[null,null,null,null,null,null,null,null,null,null,null,null,null,null,null,null,null,null,null,null,null,null,null,null,null,null,null,null,null,null,null,null,null,null,null,null,null,"合　計",{"$f":"SUM(AM183:AM186)","v":0}]
[null,null,null,null,null,null,null,null,null,null,null,null,null,null,null,null,null,null,null,null,null,null,null,null,null,null,null,null,null,null,null,null,null,{"$f":"A188","v":0},"日数(日)","勤務時間(h)"," 早退（h）","合計(h)","金額(円)"]
["残業",null,null,null,null,null,null,null,null,null,null,null,null,null,null,null,null,null,null,null,null,null,null,null,null,null,null,null,null,null,null,null,{"$f":"SUM(B189:AF189)","v":0},"　出勤",{"$f":"COUNTIF(B188:AF188,\"出\")","v":0},{"$f":"AI189*7.8","v":0},{"$f":"AG190","v":0},{"$f":"AJ189-AK189","v":0},{"$f":"ROUNDDOWN(AL189*請求書・納品書!$M$11,)","v":0}]
["遅・早(出)",null,null,null,null,null,null,null,null,null,null,null,null,null,null,null,null,null,null,null,null,null,null,null,null,null,null,null,null,null,null,null,{"$f":"SUM(B190:AF190)","v":0},"　残業",null,null,null,{"$f":"AG189","v":0},{"$f":"ROUNDDOWN(AL190*請求書・納品書!$M$12,)","v":0}]
["遅・早(公)",null,null,null,null,null,null,null,null,null,null,null,null,null,null,null,null,null,null,null,null,null,null,null,null,null,null,null,null,null,null,null,{"$f":"SUM(B191:AF191)","v":0},"　公出",{"$f":"COUNTIF(B188:AF188,\"公\")","v":0},{"$f":"AI191*7.8","v":0},{"$f":"AG191","v":0},{"$f":"AJ191-AK191","v":0},{"$f":"ROUNDDOWN(AL191*請求書・納品書!$M$13,)","v":0}]
["連続",null,null,null,null,null,null,null,null,null,null,null,null,null,null,null,null,null,null,null,null,null,null,null,null,null,null,null,null,null,null,null,{"$f":"SUM(B192:AF192)","v":0},"　連続",null,null,null,{"$f":"AG192","v":0},{"$f":"AL192*請求書・納品書!$M$14","v":0}]
[null,null,null,null,null,null,null,null,null,null,null,null,null,null,null,null,null,null,null,null,null,null,null,null,null,null,null,null,null,null,null,null,null,null,null,null,null,"合　計",{"$f":"SUM(AM189:AM192)","v":0},null,{"$f":"AM175+AM181+AM187+AM193","v":0}]

{"sheet":"2","index":10,"n_rows":193,"n_cols":42,"rows_kept":193,"cut":false,"hidden":false,"merged":[]}
[{"$f":"'4'!A1+1","v":2011},1,2,3,4,5,6,7,8,9,10,11,12,13,14,15,16,17,18,19,20,21,22,23,24,25,26,27,28,29,30,31,"計",{"$f":"A1&\"年\"&MID(CELL(\"filename\",$A$1),FIND(\"]\",CELL(\"filename\",$A$1))+1,31) &\"月\"","v":"2011年2月"}]
[null,null,null,null,null,null,null,null,null,null,null,null,null,null,null,null,null,null,null,null,null,null,null,null,null,null,null,null,null,null,null,null,null,{"$f":"A2","v":0},"日数(日)","勤務時間(h)"," 早退（h）","合計(h)","金額(円)","出","　合計",{"$f":"SUM(AM:AM)/2","v":0}]
["残業",null,null,null,null,null,null,null,null,null,null,null,null,null,null,null,null,null,null,null,null,null,null,null,null,null,null,null,null,null,null,null,{"$f":"SUM(B3:AF3)","v":0},"　出勤",{"$f":"COUNTIF(B2:AF2,\"出\")","v":0},{"$f":"AI3*7.8","v":0},{"$f":"AG4","v":0},{"$f":"AJ3-AK3","v":0},{"$f":"ROUNDDOWN(AL3*請求書・納品書!$M$11,)","v":0},"公","　人数",{"$f":"COUNTA(AH:AH)-COUNTIF(AH:AH,0)-32*4-1","v":0}]
["遅・早(出)",null,null,null,null,null,null,null,null,null,null,null,null,null,null,null,null,null,null,null,null,null,null,null,null,null,null,null,null,null,null,null,{"$f":"SUM(B4:AF4)","v":0},"　残業",null,null,null,{"$f":"AG3","v":0},{"$f":"ROUNDDOWN(AL4*請求書・納品書!$M$12,)","v":0},"欠","　管理費",{"$f":"(AP3-AP9)*19400","v":0}]
["遅・早(公)",null,null,null,null,null,null,null,null,null,null,null,null,null,null,null,null,null,null,null,null,null,null,null,null,null,null,null,null,null,null,null,{"$f":"SUM(B5:AF5)","v":0},"　公出",{"$f":"COUNTIF(B2:AF2,\"公\")","v":0},{"$f":"AI5*7.8","v":0},{"$f":"AG5","v":0},{"$f":"AJ5-AK5","v":0},{"$f":"ROUNDDOWN(AL5*請求書・納品書!$M$13,)","v":0},"有","　小計",{"$f":"AP2+AP4","v":0}]
["連続",null,null,null,null,null,null,null,null,null,null,null,null,null,null,null,null,null,null,null,null,null,null,null,null,null,null,null,null,null,null,null,{"$f":"SUM(B6:AF6)","v":0},"　連続",null,null,null,{"$f":"AG6","v":0},{"$f":"AL6*請求書・納品書!$M$14","v":0},"半","　消費税",{"$f":"ROUNDDOWN(AP5*0.05,)","v":0}]
[null,null,null,null,null,null,null,null,null,null,null,null,null,null,null,null,null,null,null,null,null,null,null,null,null,null,null,null,null,null,null,null,null,null,null,null,null,"合　計",{"$f":"SUM(AM3:AM6)","v":0},null,"　総合計",{"$f":"AP5+AP6","v":0}]
[null,null,null,null,null,null,null,null,null,null,null,null,null,null,null,null,null,null,null,null,null,null,null,null,null,null,null,null,null,null,null,null,null,{"$f":"A8","v":0},"日数(日)","勤務時間(h)"," 早退（h）","合計(h)","金額(円)"]
["残業",null,null,null,null,null,null,null,null,null,null,null,null,null,null,null,null,null,null,null,null,null,null,null,null,null,null,null,null,null,null,null,{"$f":"SUM(B9:AF9)","v":0},"　出勤",{"$f":"COUNTIF(B8:AF8,\"出\")","v":0},{"$f":"AI9*7.8","v":0},{"$f":"AG10","v":0},{"$f":"AJ9-AK9","v":0},{"$f":"ROUNDDOWN(AL9*請求書・納品書!$M$11,)","v":0},null,"管理費に入れない人数"]
["遅・早(出)",null,null,null,null,null,null,null,null,null,null,null,null,null,null,null,null,null,null,null,null,null,null,null,null,null,null,null,null,null,null,null,{"$f":"SUM(B10:AF10)","v":0},"　残業",null,null,null,{"$f":"AG9","v":0},{"$f":"ROUNDDOWN(AL10*請求書・納品書!$M$12,)","v":0}]
["遅・早(公)",null,null,null,null,null,null,null,null,null,null,null,null,null,null,null,null,null,null,null,null,null,null,null,null,null,null,null,null,null,null,null,{"$f":"SUM(B11:AF11)","v":0},"　公出",{"$f":"COUNTIF(B8:AF8,\"公\")","v":0},{"$f":"AI11*7.8","v":0},{"$f":"AG11","v":0},{"$f":"AJ11-AK11","v":0},{"$f":"ROUNDDOWN(AL11*請求書・納品書!$M$13,)","v":0}]
["連続",null,null,null,null,null,null,null,null,null,null,null,null,null,null,null,null,null,null,null,null,null,null,null,null,null,null,null,null,null,null,null,{"$f":"SUM(B12:AF12)","v":0},"　連続",null,null,null,{"$f":"AG12","v":0},{"$f":"AL12*請求書・納品書!$M$14","v":0}]
[null,null,null,null,null,null,null,null,null,null,null,null,null,null,null,null,null,null,null,null,null,null,null,null,null,null,null,null,null,null,null,null,null,null,null,null,null,"合　計",{"$f":"SUM(AM9:AM12)","v":0}]
[null,null,null,null,null,null,null,null,null,null,null,null,null,null,null,null,null,null,null,null,null,null,null,null,null,null,null,null,null,null,null,null,null,{"$f":"A14","v":0},"日数(日)","勤務時間(h)"," 早退（h）","合計(h)","金額(円)"]
["残業",null,null,null,null,null,null,null,null,null,null,null,null,null,null,null,null,null,null,null,null,null,null,null,null,null,null,null,null,null,null,null,{"$f":"SUM(B15:AF15)","v":0},"　出勤",{"$f":"COUNTIF(B14:AF14,\"出\")","v":0},{"$f":"AI15*7.8","v":0},{"$f":"AG16","v":0},{"$f":"AJ15-AK15","v":0},{"$f":"ROUNDDOWN(AL15*請求書・納品書!$M$11,)","v":0}]
["遅・早(出)",null,null,null,null,null,null,null,null,null,null,null,null,null,null,null,null,null,null,null,null,null,null,null,null,null,null,null,null,null,null,null,{"$f":"SUM(B16:AF16)","v":0},"　残業",null,null,null,{"$f":"AG15","v":0},{"$f":"ROUNDDOWN(AL16*請求書・納品書!$M$12,)","v":0}]
["遅・早(公)",null,null,null,null,null,null,null,null,null,null,null,null,null,null,null,null,null,null,null,null,null,null,null,null,null,null,null,null,null,null,null,{"$f":"SUM(B17:AF17)","v":0},"　公出",{"$f":"COUNTIF(B14:AF14,\"公\")","v":0},{"$f":"AI17*7.8","v":0},{"$f":"AG17","v":0},{"$f":"AJ17-AK17","v":0},{"$f":"ROUNDDOWN(AL17*請求書・納品書!$M$13,)","v":0}]
["連続",null,null,null,null,null,null,null,null,null,null,null,null,null,null,null,null,null,null,null,null,null,null,null,null,null,null,null,null,null,null,null,{"$f":"SUM(B18:AF18)","v":0},"　連続",null,null,null,{"$f":"AG18","v":0},{"$f":"AL18*請求書・納品書!$M$14","v":0}]
[null,null,null,null,null,null,null,null,null,null,null,null,null,null,null,null,null,null,null,null,null,null,null,null,null,null,null,null,null,null,null,null,null,null,null,null,null,"合　計",{"$f":"SUM(AM15:AM18)","v":0}]
[null,null,null,null,null,null,null,null,null,null,null,null,null,null,null,null,null,null,null,null,null,null,null,null,null,null,null,null,null,null,null,null,null,{"$f":"A20","v":0},"日数(日)","勤務時間(h)"," 早退（h）","合計(h)","金額(円)"]
["残業",null,null,null,null,null,null,null,null,null,null,null,null,null,null,null,null,null,null,null,null,null,null,null,null,null,null,null,null,null,null,null,{"$f":"SUM(B21:AF21)","v":0},"　出勤",{"$f":"COUNTIF(B20:AF20,\"出\")","v":0},{"$f":"AI21*7.8","v":0},{"$f":"AG22","v":0},{"$f":"AJ21-AK21","v":0},{"$f":"ROUNDDOWN(AL21*請求書・納品書!$M$11,)","v":0}]
["遅・早(出)",null,null,null,null,null,null,null,null,null,null,null,null,null,null,null,null,null,null,null,null,null,null,null,null,null,null,null,null,null,null,null,{"$f":"SUM(B22:AF22)","v":0},"　残業",null,null,null,{"$f":"AG21","v":0},{"$f":"ROUNDDOWN(AL22*請求書・納品書!$M$12,)","v":0}]
["遅・早(公)",null,null,null,null,null,null,null,null,null,null,null,null,null,null,null,null,null,null,null,null,null,null,null,null,null,null,null,null,null,null,null,{"$f":"SUM(B23:AF23)","v":0},"　公出",{"$f":"COUNTIF(B20:AF20,\"公\")","v":0},{"$f":"AI23*7.8","v":0},{"$f":"AG23","v":0},{"$f":"AJ23-AK23","v":0},{"$f":"ROUNDDOWN(AL23*請求書・納品書!$M$13,)","v":0}]
["連続",null,null,null,null,null,null,null,null,null,null,null,null,null,null,null,null,null,null,null,null,null,null,null,null,null,null,null,null,null,null,null,{"$f":"SUM(B24:AF24)","v":0},"　連続",null,null,null,{"$f":"AG24","v":0},{"$f":"AL24*請求書・納品書!$M$14","v":0}]
[null,null,null,null,null,null,null,null,null,null,null,null,null,null,null,null,null,null,null,null,null,null,null,null,null,null,null,null,null,null,null,null,null,null,null,null,null,"合　計",{"$f":"SUM(AM21:AM24)","v":0},null,{"$f":"AM7+AM13+AM19+AM25","v":0}]
[null,null,null,null,null,null,null,null,null,null,null,null,null,null,null,null,null,null,null,null,null,null,null,null,null,null,null,null,null,null,null,null,null,{"$f":"A26","v":0},"日数(日)","勤務時間(h)"," 早退（h）","合計(h)","金額(円)"]
["残業",null,null,null,null,null,null,null,null,null,null,null,null,null,null,null,null,null,null,null,null,null,null,null,null,null,null,null,null,null,null,null,{"$f":"SUM(B27:AF27)","v":0},"　出勤",{"$f":"COUNTIF(B26:AF26,\"出\")","v":0},{"$f":"AI27*7.8","v":0},{"$f":"AG28","v":0},{"$f":"AJ27-AK27","v":0},{"$f":"ROUNDDOWN(AL27*請求書・納品書!$M$11,)","v":0}]
["遅・早(出)",null,null,null,null,null,null,null,null,null,null,null,null,null,null,null,null,null,null,null,null,null,null,null,null,null,null,null,null,null,null,null,{"$f":"SUM(B28:AF28)","v":0},"　残業",null,null,null,{"$f":"AG27","v":0},{"$f":"ROUNDDOWN(AL28*請求書・納品書!$M$12,)","v":0}]
["遅・早(公)",null,null,null,null,null,null,null,null,null,null,null,null,null,null,null,null,null,null,null,null,null,null,null,null,null,null,null,null,null,null,null,{"$f":"SUM(B29:AF29)","v":0},"　公出",{"$f":"COUNTIF(B26:AF26,\"公\")","v":0},{"$f":"AI29*7.8","v":0},{"$f":"AG29","v":0},{"$f":"AJ29-AK29","v":0},{"$f":"ROUNDDOWN(AL29*請求書・納品書!$M$13,)","v":0}]
["連続",null,null,null,null,null,null,null,null,null,null,null,null,null,null,null,null,null,null,null,null,null,null,null,null,null,null,null,null,null,null,null,{"$f":"SUM(B30:AF30)","v":0},"　連続",null,null,null,{"$f":"AG30","v":0},{"$f":"AL30*請求書・納品書!$M$14","v":0}]
[null,null,null,null,null,null,null,null,null,null,null,null,null,null,null,null,null,null,null,null,null,null,null,null,null,null,null,null,null,null,null,null,null,null,null,null,null,"合　計",{"$f":"SUM(AM27:AM30)","v":0}]
[null,null,null,null,null,null,null,null,null,null,null,null,null,null,null,null,null,null,null,null,null,null,null,null,null,null,null,null,null,null,null,null,null,{"$f":"A32","v":0},"日数(日)","勤務時間(h)"," 早退（h）","合計(h)","金額(円)"]
["残業",null,null,null,null,null,null,null,null,null,null,null,null,null,null,null,null,null,null,null,null,null,null,null,null,null,null,null,null,null,null,null,{"$f":"SUM(B33:AF33)","v":0},"　出勤",{"$f":"COUNTIF(B32:AF32,\"出\")","v":0},{"$f":"AI33*7.8","v":0},{"$f":"AG34","v":0},{"$f":"AJ33-AK33","v":0},{"$f":"ROUNDDOWN(AL33*請求書・納品書!$M$11,)","v":0}]
["遅・早(出)",null,null,null,null,null,null,null,null,null,null,null,null,null,null,null,null,null,null,null,null,null,null,null,null,null,null,null,null,null,null,null,{"$f":"SUM(B34:AF34)","v":0},"　残業",null,null,null,{"$f":"AG33","v":0},{"$f":"ROUNDDOWN(AL34*請求書・納品書!$M$12,)","v":0}]
["遅・早(公)",null,null,null,null,null,null,null,null,null,null,null,null,null,null,null,null,null,null,null,null,null,null,null,null,null,null,null,null,null,null,null,{"$f":"SUM(B35:AF35)","v":0},"　公出",{"$f":"COUNTIF(B32:AF32,\"公\")","v":0},{"$f":"AI35*7.8","v":0},{"$f":"AG35","v":0},{"$f":"AJ35-AK35","v":0},{"$f":"ROUNDDOWN(AL35*請求書・納品書!$M$13,)","v":0}]
["連続",null,null,null,null,null,null,null,null,null,null,null,null,null,null,null,null,null,null,null,null,null,null,null,null,null,null,null,null,null,null,null,{"$f":"SUM(B36:AF36)","v":0},"　連続",null,null,null,{"$f":"AG36","v":0},{"$f":"AL36*請求書・納品書!$M$14","v":0}]
[null,null,null,null,null,null,null,null,null,null,null,null,null,null,null,null,null,null,null,null,null,null,null,null,null,null,null,null,null,null,null,null,null,null,null,null,null,"合　計",{"$f":"SUM(AM33:AM36)","v":0}]
[null,null,null,null,null,null,null,null,null,null,null,null,null,null,null,null,null,null,null,null,null,null,null,null,null,null,null,null,null,null,null,null,null,{"$f":"A38","v":0},"日数(日)","勤務時間(h)"," 早退（h）","合計(h)","金額(円)"]
["残業",null,null,null,null,null,null,null,null,null,null,null,null,null,null,null,null,null,null,null,null,null,null,null,null,null,null,null,null,null,null,null,{"$f":"SUM(B39:AF39)","v":0},"　出勤",{"$f":"COUNTIF(B38:AF38,\"出\")","v":0},{"$f":"AI39*7.8","v":0},{"$f":"AG40","v":0},{"$f":"AJ39-AK39","v":0},{"$f":"ROUNDDOWN(AL39*請求書・納品書!$M$11,)","v":0}]
["遅・早(出)",null,null,null,null,null,null,null,null,null,null,null,null,null,null,null,null,null,null,null,null,null,null,null,null,null,null,null,null,null,null,null,{"$f":"SUM(B40:AF40)","v":0},"　残業",null,null,null,{"$f":"AG39","v":0},{"$f":"ROUNDDOWN(AL40*請求書・納品書!$M$12,)","v":0}]
["遅・早(公)",null,null,null,null,null,null,null,null,null,null,null,null,null,null,null,null,null,null,null,null,null,null,null,null,null,null,null,null,null,null,null,{"$f":"SUM(B41:AF41)","v":0},"　公出",{"$f":"COUNTIF(B38:AF38,\"公\")","v":0},{"$f":"AI41*7.8","v":0},{"$f":"AG41","v":0},{"$f":"AJ41-AK41","v":0},{"$f":"ROUNDDOWN(AL41*請求書・納品書!$M$13,)","v":0}]
["連続",null,null,null,null,null,null,null,null,null,null,null,null,null,null,null,null,null,null,null,null,null,null,null,null,null,null,null,null,null,null,null,{"$f":"SUM(B42:AF42)","v":0},"　連続",null,null,null,{"$f":"AG42","v":0},{"$f":"AL42*請求書・納品書!$M$14","v":0}]
[null,null,null,null,null,null,null,null,null,null,null,null,null,null,null,null,null,null,null,null,null,null,null,null,null,null,null,null,null,null,null,null,null,null,null,null,null,"合　計",{"$f":"SUM(AM39:AM42)","v":0}]
[null,null,null,null,null,null,null,null,null,null,null,null,null,null,null,null,null,null,null,null,null,null,null,null,null,null,null,null,null,null,null,null,null,{"$f":"A44","v":0},"日数(日)","勤務時間(h)"," 早退（h）","合計(h)","金額(円)"]
["残業",null,null,null,null,null,null,null,null,null,null,null,null,null,null,null,null,null,null,null,null,null,null,null,null,null,null,null,null,null,null,null,{"$f":"SUM(B45:AF45)","v":0},"　出勤",{"$f":"COUNTIF(B44:AF44,\"出\")","v":0},{"$f":"AI45*7.8","v":0},{"$f":"AG46","v":0},{"$f":"AJ45-AK45","v":0},{"$f":"ROUNDDOWN(AL45*請求書・納品書!$M$11,)","v":0}]
["遅・早(出)",null,null,null,null,null,null,null,null,null,null,null,null,null,null,null,null,null,null,null,null,null,null,null,null,null,null,null,null,null,null,null,{"$f":"SUM(B46:AF46)","v":0},"　残業",null,null,null,{"$f":"AG45","v":0},{"$f":"ROUNDDOWN(AL46*請求書・納品書!$M$12,)","v":0}]
["遅・早(公)",null,null,null,null,null,null,null,null,null,null,null,null,null,null,null,null,null,null,null,null,null,null,null,null,null,null,null,null,null,null,null,{"$f":"SUM(B47:AF47)","v":0},"　公出",{"$f":"COUNTIF(B44:AF44,\"公\")","v":0},{"$f":"AI47*7.8","v":0},{"$f":"AG47","v":0},{"$f":"AJ47-AK47","v":0},{"$f":"ROUNDDOWN(AL47*請求書・納品書!$M$13,)","v":0}]
["連続",null,null,null,null,null,null,null,null,null,null,null,null,null,null,null,null,null,null,null,null,null,null,null,null,null,null,null,null,null,null,null,{"$f":"SUM(B48:AF48)","v":0},"　連続",null,null,null,{"$f":"AG48","v":0},{"$f":"AL48*請求書・納品書!$M$14","v":0}]
[null,null,null,null,null,null,null,null,null,null,null,null,null,null,null,null,null,null,null,null,null,null,null,null,null,null,null,null,null,null,null,null,null,null,null,null,null,"合　計",{"$f":"SUM(AM45:AM48)","v":0},null,{"$f":"AM31+AM37+AM43+AM49","v":0}]
[null,null,null,null,null,null,null,null,null,null,null,null,null,null,null,null,null,null,null,null,null,null,null,null,null,null,null,null,null,null,null,null,null,{"$f":"A50","v":0},"日数(日)","勤務時間(h)"," 早退（h）","合計(h)","金額(円)"]
["残業",null,null,null,null,null,null,null,null,null,null,null,null,null,null,null,null,null,null,null,null,null,null,null,null,null,null,null,null,null,null,null,{"$f":"SUM(B51:AF51)","v":0},"　出勤",{"$f":"COUNTIF(B50:AF50,\"出\")","v":0},{"$f":"AI51*7.8","v":0},{"$f":"AG52","v":0},{"$f":"AJ51-AK51","v":0},{"$f":"ROUNDDOWN(AL51*請求書・納品書!$M$11,)","v":0}]
["遅・早(出)",null,null,null,null,null,null,null,null,null,null,null,null,null,null,null,null,null,null,null,null,null,null,null,null,null,null,null,null,null,null,null,{"$f":"SUM(B52:AF52)","v":0},"　残業",null,null,null,{"$f":"AG51","v":0},{"$f":"ROUNDDOWN(AL52*請求書・納品書!$M$12,)","v":0}]
["遅・早(公)",null,null,null,null,null,null,null,null,null,null,null,null,null,null,null,null,null,null,null,null,null,null,null,null,null,null,null,null,null,null,null,{"$f":"SUM(B53:AF53)","v":0},"　公出",{"$f":"COUNTIF(B50:AF50,\"公\")","v":0},{"$f":"AI53*7.8","v":0},{"$f":"AG53","v":0},{"$f":"AJ53-AK53","v":0},{"$f":"ROUNDDOWN(AL53*請求書・納品書!$M$13,)","v":0}]
["連続",null,null,null,null,null,null,null,null,null,null,null,null,null,null,null,null,null,null,null,null,null,null,null,null,null,null,null,null,null,null,null,{"$f":"SUM(B54:AF54)","v":0},"　連続",null,null,null,{"$f":"AG54","v":0},{"$f":"AL54*請求書・納品書!$M$14","v":0}]
[null,null,null,null,null,null,null,null,null,null,null,null,null,null,null,null,null,null,null,null,null,null,null,null,null,null,null,null,null,null,null,null,null,null,null,null,null,"合　計",{"$f":"SUM(AM51:AM54)","v":0}]
[null,null,null,null,null,null,null,null,null,null,null,null,null,null,null,null,null,null,null,null,null,null,null,null,null,null,null,null,null,null,null,null,null,{"$f":"A56","v":0},"日数(日)","勤務時間(h)"," 早退（h）","合計(h)","金額(円)"]
["残業",null,null,null,null,null,null,null,null,null,null,null,null,null,null,null,null,null,null,null,null,null,null,null,null,null,null,null,null,null,null,null,{"$f":"SUM(B57:AF57)","v":0},"　出勤",{"$f":"COUNTIF(B56:AF56,\"出\")","v":0},{"$f":"AI57*7.8","v":0},{"$f":"AG58","v":0},{"$f":"AJ57-AK57","v":0},{"$f":"ROUNDDOWN(AL57*請求書・納品書!$M$11,)","v":0}]
["遅・早(出)",null,null,null,null,null,null,null,null,null,null,null,null,null,null,null,null,null,null,null,null,null,null,null,null,null,null,null,null,null,null,null,{"$f":"SUM(B58:AF58)","v":0},"　残業",null,null,null,{"$f":"AG57","v":0},{"$f":"ROUNDDOWN(AL58*請求書・納品書!$M$12,)","v":0}]
["遅・早(公)",null,null,null,null,null,null,null,null,null,null,null,null,null,null,null,null,null,null,null,null,null,null,null,null,null,null,null,null,null,null,null,{"$f":"SUM(B59:AF59)","v":0},"　公出",{"$f":"COUNTIF(B56:AF56,\"公\")","v":0},{"$f":"AI59*7.8","v":0},{"$f":"AG59","v":0},{"$f":"AJ59-AK59","v":0},{"$f":"ROUNDDOWN(AL59*請求書・納品書!$M$13,)","v":0}]
["連続",null,null,null,null,null,null,null,null,null,null,null,null,null,null,null,null,null,null,null,null,null,null,null,null,null,null,null,null,null,null,null,{"$f":"SUM(B60:AF60)","v":0},"　連続",null,null,null,{"$f":"AG60","v":0},{"$f":"AL60*請求書・納品書!$M$14","v":0}]
[null,null,null,null,null,null,null,null,null,null,null,null,null,null,null,null,null,null,null,null,null,null,null,null,null,null,null,null,null,null,null,null,null,null,null,null,null,"合　計",{"$f":"SUM(AM57:AM60)","v":0}]
[null,null,null,null,null,null,null,null,null,null,null,null,null,null,null,null,null,null,null,null,null,null,null,null,null,null,null,null,null,null,null,null,null,{"$f":"A62","v":0},"日数(日)","勤務時間(h)"," 早退（h）","合計(h)","金額(円)"]
["残業",null,null,null,null,null,null,null,null,null,null,null,null,null,null,null,null,null,null,null,null,null,null,null,null,null,null,null,null,null,null,null,{"$f":"SUM(B63:AF63)","v":0},"　出勤",{"$f":"COUNTIF(B62:AF62,\"出\")","v":0},{"$f":"AI63*7.8","v":0},{"$f":"AG64","v":0},{"$f":"AJ63-AK63","v":0},{"$f":"ROUNDDOWN(AL63*請求書・納品書!$M$11,)","v":0}]
["遅・早(出)",null,null,null,null,null,null,null,null,null,null,null,null,null,null,null,null,null,null,null,null,null,null,null,null,null,null,null,null,null,null,null,{"$f":"SUM(B64:AF64)","v":0},"　残業",null,null,null,{"$f":"AG63","v":0},{"$f":"ROUNDDOWN(AL64*請求書・納品書!$M$12,)","v":0}]
["遅・早(公)",null,null,null,null,null,null,null,null,null,null,null,null,null,null,null,null,null,null,null,null,null,null,null,null,null,null,null,null,null,null,null,{"$f":"SUM(B65:AF65)","v":0},"　公出",{"$f":"COUNTIF(B62:AF62,\"公\")","v":0},{"$f":"AI65*7.8","v":0},{"$f":"AG65","v":0},{"$f":"AJ65-AK65","v":0},{"$f":"ROUNDDOWN(AL65*請求書・納品書!$M$13,)","v":0}]
["連続",null,null,null,null,null,null,null,null,null,null,null,null,null,null,null,null,null,null,null,null,null,null,null,null,null,null,null,null,null,null,null,{"$f":"SUM(B66:AF66)","v":0},"　連続",null,null,null,{"$f":"AG66","v":0},{"$f":"AL66*請求書・納品書!$M$14","v":0}]
[null,null,null,null,null,null,null,null,null,null,null,null,null,null,null,null,null,null,null,null,null,null,null,null,null,null,null,null,null,null,null,null,null,null,null,null,null,"合　計",{"$f":"SUM(AM63:AM66)","v":0}]
[null,null,null,null,null,null,null,null,null,null,null,null,null,null,null,null,null,null,null,null,null,null,null,null,null,null,null,null,null,null,null,null,null,{"$f":"A68","v":0},"日数(日)","勤務時間(h)"," 早退（h）","合計(h)","金額(円)"]
["残業",null,null,null,null,null,null,null,null,null,null,null,null,null,null,null,null,null,null,null,null,null,null,null,null,null,null,null,null,null,null,null,{"$f":"SUM(B69:AF69)","v":0},"　出勤",{"$f":"COUNTIF(B68:AF68,\"出\")","v":0},{"$f":"AI69*7.8","v":0},{"$f":"AG70","v":0},{"$f":"AJ69-AK69","v":0},{"$f":"ROUNDDOWN(AL69*請求書・納品書!$M$11,)","v":0}]
["遅・早(出)",null,null,null,null,null,null,null,null,null,null,null,null,null,null,null,null,null,null,null,null,null,null,null,null,null,null,null,null,null,null,null,{"$f":"SUM(B70:AF70)","v":0},"　残業",null,null,null,{"$f":"AG69","v":0},{"$f":"ROUNDDOWN(AL70*請求書・納品書!$M$12,)","v":0}]
["遅・早(公)",null,null,null,null,null,null,null,null,null,null,null,null,null,null,null,null,null,null,null,null,null,null,null,null,null,null,null,null,null,null,null,{"$f":"SUM(B71:AF71)","v":0},"　公出",{"$f":"COUNTIF(B68:AF68,\"公\")","v":0},{"$f":"AI71*7.8","v":0},{"$f":"AG71","v":0},{"$f":"AJ71-AK71","v":0},{"$f":"ROUNDDOWN(AL71*請求書・納品書!$M$13,)","v":0}]
["連続",null,null,null,null,null,null,null,null,null,null,null,null,null,null,null,null,null,null,null,null,null,null,null,null,null,null,null,null,null,null,null,{"$f":"SUM(B72:AF72)","v":0},"　連続",null,null,null,{"$f":"AG72","v":0},{"$f":"AL72*請求書・納品書!$M$14","v":0}]
[null,null,null,null,null,null,null,null,null,null,null,null,null,null,null,null,null,null,null,null,null,null,null,null,null,null,null,null,null,null,null,null,null,null,null,null,null,"合　計",{"$f":"SUM(AM69:AM72)","v":0},null,{"$f":"AM55+AM61+AM67+AM73","v":0}]
[null,null,null,null,null,null,null,null,null,null,null,null,null,null,null,null,null,null,null,null,null,null,null,null,null,null,null,null,null,null,null,null,null,{"$f":"A74","v":0},"日数(日)","勤務時間(h)"," 早退（h）","合計(h)","金額(円)"]
["残業",null,null,null,null,null,null,null,null,null,null,null,null,null,null,null,null,null,null,null,null,null,null,null,null,null,null,null,null,null,null,null,{"$f":"SUM(B75:AF75)","v":0},"　出勤",{"$f":"COUNTIF(B74:AF74,\"出\")","v":0},{"$f":"AI75*7.8","v":0},{"$f":"AG76","v":0},{"$f":"AJ75-AK75","v":0},{"$f":"ROUNDDOWN(AL75*請求書・納品書!$M$11,)","v":0}]
["遅・早(出)",null,null,null,null,null,null,null,null,null,null,null,null,null,null,null,null,null,null,null,null,null,null,null,null,null,null,null,null,null,null,null,{"$f":"SUM(B76:AF76)","v":0},"　残業",null,null,null,{"$f":"AG75","v":0},{"$f":"ROUNDDOWN(AL76*請求書・納品書!$M$12,)","v":0}]
["遅・早(公)",null,null,null,null,null,null,null,null,null,null,null,null,null,null,null,null,null,null,null,null,null,null,null,null,null,null,null,null,null,null,null,{"$f":"SUM(B77:AF77)","v":0},"　公出",{"$f":"COUNTIF(B74:AF74,\"公\")","v":0},{"$f":"AI77*7.8","v":0},{"$f":"AG77","v":0},{"$f":"AJ77-AK77","v":0},{"$f":"ROUNDDOWN(AL77*請求書・納品書!$M$13,)","v":0}]
["連続",null,null,null,null,null,null,null,null,null,null,null,null,null,null,null,null,null,null,null,null,null,null,null,null,null,null,null,null,null,null,null,{"$f":"SUM(B78:AF78)","v":0},"　連続",null,null,null,{"$f":"AG78","v":0},{"$f":"AL78*請求書・納品書!$M$14","v":0}]
[null,null,null,null,null,null,null,null,null,null,null,null,null,null,null,null,null,null,null,null,null,null,null,null,null,null,null,null,null,null,null,null,null,null,null,null,null,"合　計",{"$f":"SUM(AM75:AM78)","v":0}]
[null,null,null,null,null,null,null,null,null,null,null,null,null,null,null,null,null,null,null,null,null,null,null,null,null,null,null,null,null,null,null,null,null,{"$f":"A80","v":0},"日数(日)","勤務時間(h)"," 早退（h）","合計(h)","金額(円)"]
["残業",null,null,null,null,null,null,null,null,null,null,null,null,null,null,null,null,null,null,null,null,null,null,null,null,null,null,null,null,null,null,null,{"$f":"SUM(B81:AF81)","v":0},"　出勤",{"$f":"COUNTIF(B80:AF80,\"出\")","v":0},{"$f":"AI81*7.8","v":0},{"$f":"AG82","v":0},{"$f":"AJ81-AK81","v":0},{"$f":"ROUNDDOWN(AL81*請求書・納品書!$M$11,)","v":0}]
["遅・早(出)",null,null,null,null,null,null,null,null,null,null,null,null,null,null,null,null,null,null,null,null,null,null,null,null,null,null,null,null,null,null,null,{"$f":"SUM(B82:AF82)","v":0},"　残業",null,null,null,{"$f":"AG81","v":0},{"$f":"ROUNDDOWN(AL82*請求書・納品書!$M$12,)","v":0}]
["遅・早(公)",null,null,null,null,null,null,null,null,null,null,null,null,null,null,null,null,null,null,null,null,null,null,null,null,null,null,null,null,null,null,null,{"$f":"SUM(B83:AF83)","v":0},"　公出",{"$f":"COUNTIF(B80:AF80,\"公\")","v":0},{"$f":"AI83*7.8","v":0},{"$f":"AG83","v":0},{"$f":"AJ83-AK83","v":0},{"$f":"ROUNDDOWN(AL83*請求書・納品書!$M$13,)","v":0}]
["連続",null,null,null,null,null,null,null,null,null,null,null,null,null,null,null,null,null,null,null,null,null,null,null,null,null,null,null,null,null,null,null,{"$f":"SUM(B84:AF84)","v":0},"　連続",null,null,null,{"$f":"AG84","v":0},{"$f":"AL84*請求書・納品書!$M$14","v":0}]
[null,null,null,null,null,null,null,null,null,null,null,null,null,null,null,null,null,null,null,null,null,null,null,null,null,null,null,null,null,null,null,null,null,null,null,null,null,"合　計",{"$f":"SUM(AM81:AM84)","v":0}]
[null,null,null,null,null,null,null,null,null,null,null,null,null,null,null,null,null,null,null,null,null,null,null,null,null,null,null,null,null,null,null,null,null,{"$f":"A86","v":0},"日数(日)","勤務時間(h)"," 早退（h）","合計(h)","金額(円)"]
["残業",null,null,null,null,null,null,null,null,null,null,null,null,null,null,null,null,null,null,null,null,null,null,null,null,null,null,null,null,null,null,null,{"$f":"SUM(B87:AF87)","v":0},"　出勤",{"$f":"COUNTIF(B86:AF86,\"出\")","v":0},{"$f":"AI87*7.8","v":0},{"$f":"AG88","v":0},{"$f":"AJ87-AK87","v":0},{"$f":"ROUNDDOWN(AL87*請求書・納品書!$M$11,)","v":0}]
["遅・早(出)",null,null,null,null,null,null,null,null,null,null,null,null,null,null,null,null,null,null,null,null,null,null,null,null,null,null,null,null,null,null,null,{"$f":"SUM(B88:AF88)","v":0},"　残業",null,null,null,{"$f":"AG87","v":0},{"$f":"ROUNDDOWN(AL88*請求書・納品書!$M$12,)","v":0}]
["遅・早(公)",null,null,null,null,null,null,null,null,null,null,null,null,null,null,null,null,null,null,null,null,null,null,null,null,null,null,null,null,null,null,null,{"$f":"SUM(B89:AF89)","v":0},"　公出",{"$f":"COUNTIF(B86:AF86,\"公\")","v":0},{"$f":"AI89*7.8","v":0},{"$f":"AG89","v":0},{"$f":"AJ89-AK89","v":0},{"$f":"ROUNDDOWN(AL89*請求書・納品書!$M$13,)","v":0}]
["連続",null,null,null,null,null,null,null,null,null,null,null,null,null,null,null,null,null,null,null,null,null,null,null,null,null,null,null,null,null,null,null,{"$f":"SUM(B90:AF90)","v":0},"　連続",null,null,null,{"$f":"AG90","v":0},{"$f":"AL90*請求書・納品書!$M$14","v":0}]
[null,null,null,null,null,null,null,null,null,null,null,null,null,null,null,null,null,null,null,null,null,null,null,null,null,null,null,null,null,null,null,null,null,null,null,null,null,"合　計",{"$f":"SUM(AM87:AM90)","v":0}]
[null,null,null,null,null,null,null,null,null,null,null,null,null,null,null,null,null,null,null,null,null,null,null,null,null,null,null,null,null,null,null,null,null,{"$f":"A92","v":0},"日数(日)","勤務時間(h)"," 早退（h）","合計(h)","金額(円)"]
["残業",null,null,null,null,null,null,null,null,null,null,null,null,null,null,null,null,null,null,null,null,null,null,null,null,null,null,null,null,null,null,null,{"$f":"SUM(B93:AF93)","v":0},"　出勤",{"$f":"COUNTIF(B92:AF92,\"出\")","v":0},{"$f":"AI93*7.8","v":0},{"$f":"AG94","v":0},{"$f":"AJ93-AK93","v":0},{"$f":"ROUNDDOWN(AL93*請求書・納品書!$M$11,)","v":0}]
["遅・早(出)",null,null,null,null,null,null,null,null,null,null,null,null,null,null,null,null,null,null,null,null,null,null,null,null,null,null,null,null,null,null,null,{"$f":"SUM(B94:AF94)","v":0},"　残業",null,null,null,{"$f":"AG93","v":0},{"$f":"ROUNDDOWN(AL94*請求書・納品書!$M$12,)","v":0}]
["遅・早(公)",null,null,null,null,null,null,null,null,null,null,null,null,null,null,null,null,null,null,null,null,null,null,null,null,null,null,null,null,null,null,null,{"$f":"SUM(B95:AF95)","v":0},"　公出",{"$f":"COUNTIF(B92:AF92,\"公\")","v":0},{"$f":"AI95*7.8","v":0},{"$f":"AG95","v":0},{"$f":"AJ95-AK95","v":0},{"$f":"ROUNDDOWN(AL95*請求書・納品書!$M$13,)","v":0}]
["連続",null,null,null,null,null,null,null,null,null,null,null,null,null,null,null,null,null,null,null,null,null,null,null,null,null,null,null,null,null,null,null,{"$f":"SUM(B96:AF96)","v":0},"　連続",null,null,null,{"$f":"AG96","v":0},{"$f":"AL96*請求書・納品書!$M$14","v":0}]
[null,null,null,null,null,null,null,null,null,null,null,null,null,null,null,null,null,null,null,null,null,null,null,null,null,null,null,null,null,null,null,null,null,null,null,null,null,"合　計",{"$f":"SUM(AM93:AM96)","v":0},null,{"$f":"AM79+AM85+AM91+AM97","v":0}]
[null,null,null,null,null,null,null,null,null,null,null,null,null,null,null,null,null,null,null,null,null,null,null,null,null,null,null,null,null,null,null,null,null,{"$f":"A98","v":0},"日数(日)","勤務時間(h)"," 早退（h）","合計(h)","金額(円)"]
["残業",null,null,null,null,null,null,null,null,null,null,null,null,null,null,null,null,null,null,null,null,null,null,null,null,null,null,null,null,null,null,null,{"$f":"SUM(B99:AF99)","v":0},"　出勤",{"$f":"COUNTIF(B98:AF98,\"出\")","v":0},{"$f":"AI99*7.8","v":0},{"$f":"AG100","v":0},{"$f":"AJ99-AK99","v":0},{"$f":"ROUNDDOWN(AL99*請求書・納品書!$M$11,)","v":0}]
["遅・早(出)",null,null,null,null,null,null,null,null,null,null,null,null,null,null,null,null,null,null,null,null,null,null,null,null,null,null,null,null,null,null,null,{"$f":"SUM(B100:AF100)","v":0},"　残業",null,null,null,{"$f":"AG99","v":0},{"$f":"ROUNDDOWN(AL100*請求書・納品書!$M$12,)","v":0}]
["遅・早(公)",null,null,null,null,null,null,null,null,null,null,null,null,null,null,null,null,null,null,null,null,null,null,null,null,null,null,null,null,null,null,null,{"$f":"SUM(B101:AF101)","v":0},"　公出",{"$f":"COUNTIF(B98:AF98,\"公\")","v":0},{"$f":"AI101*7.8","v":0},{"$f":"AG101","v":0},{"$f":"AJ101-AK101","v":0},{"$f":"ROUNDDOWN(AL101*請求書・納品書!$M$13,)","v":0}]
["連続",null,null,null,null,null,null,null,null,null,null,null,null,null,null,null,null,null,null,null,null,null,null,null,null,null,null,null,null,null,null,null,{"$f":"SUM(B102:AF102)","v":0},"　連続",null,null,null,{"$f":"AG102","v":0},{"$f":"AL102*請求書・納品書!$M$14","v":0}]
[null,null,null,null,null,null,null,null,null,null,null,null,null,null,null,null,null,null,null,null,null,null,null,null,null,null,null,null,null,null,null,null,null,null,null,null,null,"合　計",{"$f":"SUM(AM99:AM102)","v":0}]
[null,null,null,null,null,null,null,null,null,null,null,null,null,null,null,null,null,null,null,null,null,null,null,null,null,null,null,null,null,null,null,null,null,{"$f":"A104","v":0},"日数(日)","勤務時間(h)"," 早退（h）","合計(h)","金額(円)"]
["残業",null,null,null,null,null,null,null,null,null,null,null,null,null,null,null,null,null,null,null,null,null,null,null,null,null,null,null,null,null,null,null,{"$f":"SUM(B105:AF105)","v":0},"　出勤",{"$f":"COUNTIF(B104:AF104,\"出\")","v":0},{"$f":"AI105*7.8","v":0},{"$f":"AG106","v":0},{"$f":"AJ105-AK105","v":0},{"$f":"ROUNDDOWN(AL105*請求書・納品書!$M$11,)","v":0}]
["遅・早(出)",null,null,null,null,null,null,null,null,null,null,null,null,null,null,null,null,null,null,null,null,null,null,null,null,null,null,null,null,null,null,null,{"$f":"SUM(B106:AF106)","v":0},"　残業",null,null,null,{"$f":"AG105","v":0},{"$f":"ROUNDDOWN(AL106*請求書・納品書!$M$12,)","v":0}]
["遅・早(公)",null,null,null,null,null,null,null,null,null,null,null,null,null,null,null,null,null,null,null,null,null,null,null,null,null,null,null,null,null,null,null,{"$f":"SUM(B107:AF107)","v":0},"　公出",{"$f":"COUNTIF(B104:AF104,\"公\")","v":0},{"$f":"AI107*7.8","v":0},{"$f":"AG107","v":0},{"$f":"AJ107-AK107","v":0},{"$f":"ROUNDDOWN(AL107*請求書・納品書!$M$13,)","v":0}]
["連続",null,null,null,null,null,null,null,null,null,null,null,null,null,null,null,null,null,null,null,null,null,null,null,null,null,null,null,null,null,null,null,{"$f":"SUM(B108:AF108)","v":0},"　連続",null,null,null,{"$f":"AG108","v":0},{"$f":"AL108*請求書・納品書!$M$14","v":0}]
[null,null,null,null,null,null,null,null,null,null,null,null,null,null,null,null,null,null,null,null,null,null,null,null,null,null,null,null,null,null,null,null,null,null,null,null,null,"合　計",{"$f":"SUM(AM105:AM108)","v":0}]
[null,null,null,null,null,null,null,null,null,null,null,null,null,null,null,null,null,null,null,null,null,null,null,null,null,null,null,null,null,null,null,null,null,{"$f":"A110","v":0},"日数(日)","勤務時間(h)"," 早退（h）","合計(h)","金額(円)"]
["残業",null,null,null,null,null,null,null,null,null,null,null,null,null,null,null,null,null,null,null,null,null,null,null,null,null,null,null,null,null,null,null,{"$f":"SUM(B111:AF111)","v":0},"　出勤",{"$f":"COUNTIF(B110:AF110,\"出\")","v":0},{"$f":"AI111*7.8","v":0},{"$f":"AG112","v":0},{"$f":"AJ111-AK111","v":0},{"$f":"ROUNDDOWN(AL111*請求書・納品書!$M$11,)","v":0}]
["遅・早(出)",null,null,null,null,null,null,null,null,null,null,null,null,null,null,null,null,null,null,null,null,null,null,null,null,null,null,null,null,null,null,null,{"$f":"SUM(B112:AF112)","v":0},"　残業",null,null,null,{"$f":"AG111","v":0},{"$f":"ROUNDDOWN(AL112*請求書・納品書!$M$12,)","v":0}]
["遅・早(公)",null,null,null,null,null,null,null,null,null,null,null,null,null,null,null,null,null,null,null,null,null,null,null,null,null,null,null,null,null,null,null,{"$f":"SUM(B113:AF113)","v":0},"　公出",{"$f":"COUNTIF(B110:AF110,\"公\")","v":0},{"$f":"AI113*7.8","v":0},{"$f":"AG113","v":0},{"$f":"AJ113-AK113","v":0},{"$f":"ROUNDDOWN(AL113*請求書・納品書!$M$13,)","v":0}]
["連続",null,null,null,null,null,null,null,null,null,null,null,null,null,null,null,null,null,null,null,null,null,null,null,null,null,null,null,null,null,null,null,{"$f":"SUM(B114:AF114)","v":0},"　連続",null,null,null,{"$f":"AG114","v":0},{"$f":"AL114*請求書・納品書!$M$14","v":0}]
[null,null,null,null,null,null,null,null,null,null,null,null,null,null,null,null,null,null,null,null,null,null,null,null,null,null,null,null,null,null,null,null,null,null,null,null,null,"合　計",{"$f":"SUM(AM111:AM114)","v":0}]
[null,null,null,null,null,null,null,null,null,null,null,null,null,null,null,null,null,null,null,null,null,null,null,null,null,null,null,null,null,null,null,null,null,{"$f":"A116","v":0},"日数(日)","勤務時間(h)"," 早退（h）","合計(h)","金額(円)"]
["残業",null,null,null,null,null,null,null,null,null,null,null,null,null,null,null,null,null,null,null,null,null,null,null,null,null,null,null,null,null,null,null,{"$f":"SUM(B117:AF117)","v":0},"　出勤",{"$f":"COUNTIF(B116:AF116,\"出\")","v":0},{"$f":"AI117*7.8","v":0},{"$f":"AG118","v":0},{"$f":"AJ117-AK117","v":0},{"$f":"ROUNDDOWN(AL117*請求書・納品書!$M$11,)","v":0}]
["遅・早(出)",null,null,null,null,null,null,null,null,null,null,null,null,null,null,null,null,null,null,null,null,null,null,null,null,null,null,null,null,null,null,null,{"$f":"SUM(B118:AF118)","v":0},"　残業",null,null,null,{"$f":"AG117","v":0},{"$f":"ROUNDDOWN(AL118*請求書・納品書!$M$12,)","v":0}]
["遅・早(公)",null,null,null,null,null,null,null,null,null,null,null,null,null,null,null,null,null,null,null,null,null,null,null,null,null,null,null,null,null,null,null,{"$f":"SUM(B119:AF119)","v":0},"　公出",{"$f":"COUNTIF(B116:AF116,\"公\")","v":0},{"$f":"AI119*7.8","v":0},{"$f":"AG119","v":0},{"$f":"AJ119-AK119","v":0},{"$f":"ROUNDDOWN(AL119*請求書・納品書!$M$13,)","v":0}]
["連続",null,null,null,null,null,null,null,null,null,null,null,null,null,null,null,null,null,null,null,null,null,null,null,null,null,null,null,null,null,null,null,{"$f":"SUM(B120:AF120)","v":0},"　連続",null,null,null,{"$f":"AG120","v":0},{"$f":"AL120*請求書・納品書!$M$14","v":0}]
[null,null,null,null,null,null,null,null,null,null,null,null,null,null,null,null,null,null,null,null,null,null,null,null,null,null,null,null,null,null,null,null,null,null,null,null,null,"合　計",{"$f":"SUM(AM117:AM120)","v":0},null,{"$f":"AM103+AM109+AM115+AM121","v":0}]
[null,null,null,null,null,null,null,null,null,null,null,null,null,null,null,null,null,null,null,null,null,null,null,null,null,null,null,null,null,null,null,null,null,{"$f":"A122","v":0},"日数(日)","勤務時間(h)"," 早退（h）","合計(h)","金額(円)"]
["残業",null,null,null,null,null,null,null,null,null,null,null,null,null,null,null,null,null,null,null,null,null,null,null,null,null,null,null,null,null,null,null,{"$f":"SUM(B123:AF123)","v":0},"　出勤",{"$f":"COUNTIF(B122:AF122,\"出\")","v":0},{"$f":"AI123*7.8","v":0},{"$f":"AG124","v":0},{"$f":"AJ123-AK123","v":0},{"$f":"ROUNDDOWN(AL123*請求書・納品書!$M$11,)","v":0}]
["遅・早(出)",null,null,null,null,null,null,null,null,null,null,null,null,null,null,null,null,null,null,null,null,null,null,null,null,null,null,null,null,null,null,null,{"$f":"SUM(B124:AF124)","v":0},"　残業",null,null,null,{"$f":"AG123","v":0},{"$f":"ROUNDDOWN(AL124*請求書・納品書!$M$12,)","v":0}]
["遅・早(公)",null,null,null,null,null,null,null,null,null,null,null,null,null,null,null,null,null,null,null,null,null,null,null,null,null,null,null,null,null,null,null,{"$f":"SUM(B125:AF125)","v":0},"　公出",{"$f":"COUNTIF(B122:AF122,\"公\")","v":0},{"$f":"AI125*7.8","v":0},{"$f":"AG125","v":0},{"$f":"AJ125-AK125","v":0},{"$f":"ROUNDDOWN(AL125*請求書・納品書!$M$13,)","v":0}]
["連続",null,null,null,null,null,null,null,null,null,null,null,null,null,null,null,null,null,null,null,null,null,null,null,null,null,null,null,null,null,null,null,{"$f":"SUM(B126:AF126)","v":0},"　連続",null,null,null,{"$f":"AG126","v":0},{"$f":"AL126*請求書・納品書!$M$14","v":0}]
[null,null,null,null,null,null,null,null,null,null,null,null,null,null,null,null,null,null,null,null,null,null,null,null,null,null,null,null,null,null,null,null,null,null,null,null,null,"合　計",{"$f":"SUM(AM123:AM126)","v":0}]
[null,null,null,null,null,null,null,null,null,null,null,null,null,null,null,null,null,null,null,null,null,null,null,null,null,null,null,null,null,null,null,null,null,{"$f":"A128","v":0},"日数(日)","勤務時間(h)"," 早退（h）","合計(h)","金額(円)"]
["残業",null,null,null,null,null,null,null,null,null,null,null,null,null,null,null,null,null,null,null,null,null,null,null,null,null,null,null,null,null,null,null,{"$f":"SUM(B129:AF129)","v":0},"　出勤",{"$f":"COUNTIF(B128:AF128,\"出\")","v":0},{"$f":"AI129*7.8","v":0},{"$f":"AG130","v":0},{"$f":"AJ129-AK129","v":0},{"$f":"ROUNDDOWN(AL129*請求書・納品書!$M$11,)","v":0}]
["遅・早(出)",null,null,null,null,null,null,null,null,null,null,null,null,null,null,null,null,null,null,null,null,null,null,null,null,null,null,null,null,null,null,null,{"$f":"SUM(B130:AF130)","v":0},"　残業",null,null,null,{"$f":"AG129","v":0},{"$f":"ROUNDDOWN(AL130*請求書・納品書!$M$12,)","v":0}]
["遅・早(公)",null,null,null,null,null,null,null,null,null,null,null,null,null,null,null,null,null,null,null,null,null,null,null,null,null,null,null,null,null,null,null,{"$f":"SUM(B131:AF131)","v":0},"　公出",{"$f":"COUNTIF(B128:AF128,\"公\")","v":0},{"$f":"AI131*7.8","v":0},{"$f":"AG131","v":0},{"$f":"AJ131-AK131","v":0},{"$f":"ROUNDDOWN(AL131*請求書・納品書!$M$13,)","v":0}]
["連続",null,null,null,null,null,null,null,null,null,null,null,null,null,null,null,null,null,null,null,null,null,null,null,null,null,null,null,null,null,null,null,{"$f":"SUM(B132:AF132)","v":0},"　連続",null,null,null,{"$f":"AG132","v":0},{"$f":"AL132*請求書・納品書!$M$14","v":0}]
[null,null,null,null,null,null,null,null,null,null,null,null,null,null,null,null,null,null,null,null,null,null,null,null,null,null,null,null,null,null,null,null,null,null,null,null,null,"合　計",{"$f":"SUM(AM129:AM132)","v":0}]
[null,null,null,null,null,null,null,null,null,null,null,null,null,null,null,null,null,null,null,null,null,null,null,null,null,null,null,null,null,null,null,null,null,{"$f":"A134","v":0},"日数(日)","勤務時間(h)"," 早退（h）","合計(h)","金額(円)"]
["残業",null,null,null,null,null,null,null,null,null,null,null,null,null,null,null,null,null,null,null,null,null,null,null,null,null,null,null,null,null,null,null,{"$f":"SUM(B135:AF135)","v":0},"　出勤",{"$f":"COUNTIF(B134:AF134,\"出\")","v":0},{"$f":"AI135*7.8","v":0},{"$f":"AG136","v":0},{"$f":"AJ135-AK135","v":0},{"$f":"ROUNDDOWN(AL135*請求書・納品書!$M$11,)","v":0}]
["遅・早(出)",null,null,null,null,null,null,null,null,null,null,null,null,null,null,null,null,null,null,null,null,null,null,null,null,null,null,null,null,null,null,null,{"$f":"SUM(B136:AF136)","v":0},"　残業",null,null,null,{"$f":"AG135","v":0},{"$f":"ROUNDDOWN(AL136*請求書・納品書!$M$12,)","v":0}]
["遅・早(公)",null,null,null,null,null,null,null,null,null,null,null,null,null,null,null,null,null,null,null,null,null,null,null,null,null,null,null,null,null,null,null,{"$f":"SUM(B137:AF137)","v":0},"　公出",{"$f":"COUNTIF(B134:AF134,\"公\")","v":0},{"$f":"AI137*7.8","v":0},{"$f":"AG137","v":0},{"$f":"AJ137-AK137","v":0},{"$f":"ROUNDDOWN(AL137*請求書・納品書!$M$13,)","v":0}]
["連続",null,null,null,null,null,null,null,null,null,null,null,null,null,null,null,null,null,null,null,null,null,null,null,null,null,null,null,null,null,null,null,{"$f":"SUM(B138:AF138)","v":0},"　連続",null,null,null,{"$f":"AG138","v":0},{"$f":"AL138*請求書・納品書!$M$14","v":0}]
[null,null,null,null,null,null,null,null,null,null,null,null,null,null,null,null,null,null,null,null,null,null,null,null,null,null,null,null,null,null,null,null,null,null,null,null,null,"合　計",{"$f":"SUM(AM135:AM138)","v":0}]
[null,null,null,null,null,null,null,null,null,null,null,null,null,null,null,null,null,null,null,null,null,null,null,null,null,null,null,null,null,null,null,null,null,{"$f":"A140","v":0},"日数(日)","勤務時間(h)"," 早退（h）","合計(h)","金額(円)"]
["残業",null,null,null,null,null,null,null,null,null,null,null,null,null,null,null,null,null,null,null,null,null,null,null,null,null,null,null,null,null,null,null,{"$f":"SUM(B141:AF141)","v":0},"　出勤",{"$f":"COUNTIF(B140:AF140,\"出\")","v":0},{"$f":"AI141*7.8","v":0},{"$f":"AG142","v":0},{"$f":"AJ141-AK141","v":0},{"$f":"ROUNDDOWN(AL141*請求書・納品書!$M$11,)","v":0}]
["遅・早(出)",null,null,null,null,null,null,null,null,null,null,null,null,null,null,null,null,null,null,null,null,null,null,null,null,null,null,null,null,null,null,null,{"$f":"SUM(B142:AF142)","v":0},"　残業",null,null,null,{"$f":"AG141","v":0},{"$f":"ROUNDDOWN(AL142*請求書・納品書!$M$12,)","v":0}]
["遅・早(公)",null,null,null,null,null,null,null,null,null,null,null,null,null,null,null,null,null,null,null,null,null,null,null,null,null,null,null,null,null,null,null,{"$f":"SUM(B143:AF143)","v":0},"　公出",{"$f":"COUNTIF(B140:AF140,\"公\")","v":0},{"$f":"AI143*7.8","v":0},{"$f":"AG143","v":0},{"$f":"AJ143-AK143","v":0},{"$f":"ROUNDDOWN(AL143*請求書・納品書!$M$13,)","v":0}]
["連続",null,null,null,null,null,null,null,null,null,null,null,null,null,null,null,null,null,null,null,null,null,null,null,null,null,null,null,null,null,null,null,{"$f":"SUM(B144:AF144)","v":0},"　連続",null,null,null,{"$f":"AG144","v":0},{"$f":"AL144*請求書・納品書!$M$14","v":0}]
[null,null,null,null,null,null,null,null,null,null,null,null,null,null,null,null,null,null,null,null,null,null,null,null,null,null,null,null,null,null,null,null,null,null,null,null,null,"合　計",{"$f":"SUM(AM141:AM144)","v":0},null,{"$f":"AM127+AM133+AM139+AM145","v":0}]
[null,null,null,null,null,null,null,null,null,null,null,null,null,null,null,null,null,null,null,null,null,null,null,null,null,null,null,null,null,null,null,null,null,{"$f":"A146","v":0},"日数(日)","勤務時間(h)"," 早退（h）","合計(h)","金額(円)"]
["残業",null,null,null,null,null,null,null,null,null,null,null,null,null,null,null,null,null,null,null,null,null,null,null,null,null,null,null,null,null,null,null,{"$f":"SUM(B147:AF147)","v":0},"　出勤",{"$f":"COUNTIF(B146:AF146,\"出\")","v":0},{"$f":"AI147*7.8","v":0},{"$f":"AG148","v":0},{"$f":"AJ147-AK147","v":0},{"$f":"ROUNDDOWN(AL147*請求書・納品書!$M$11,)","v":0}]
["遅・早(出)",null,null,null,null,null,null,null,null,null,null,null,null,null,null,null,null,null,null,null,null,null,null,null,null,null,null,null,null,null,null,null,{"$f":"SUM(B148:AF148)","v":0},"　残業",null,null,null,{"$f":"AG147","v":0},{"$f":"ROUNDDOWN(AL148*請求書・納品書!$M$12,)","v":0}]
["遅・早(公)",null,null,null,null,null,null,null,null,null,null,null,null,null,null,null,null,null,null,null,null,null,null,null,null,null,null,null,null,null,null,null,{"$f":"SUM(B149:AF149)","v":0},"　公出",{"$f":"COUNTIF(B146:AF146,\"公\")","v":0},{"$f":"AI149*7.8","v":0},{"$f":"AG149","v":0},{"$f":"AJ149-AK149","v":0},{"$f":"ROUNDDOWN(AL149*請求書・納品書!$M$13,)","v":0}]
["連続",null,null,null,null,null,null,null,null,null,null,null,null,null,null,null,null,null,null,null,null,null,null,null,null,null,null,null,null,null,null,null,{"$f":"SUM(B150:AF150)","v":0},"　連続",null,null,null,{"$f":"AG150","v":0},{"$f":"AL150*請求書・納品書!$M$14","v":0}]
[null,null,null,null,null,null,null,null,null,null,null,null,null,null,null,null,null,null,null,null,null,null,null,null,null,null,null,null,null,null,null,null,null,null,null,null,null,"合　計",{"$f":"SUM(AM147:AM150)","v":0}]
[null,null,null,null,null,null,null,null,null,null,null,null,null,null,null,null,null,null,null,null,null,null,null,null,null,null,null,null,null,null,null,null,null,{"$f":"A152","v":0},"日数(日)","勤務時間(h)"," 早退（h）","合計(h)","金額(円)"]
["残業",null,null,null,null,null,null,null,null,null,null,null,null,null,null,null,null,null,null,null,null,null,null,null,null,null,null,null,null,null,null,null,{"$f":"SUM(B153:AF153)","v":0},"　出勤",{"$f":"COUNTIF(B152:AF152,\"出\")","v":0},{"$f":"AI153*7.8","v":0},{"$f":"AG154","v":0},{"$f":"AJ153-AK153","v":0},{"$f":"ROUNDDOWN(AL153*請求書・納品書!$M$11,)","v":0}]
["遅・早(出)",null,null,null,null,null,null,null,null,null,null,null,null,null,null,null,null,null,null,null,null,null,null,null,null,null,null,null,null,null,null,null,{"$f":"SUM(B154:AF154)","v":0},"　残業",null,null,null,{"$f":"AG153","v":0},{"$f":"ROUNDDOWN(AL154*請求書・納品書!$M$12,)","v":0}]
["遅・早(公)",null,null,null,null,null,null,null,null,null,null,null,null,null,null,null,null,null,null,null,null,null,null,null,null,null,null,null,null,null,null,null,{"$f":"SUM(B155:AF155)","v":0},"　公出",{"$f":"COUNTIF(B152:AF152,\"公\")","v":0},{"$f":"AI155*7.8","v":0},{"$f":"AG155","v":0},{"$f":"AJ155-AK155","v":0},{"$f":"ROUNDDOWN(AL155*請求書・納品書!$M$13,)","v":0}]
["連続",null,null,null,null,null,null,null,null,null,null,null,null,null,null,null,null,null,null,null,null,null,null,null,null,null,null,null,null,null,null,null,{"$f":"SUM(B156:AF156)","v":0},"　連続",null,null,null,{"$f":"AG156","v":0},{"$f":"AL156*請求書・納品書!$M$14","v":0}]
[null,null,null,null,null,null,null,null,null,null,null,null,null,null,null,null,null,null,null,null,null,null,null,null,null,null,null,null,null,null,null,null,null,null,null,null,null,"合　計",{"$f":"SUM(AM153:AM156)","v":0}]
[null,null,null,null,null,null,null,null,null,null,null,null,null,null,null,null,null,null,null,null,null,null,null,null,null,null,null,null,null,null,null,null,null,{"$f":"A158","v":0},"日数(日)","勤務時間(h)"," 早退（h）","合計(h)","金額(円)"]
["残業",null,null,null,null,null,null,null,null,null,null,null,null,null,null,null,null,null,null,null,null,null,null,null,null,null,null,null,null,null,null,null,{"$f":"SUM(B159:AF159)","v":0},"　出勤",{"$f":"COUNTIF(B158:AF158,\"出\")","v":0},{"$f":"AI159*7.8","v":0},{"$f":"AG160","v":0},{"$f":"AJ159-AK159","v":0},{"$f":"ROUNDDOWN(AL159*請求書・納品書!$M$11,)","v":0}]
["遅・早(出)",null,null,null,null,null,null,null,null,null,null,null,null,null,null,null,null,null,null,null,null,null,null,null,null,null,null,null,null,null,null,null,{"$f":"SUM(B160:AF160)","v":0},"　残業",null,null,null,{"$f":"AG159","v":0},{"$f":"ROUNDDOWN(AL160*請求書・納品書!$M$12,)","v":0}]
["遅・早(公)",null,null,null,null,null,null,null,null,null,null,null,null,null,null,null,null,null,null,null,null,null,null,null,null,null,null,null,null,null,null,null,{"$f":"SUM(B161:AF161)","v":0},"　公出",{"$f":"COUNTIF(B158:AF158,\"公\")","v":0},{"$f":"AI161*7.8","v":0},{"$f":"AG161","v":0},{"$f":"AJ161-AK161","v":0},{"$f":"ROUNDDOWN(AL161*請求書・納品書!$M$13,)","v":0}]
["連続",null,null,null,null,null,null,null,null,null,null,null,null,null,null,null,null,null,null,null,null,null,null,null,null,null,null,null,null,null,null,null,{"$f":"SUM(B162:AF162)","v":0},"　連続",null,null,null,{"$f":"AG162","v":0},{"$f":"AL162*請求書・納品書!$M$14","v":0}]
[null,null,null,null,null,null,null,null,null,null,null,null,null,null,null,null,null,null,null,null,null,null,null,null,null,null,null,null,null,null,null,null,null,null,null,null,null,"合　計",{"$f":"SUM(AM159:AM162)","v":0}]
[null,null,null,null,null,null,null,null,null,null,null,null,null,null,null,null,null,null,null,null,null,null,null,null,null,null,null,null,null,null,null,null,null,{"$f":"A164","v":0},"日数(日)","勤務時間(h)"," 早退（h）","合計(h)","金額(円)"]
["残業",null,null,null,null,null,null,null,null,null,null,null,null,null,null,null,null,null,null,null,null,null,null,null,null,null,null,null,null,null,null,null,{"$f":"SUM(B165:AF165)","v":0},"　出勤",{"$f":"COUNTIF(B164:AF164,\"出\")","v":0},{"$f":"AI165*7.8","v":0},{"$f":"AG166","v":0},{"$f":"AJ165-AK165","v":0},{"$f":"ROUNDDOWN(AL165*請求書・納品書!$M$11,)","v":0}]
["遅・早(出)",null,null,null,null,null,null,null,null,null,null,null,null,null,null,null,null,null,null,null,null,null,null,null,null,null,null,null,null,null,null,null,{"$f":"SUM(B166:AF166)","v":0},"　残業",null,null,null,{"$f":"AG165","v":0},{"$f":"ROUNDDOWN(AL166*請求書・納品書!$M$12,)","v":0}]
["遅・早(公)",null,null,null,null,null,null,null,null,null,null,null,null,null,null,null,null,null,null,null,null,null,null,null,null,null,null,null,null,null,null,null,{"$f":"SUM(B167:AF167)","v":0},"　公出",{"$f":"COUNTIF(B164:AF164,\"公\")","v":0},{"$f":"AI167*7.8","v":0},{"$f":"AG167","v":0},{"$f":"AJ167-AK167","v":0},{"$f":"ROUNDDOWN(AL167*請求書・納品書!$M$13,)","v":0}]
["連続",null,null,null,null,null,null,null,null,null,null,null,null,null,null,null,null,null,null,null,null,null,null,null,null,null,null,null,null,null,null,null,{"$f":"SUM(B168:AF168)","v":0},"　連続",null,null,null,{"$f":"AG168","v":0},{"$f":"AL168*請求書・納品書!$M$14","v":0}]
[null,null,null,null,null,null,null,null,null,null,null,null,null,null,null,null,null,null,null,null,null,null,null,null,null,null,null,null,null,null,null,null,null,null,null,null,null,"合　計",{"$f":"SUM(AM165:AM168)","v":0},null,{"$f":"AM151+AM157+AM163+AM169","v":0}]
[null,null,null,null,null,null,null,null,null,null,null,null,null,null,null,null,null,null,null,null,null,null,null,null,null,null,null,null,null,null,null,null,null,{"$f":"A170","v":0},"日数(日)","勤務時間(h)"," 早退（h）","合計(h)","金額(円)"]
["残業",null,null,null,null,null,null,null,null,null,null,null,null,null,null,null,null,null,null,null,null,null,null,null,null,null,null,null,null,null,null,null,{"$f":"SUM(B171:AF171)","v":0},"　出勤",{"$f":"COUNTIF(B170:AF170,\"出\")","v":0},{"$f":"AI171*7.8","v":0},{"$f":"AG172","v":0},{"$f":"AJ171-AK171","v":0},{"$f":"ROUNDDOWN(AL171*請求書・納品書!$M$11,)","v":0}]
["遅・早(出)",null,null,null,null,null,null,null,null,null,null,null,null,null,null,null,null,null,null,null,null,null,null,null,null,null,null,null,null,null,null,null,{"$f":"SUM(B172:AF172)","v":0},"　残業",null,null,null,{"$f":"AG171","v":0},{"$f":"ROUNDDOWN(AL172*請求書・納品書!$M$12,)","v":0}]
["遅・早(公)",null,null,null,null,null,null,null,null,null,null,null,null,null,null,null,null,null,null,null,null,null,null,null,null,null,null,null,null,null,null,null,{"$f":"SUM(B173:AF173)","v":0},"　公出",{"$f":"COUNTIF(B170:AF170,\"公\")","v":0},{"$f":"AI173*7.8","v":0},{"$f":"AG173","v":0},{"$f":"AJ173-AK173","v":0},{"$f":"ROUNDDOWN(AL173*請求書・納品書!$M$13,)","v":0}]
["連続",null,null,null,null,null,null,null,null,null,null,null,null,null,null,null,null,null,null,null,null,null,null,null,null,null,null,null,null,null,null,null,{"$f":"SUM(B174:AF174)","v":0},"　連続",null,null,null,{"$f":"AG174","v":0},{"$f":"AL174*請求書・納品書!$M$14","v":0}]
[null,null,null,null,null,null,null,null,null,null,null,null,null,null,null,null,null,null,null,null,null,null,null,null,null,null,null,null,null,null,null,null,null,null,null,null,null,"合　計",{"$f":"SUM(AM171:AM174)","v":0}]
[null,null,null,null,null,null,null,null,null,null,null,null,null,null,null,null,null,null,null,null,null,null,null,null,null,null,null,null,null,null,null,null,null,{"$f":"A176","v":0},"日数(日)","勤務時間(h)"," 早退（h）","合計(h)","金額(円)"]
["残業",null,null,null,null,null,null,null,null,null,null,null,null,null,null,null,null,null,null,null,null,null,null,null,null,null,null,null,null,null,null,null,{"$f":"SUM(B177:AF177)","v":0},"　出勤",{"$f":"COUNTIF(B176:AF176,\"出\")","v":0},{"$f":"AI177*7.8","v":0},{"$f":"AG178","v":0},{"$f":"AJ177-AK177","v":0},{"$f":"ROUNDDOWN(AL177*請求書・納品書!$M$11,)","v":0}]
["遅・早(出)",null,null,null,null,null,null,null,null,null,null,null,null,null,null,null,null,null,null,null,null,null,null,null,null,null,null,null,null,null,null,null,{"$f":"SUM(B178:AF178)","v":0},"　残業",null,null,null,{"$f":"AG177","v":0},{"$f":"ROUNDDOWN(AL178*請求書・納品書!$M$12,)","v":0}]
["遅・早(公)",null,null,null,null,null,null,null,null,null,null,null,null,null,null,null,null,null,null,null,null,null,null,null,null,null,null,null,null,null,null,null,{"$f":"SUM(B179:AF179)","v":0},"　公出",{"$f":"COUNTIF(B176:AF176,\"公\")","v":0},{"$f":"AI179*7.8","v":0},{"$f":"AG179","v":0},{"$f":"AJ179-AK179","v":0},{"$f":"ROUNDDOWN(AL179*請求書・納品書!$M$13,)","v":0}]
["連続",null,null,null,null,null,null,null,null,null,null,null,null,null,null,null,null,null,null,null,null,null,null,null,null,null,null,null,null,null,null,null,{"$f":"SUM(B180:AF180)","v":0},"　連続",null,null,null,{"$f":"AG180","v":0},{"$f":"AL180*請求書・納品書!$M$14","v":0}]
[null,null,null,null,null,null,null,null,null,null,null,null,null,null,null,null,null,null,null,null,null,null,null,null,null,null,null,null,null,null,null,null,null,null,null,null,null,"合　計",{"$f":"SUM(AM177:AM180)","v":0}]
[null,null,null,null,null,null,null,null,null,null,null,null,null,null,null,null,null,null,null,null,null,null,null,null,null,null,null,null,null,null,null,null,null,{"$f":"A182","v":0},"日数(日)","勤務時間(h)"," 早退（h）","合計(h)","金額(円)"]
["残業",null,null,null,null,null,null,null,null,null,null,null,null,null,null,null,null,null,null,null,null,null,null,null,null,null,null,null,null,null,null,null,{"$f":"SUM(B183:AF183)","v":0},"　出勤",{"$f":"COUNTIF(B182:AF182,\"出\")","v":0},{"$f":"AI183*7.8","v":0},{"$f":"AG184","v":0},{"$f":"AJ183-AK183","v":0},{"$f":"ROUNDDOWN(AL183*請求書・納品書!$M$11,)","v":0}]
["遅・早(出)",null,null,null,null,null,null,null,null,null,null,null,null,null,null,null,null,null,null,null,null,null,null,null,null,null,null,null,null,null,null,null,{"$f":"SUM(B184:AF184)","v":0},"　残業",null,null,null,{"$f":"AG183","v":0},{"$f":"ROUNDDOWN(AL184*請求書・納品書!$M$12,)","v":0}]
["遅・早(公)",null,null,null,null,null,null,null,null,null,null,null,null,null,null,null,null,null,null,null,null,null,null,null,null,null,null,null,null,null,null,null,{"$f":"SUM(B185:AF185)","v":0},"　公出",{"$f":"COUNTIF(B182:AF182,\"公\")","v":0},{"$f":"AI185*7.8","v":0},{"$f":"AG185","v":0},{"$f":"AJ185-AK185","v":0},{"$f":"ROUNDDOWN(AL185*請求書・納品書!$M$13,)","v":0}]
["連続",null,null,null,null,null,null,null,null,null,null,null,null,null,null,null,null,null,null,null,null,null,null,null,null,null,null,null,null,null,null,null,{"$f":"SUM(B186:AF186)","v":0},"　連続",null,null,null,{"$f":"AG186","v":0},{"$f":"AL186*請求書・納品書!$M$14","v":0}]
[null,null,null,null,null,null,null,null,null,null,null,null,null,null,null,null,null,null,null,null,null,null,null,null,null,null,null,null,null,null,null,null,null,null,null,null,null,"合　計",{"$f":"SUM(AM183:AM186)","v":0}]
[null,null,null,null,null,null,null,null,null,null,null,null,null,null,null,null,null,null,null,null,null,null,null,null,null,null,null,null,null,null,null,null,null,{"$f":"A188","v":0},"日数(日)","勤務時間(h)"," 早退（h）","合計(h)","金額(円)"]
["残業",null,null,null,null,null,null,null,null,null,null,null,null,null,null,null,null,null,null,null,null,null,null,null,null,null,null,null,null,null,null,null,{"$f":"SUM(B189:AF189)","v":0},"　出勤",{"$f":"COUNTIF(B188:AF188,\"出\")","v":0},{"$f":"AI189*7.8","v":0},{"$f":"AG190","v":0},{"$f":"AJ189-AK189","v":0},{"$f":"ROUNDDOWN(AL189*請求書・納品書!$M$11,)","v":0}]
["遅・早(出)",null,null,null,null,null,null,null,null,null,null,null,null,null,null,null,null,null,null,null,null,null,null,null,null,null,null,null,null,null,null,null,{"$f":"SUM(B190:AF190)","v":0},"　残業",null,null,null,{"$f":"AG189","v":0},{"$f":"ROUNDDOWN(AL190*請求書・納品書!$M$12,)","v":0}]
["遅・早(公)",null,null,null,null,null,null,null,null,null,null,null,null,null,null,null,null,null,null,null,null,null,null,null,null,null,null,null,null,null,null,null,{"$f":"SUM(B191:AF191)","v":0},"　公出",{"$f":"COUNTIF(B188:AF188,\"公\")","v":0},{"$f":"AI191*7.8","v":0},{"$f":"AG191","v":0},{"$f":"AJ191-AK191","v":0},{"$f":"ROUNDDOWN(AL191*請求書・納品書!$M$13,)","v":0}]
["連続",null,null,null,null,null,null,null,null,null,null,null,null,null,null,null,null,null,null,null,null,null,null,null,null,null,null,null,null,null,null,null,{"$f":"SUM(B192:AF192)","v":0},"　連続",null,null,null,{"$f":"AG192","v":0},{"$f":"AL192*請求書・納品書!$M$14","v":0}]
[null,null,null,null,null,null,null,null,null,null,null,null,null,null,null,null,null,null,null,null,null,null,null,null,null,null,null,null,null,null,null,null,null,null,null,null,null,"合　計",{"$f":"SUM(AM189:AM192)","v":0},null,{"$f":"AM175+AM181+AM187+AM193","v":0}]

{"sheet":"3","index":11,"n_rows":193,"n_cols":42,"rows_kept":193,"cut":false,"hidden":false,"merged":[]}
[{"$f":"'4'!A1+1","v":2011},1,2,3,4,5,6,7,8,9,10,11,12,13,14,15,16,17,18,19,20,21,22,23,24,25,26,27,28,29,30,31,"計",{"$f":"A1&\"年\"&MID(CELL(\"filename\",$A$1),FIND(\"]\",CELL(\"filename\",$A$1))+1,31) &\"月\"","v":"2011年3月"}]
[null,null,null,null,null,null,null,null,null,null,null,null,null,null,null,null,null,null,null,null,null,null,null,null,null,null,null,null,null,null,null,null,null,{"$f":"A2","v":0},"日数(日)","勤務時間(h)"," 早退（h）","合計(h)","金額(円)","出","　合計",{"$f":"SUM(AM:AM)/2","v":0}]
["残業",null,null,null,null,null,null,null,null,null,null,null,null,null,null,null,null,null,null,null,null,null,null,null,null,null,null,null,null,null,null,null,{"$f":"SUM(B3:AF3)","v":0},"　出勤",{"$f":"COUNTIF(B2:AF2,\"出\")","v":0},{"$f":"AI3*7.8","v":0},{"$f":"AG4","v":0},{"$f":"AJ3-AK3","v":0},{"$f":"ROUNDDOWN(AL3*請求書・納品書!$M$11,)","v":0},"公","　人数",{"$f":"COUNTA(AH:AH)-COUNTIF(AH:AH,0)-32*4-1","v":0}]
["遅・早(出)",null,null,null,null,null,null,null,null,null,null,null,null,null,null,null,null,null,null,null,null,null,null,null,null,null,null,null,null,null,null,null,{"$f":"SUM(B4:AF4)","v":0},"　残業",null,null,null,{"$f":"AG3","v":0},{"$f":"ROUNDDOWN(AL4*請求書・納品書!$M$12,)","v":0},"欠","　管理費",{"$f":"(AP3-AP9)*19400","v":0}]
["遅・早(公)",null,null,null,null,null,null,null,null,null,null,null,null,null,null,null,null,null,null,null,null,null,null,null,null,null,null,null,null,null,null,null,{"$f":"SUM(B5:AF5)","v":0},"　公出",{"$f":"COUNTIF(B2:AF2,\"公\")","v":0},{"$f":"AI5*7.8","v":0},{"$f":"AG5","v":0},{"$f":"AJ5-AK5","v":0},{"$f":"ROUNDDOWN(AL5*請求書・納品書!$M$13,)","v":0},"有","　小計",{"$f":"AP2+AP4","v":0}]
["連続",null,null,null,null,null,null,null,null,null,null,null,null,null,null,null,null,null,null,null,null,null,null,null,null,null,null,null,null,null,null,null,{"$f":"SUM(B6:AF6)","v":0},"　連続",null,null,null,{"$f":"AG6","v":0},{"$f":"AL6*請求書・納品書!$M$14","v":0},"半","　消費税",{"$f":"ROUNDDOWN(AP5*0.05,)","v":0}]
[null,null,null,null,null,null,null,null,null,null,null,null,null,null,null,null,null,null,null,null,null,null,null,null,null,null,null,null,null,null,null,null,null,null,null,null,null,"合　計",{"$f":"SUM(AM3:AM6)","v":0},null,"　総合計",{"$f":"AP5+AP6","v":0}]
[null,null,null,null,null,null,null,null,null,null,null,null,null,null,null,null,null,null,null,null,null,null,null,null,null,null,null,null,null,null,null,null,null,{"$f":"A8","v":0},"日数(日)","勤務時間(h)"," 早退（h）","合計(h)","金額(円)"]
["残業",null,null,null,null,null,null,null,null,null,null,null,null,null,null,null,null,null,null,null,null,null,null,null,null,null,null,null,null,null,null,null,{"$f":"SUM(B9:AF9)","v":0},"　出勤",{"$f":"COUNTIF(B8:AF8,\"出\")","v":0},{"$f":"AI9*7.8","v":0},{"$f":"AG10","v":0},{"$f":"AJ9-AK9","v":0},{"$f":"ROUNDDOWN(AL9*請求書・納品書!$M$11,)","v":0},null,"管理費に入れない人数"]
["遅・早(出)",null,null,null,null,null,null,null,null,null,null,null,null,null,null,null,null,null,null,null,null,null,null,null,null,null,null,null,null,null,null,null,{"$f":"SUM(B10:AF10)","v":0},"　残業",null,null,null,{"$f":"AG9","v":0},{"$f":"ROUNDDOWN(AL10*請求書・納品書!$M$12,)","v":0}]
["遅・早(公)",null,null,null,null,null,null,null,null,null,null,null,null,null,null,null,null,null,null,null,null,null,null,null,null,null,null,null,null,null,null,null,{"$f":"SUM(B11:AF11)","v":0},"　公出",{"$f":"COUNTIF(B8:AF8,\"公\")","v":0},{"$f":"AI11*7.8","v":0},{"$f":"AG11","v":0},{"$f":"AJ11-AK11","v":0},{"$f":"ROUNDDOWN(AL11*請求書・納品書!$M$13,)","v":0}]
["連続",null,null,null,null,null,null,null,null,null,null,null,null,null,null,null,null,null,null,null,null,null,null,null,null,null,null,null,null,null,null,null,{"$f":"SUM(B12:AF12)","v":0},"　連続",null,null,null,{"$f":"AG12","v":0},{"$f":"AL12*請求書・納品書!$M$14","v":0}]
[null,null,null,null,null,null,null,null,null,null,null,null,null,null,null,null,null,null,null,null,null,null,null,null,null,null,null,null,null,null,null,null,null,null,null,null,null,"合　計",{"$f":"SUM(AM9:AM12)","v":0}]
[null,null,null,null,null,null,null,null,null,null,null,null,null,null,null,null,null,null,null,null,null,null,null,null,null,null,null,null,null,null,null,null,null,{"$f":"A14","v":0},"日数(日)","勤務時間(h)"," 早退（h）","合計(h)","金額(円)"]
["残業",null,null,null,null,null,null,null,null,null,null,null,null,null,null,null,null,null,null,null,null,null,null,null,null,null,null,null,null,null,null,null,{"$f":"SUM(B15:AF15)","v":0},"　出勤",{"$f":"COUNTIF(B14:AF14,\"出\")","v":0},{"$f":"AI15*7.8","v":0},{"$f":"AG16","v":0},{"$f":"AJ15-AK15","v":0},{"$f":"ROUNDDOWN(AL15*請求書・納品書!$M$11,)","v":0}]
["遅・早(出)",null,null,null,null,null,null,null,null,null,null,null,null,null,null,null,null,null,null,null,null,null,null,null,null,null,null,null,null,null,null,null,{"$f":"SUM(B16:AF16)","v":0},"　残業",null,null,null,{"$f":"AG15","v":0},{"$f":"ROUNDDOWN(AL16*請求書・納品書!$M$12,)","v":0}]
["遅・早(公)",null,null,null,null,null,null,null,null,null,null,null,null,null,null,null,null,null,null,null,null,null,null,null,null,null,null,null,null,null,null,null,{"$f":"SUM(B17:AF17)","v":0},"　公出",{"$f":"COUNTIF(B14:AF14,\"公\")","v":0},{"$f":"AI17*7.8","v":0},{"$f":"AG17","v":0},{"$f":"AJ17-AK17","v":0},{"$f":"ROUNDDOWN(AL17*請求書・納品書!$M$13,)","v":0}]
["連続",null,null,null,null,null,null,null,null,null,null,null,null,null,null,null,null,null,null,null,null,null,null,null,null,null,null,null,null,null,null,null,{"$f":"SUM(B18:AF18)","v":0},"　連続",null,null,null,{"$f":"AG18","v":0},{"$f":"AL18*請求書・納品書!$M$14","v":0}]
[null,null,null,null,null,null,null,null,null,null,null,null,null,null,null,null,null,null,null,null,null,null,null,null,null,null,null,null,null,null,null,null,null,null,null,null,null,"合　計",{"$f":"SUM(AM15:AM18)","v":0}]
[null,null,null,null,null,null,null,null,null,null,null,null,null,null,null,null,null,null,null,null,null,null,null,null,null,null,null,null,null,null,null,null,null,{"$f":"A20","v":0},"日数(日)","勤務時間(h)"," 早退（h）","合計(h)","金額(円)"]
["残業",null,null,null,null,null,null,null,null,null,null,null,null,null,null,null,null,null,null,null,null,null,null,null,null,null,null,null,null,null,null,null,{"$f":"SUM(B21:AF21)","v":0},"　出勤",{"$f":"COUNTIF(B20:AF20,\"出\")","v":0},{"$f":"AI21*7.8","v":0},{"$f":"AG22","v":0},{"$f":"AJ21-AK21","v":0},{"$f":"ROUNDDOWN(AL21*請求書・納品書!$M$11,)","v":0}]
["遅・早(出)",null,null,null,null,null,null,null,null,null,null,null,null,null,null,null,null,null,null,null,null,null,null,null,null,null,null,null,null,null,null,null,{"$f":"SUM(B22:AF22)","v":0},"　残業",null,null,null,{"$f":"AG21","v":0},{"$f":"ROUNDDOWN(AL22*請求書・納品書!$M$12,)","v":0}]
["遅・早(公)",null,null,null,null,null,null,null,null,null,null,null,null,null,null,null,null,null,null,null,null,null,null,null,null,null,null,null,null,null,null,null,{"$f":"SUM(B23:AF23)","v":0},"　公出",{"$f":"COUNTIF(B20:AF20,\"公\")","v":0},{"$f":"AI23*7.8","v":0},{"$f":"AG23","v":0},{"$f":"AJ23-AK23","v":0},{"$f":"ROUNDDOWN(AL23*請求書・納品書!$M$13,)","v":0}]
["連続",null,null,null,null,null,null,null,null,null,null,null,null,null,null,null,null,null,null,null,null,null,null,null,null,null,null,null,null,null,null,null,{"$f":"SUM(B24:AF24)","v":0},"　連続",null,null,null,{"$f":"AG24","v":0},{"$f":"AL24*請求書・納品書!$M$14","v":0}]
[null,null,null,null,null,null,null,null,null,null,null,null,null,null,null,null,null,null,null,null,null,null,null,null,null,null,null,null,null,null,null,null,null,null,null,null,null,"合　計",{"$f":"SUM(AM21:AM24)","v":0},null,{"$f":"AM7+AM13+AM19+AM25","v":0}]
[null,null,null,null,null,null,null,null,null,null,null,null,null,null,null,null,null,null,null,null,null,null,null,null,null,null,null,null,null,null,null,null,null,{"$f":"A26","v":0},"日数(日)","勤務時間(h)"," 早退（h）","合計(h)","金額(円)"]
["残業",null,null,null,null,null,null,null,null,null,null,null,null,null,null,null,null,null,null,null,null,null,null,null,null,null,null,null,null,null,null,null,{"$f":"SUM(B27:AF27)","v":0},"　出勤",{"$f":"COUNTIF(B26:AF26,\"出\")","v":0},{"$f":"AI27*7.8","v":0},{"$f":"AG28","v":0},{"$f":"AJ27-AK27","v":0},{"$f":"ROUNDDOWN(AL27*請求書・納品書!$M$11,)","v":0}]
["遅・早(出)",null,null,null,null,null,null,null,null,null,null,null,null,null,null,null,null,null,null,null,null,null,null,null,null,null,null,null,null,null,null,null,{"$f":"SUM(B28:AF28)","v":0},"　残業",null,null,null,{"$f":"AG27","v":0},{"$f":"ROUNDDOWN(AL28*請求書・納品書!$M$12,)","v":0}]
["遅・早(公)",null,null,null,null,null,null,null,null,null,null,null,null,null,null,null,null,null,null,null,null,null,null,null,null,null,null,null,null,null,null,null,{"$f":"SUM(B29:AF29)","v":0},"　公出",{"$f":"COUNTIF(B26:AF26,\"公\")","v":0},{"$f":"AI29*7.8","v":0},{"$f":"AG29","v":0},{"$f":"AJ29-AK29","v":0},{"$f":"ROUNDDOWN(AL29*請求書・納品書!$M$13,)","v":0}]
["連続",null,null,null,null,null,null,null,null,null,null,null,null,null,null,null,null,null,null,null,null,null,null,null,null,null,null,null,null,null,null,null,{"$f":"SUM(B30:AF30)","v":0},"　連続",null,null,null,{"$f":"AG30","v":0},{"$f":"AL30*請求書・納品書!$M$14","v":0}]
[null,null,null,null,null,null,null,null,null,null,null,null,null,null,null,null,null,null,null,null,null,null,null,null,null,null,null,null,null,null,null,null,null,null,null,null,null,"合　計",{"$f":"SUM(AM27:AM30)","v":0}]
[null,null,null,null,null,null,null,null,null,null,null,null,null,null,null,null,null,null,null,null,null,null,null,null,null,null,null,null,null,null,null,null,null,{"$f":"A32","v":0},"日数(日)","勤務時間(h)"," 早退（h）","合計(h)","金額(円)"]
["残業",null,null,null,null,null,null,null,null,null,null,null,null,null,null,null,null,null,null,null,null,null,null,null,null,null,null,null,null,null,null,null,{"$f":"SUM(B33:AF33)","v":0},"　出勤",{"$f":"COUNTIF(B32:AF32,\"出\")","v":0},{"$f":"AI33*7.8","v":0},{"$f":"AG34","v":0},{"$f":"AJ33-AK33","v":0},{"$f":"ROUNDDOWN(AL33*請求書・納品書!$M$11,)","v":0}]
["遅・早(出)",null,null,null,null,null,null,null,null,null,null,null,null,null,null,null,null,null,null,null,null,null,null,null,null,null,null,null,null,null,null,null,{"$f":"SUM(B34:AF34)","v":0},"　残業",null,null,null,{"$f":"AG33","v":0},{"$f":"ROUNDDOWN(AL34*請求書・納品書!$M$12,)","v":0}]
["遅・早(公)",null,null,null,null,null,null,null,null,null,null,null,null,null,null,null,null,null,null,null,null,null,null,null,null,null,null,null,null,null,null,null,{"$f":"SUM(B35:AF35)","v":0},"　公出",{"$f":"COUNTIF(B32:AF32,\"公\")","v":0},{"$f":"AI35*7.8","v":0},{"$f":"AG35","v":0},{"$f":"AJ35-AK35","v":0},{"$f":"ROUNDDOWN(AL35*請求書・納品書!$M$13,)","v":0}]
["連続",null,null,null,null,null,null,null,null,null,null,null,null,null,null,null,null,null,null,null,null,null,null,null,null,null,null,null,null,null,null,null,{"$f":"SUM(B36:AF36)","v":0},"　連続",null,null,null,{"$f":"AG36","v":0},{"$f":"AL36*請求書・納品書!$M$14","v":0}]
[null,null,null,null,null,null,null,null,null,null,null,null,null,null,null,null,null,null,null,null,null,null,null,null,null,null,null,null,null,null,null,null,null,null,null,null,null,"合　計",{"$f":"SUM(AM33:AM36)","v":0}]
[null,null,null,null,null,null,null,null,null,null,null,null,null,null,null,null,null,null,null,null,null,null,null,null,null,null,null,null,null,null,null,null,null,{"$f":"A38","v":0},"日数(日)","勤務時間(h)"," 早退（h）","合計(h)","金額(円)"]
["残業",null,null,null,null,null,null,null,null,null,null,null,null,null,null,null,null,null,null,null,null,null,null,null,null,null,null,null,null,null,null,null,{"$f":"SUM(B39:AF39)","v":0},"　出勤",{"$f":"COUNTIF(B38:AF38,\"出\")","v":0},{"$f":"AI39*7.8","v":0},{"$f":"AG40","v":0},{"$f":"AJ39-AK39","v":0},{"$f":"ROUNDDOWN(AL39*請求書・納品書!$M$11,)","v":0}]
["遅・早(出)",null,null,null,null,null,null,null,null,null,null,null,null,null,null,null,null,null,null,null,null,null,null,null,null,null,null,null,null,null,null,null,{"$f":"SUM(B40:AF40)","v":0},"　残業",null,null,null,{"$f":"AG39","v":0},{"$f":"ROUNDDOWN(AL40*請求書・納品書!$M$12,)","v":0}]
["遅・早(公)",null,null,null,null,null,null,null,null,null,null,null,null,null,null,null,null,null,null,null,null,null,null,null,null,null,null,null,null,null,null,null,{"$f":"SUM(B41:AF41)","v":0},"　公出",{"$f":"COUNTIF(B38:AF38,\"公\")","v":0},{"$f":"AI41*7.8","v":0},{"$f":"AG41","v":0},{"$f":"AJ41-AK41","v":0},{"$f":"ROUNDDOWN(AL41*請求書・納品書!$M$13,)","v":0}]
["連続",null,null,null,null,null,null,null,null,null,null,null,null,null,null,null,null,null,null,null,null,null,null,null,null,null,null,null,null,null,null,null,{"$f":"SUM(B42:AF42)","v":0},"　連続",null,null,null,{"$f":"AG42","v":0},{"$f":"AL42*請求書・納品書!$M$14","v":0}]
[null,null,null,null,null,null,null,null,null,null,null,null,null,null,null,null,null,null,null,null,null,null,null,null,null,null,null,null,null,null,null,null,null,null,null,null,null,"合　計",{"$f":"SUM(AM39:AM42)","v":0}]
[null,null,null,null,null,null,null,null,null,null,null,null,null,null,null,null,null,null,null,null,null,null,null,null,null,null,null,null,null,null,null,null,null,{"$f":"A44","v":0},"日数(日)","勤務時間(h)"," 早退（h）","合計(h)","金額(円)"]
["残業",null,null,null,null,null,null,null,null,null,null,null,null,null,null,null,null,null,null,null,null,null,null,null,null,null,null,null,null,null,null,null,{"$f":"SUM(B45:AF45)","v":0},"　出勤",{"$f":"COUNTIF(B44:AF44,\"出\")","v":0},{"$f":"AI45*7.8","v":0},{"$f":"AG46","v":0},{"$f":"AJ45-AK45","v":0},{"$f":"ROUNDDOWN(AL45*請求書・納品書!$M$11,)","v":0}]
["遅・早(出)",null,null,null,null,null,null,null,null,null,null,null,null,null,null,null,null,null,null,null,null,null,null,null,null,null,null,null,null,null,null,null,{"$f":"SUM(B46:AF46)","v":0},"　残業",null,null,null,{"$f":"AG45","v":0},{"$f":"ROUNDDOWN(AL46*請求書・納品書!$M$12,)","v":0}]
["遅・早(公)",null,null,null,null,null,null,null,null,null,null,null,null,null,null,null,null,null,null,null,null,null,null,null,null,null,null,null,null,null,null,null,{"$f":"SUM(B47:AF47)","v":0},"　公出",{"$f":"COUNTIF(B44:AF44,\"公\")","v":0},{"$f":"AI47*7.8","v":0},{"$f":"AG47","v":0},{"$f":"AJ47-AK47","v":0},{"$f":"ROUNDDOWN(AL47*請求書・納品書!$M$13,)","v":0}]
["連続",null,null,null,null,null,null,null,null,null,null,null,null,null,null,null,null,null,null,null,null,null,null,null,null,null,null,null,null,null,null,null,{"$f":"SUM(B48:AF48)","v":0},"　連続",null,null,null,{"$f":"AG48","v":0},{"$f":"AL48*請求書・納品書!$M$14","v":0}]
[null,null,null,null,null,null,null,null,null,null,null,null,null,null,null,null,null,null,null,null,null,null,null,null,null,null,null,null,null,null,null,null,null,null,null,null,null,"合　計",{"$f":"SUM(AM45:AM48)","v":0},null,{"$f":"AM31+AM37+AM43+AM49","v":0}]
[null,null,null,null,null,null,null,null,null,null,null,null,null,null,null,null,null,null,null,null,null,null,null,null,null,null,null,null,null,null,null,null,null,{"$f":"A50","v":0},"日数(日)","勤務時間(h)"," 早退（h）","合計(h)","金額(円)"]
["残業",null,null,null,null,null,null,null,null,null,null,null,null,null,null,null,null,null,null,null,null,null,null,null,null,null,null,null,null,null,null,null,{"$f":"SUM(B51:AF51)","v":0},"　出勤",{"$f":"COUNTIF(B50:AF50,\"出\")","v":0},{"$f":"AI51*7.8","v":0},{"$f":"AG52","v":0},{"$f":"AJ51-AK51","v":0},{"$f":"ROUNDDOWN(AL51*請求書・納品書!$M$11,)","v":0}]
["遅・早(出)",null,null,null,null,null,null,null,null,null,null,null,null,null,null,null,null,null,null,null,null,null,null,null,null,null,null,null,null,null,null,null,{"$f":"SUM(B52:AF52)","v":0},"　残業",null,null,null,{"$f":"AG51","v":0},{"$f":"ROUNDDOWN(AL52*請求書・納品書!$M$12,)","v":0}]
["遅・早(公)",null,null,null,null,null,null,null,null,null,null,null,null,null,null,null,null,null,null,null,null,null,null,null,null,null,null,null,null,null,null,null,{"$f":"SUM(B53:AF53)","v":0},"　公出",{"$f":"COUNTIF(B50:AF50,\"公\")","v":0},{"$f":"AI53*7.8","v":0},{"$f":"AG53","v":0},{"$f":"AJ53-AK53","v":0},{"$f":"ROUNDDOWN(AL53*請求書・納品書!$M$13,)","v":0}]
["連続",null,null,null,null,null,null,null,null,null,null,null,null,null,null,null,null,null,null,null,null,null,null,null,null,null,null,null,null,null,null,null,{"$f":"SUM(B54:AF54)","v":0},"　連続",null,null,null,{"$f":"AG54","v":0},{"$f":"AL54*請求書・納品書!$M$14","v":0}]
[null,null,null,null,null,null,null,null,null,null,null,null,null,null,null,null,null,null,null,null,null,null,null,null,null,null,null,null,null,null,null,null,null,null,null,null,null,"合　計",{"$f":"SUM(AM51:AM54)","v":0}]
[null,null,null,null,null,null,null,null,null,null,null,null,null,null,null,null,null,null,null,null,null,null,null,null,null,null,null,null,null,null,null,null,null,{"$f":"A56","v":0},"日数(日)","勤務時間(h)"," 早退（h）","合計(h)","金額(円)"]
["残業",null,null,null,null,null,null,null,null,null,null,null,null,null,null,null,null,null,null,null,null,null,null,null,null,null,null,null,null,null,null,null,{"$f":"SUM(B57:AF57)","v":0},"　出勤",{"$f":"COUNTIF(B56:AF56,\"出\")","v":0},{"$f":"AI57*7.8","v":0},{"$f":"AG58","v":0},{"$f":"AJ57-AK57","v":0},{"$f":"ROUNDDOWN(AL57*請求書・納品書!$M$11,)","v":0}]
["遅・早(出)",null,null,null,null,null,null,null,null,null,null,null,null,null,null,null,null,null,null,null,null,null,null,null,null,null,null,null,null,null,null,null,{"$f":"SUM(B58:AF58)","v":0},"　残業",null,null,null,{"$f":"AG57","v":0},{"$f":"ROUNDDOWN(AL58*請求書・納品書!$M$12,)","v":0}]
["遅・早(公)",null,null,null,null,null,null,null,null,null,null,null,null,null,null,null,null,null,null,null,null,null,null,null,null,null,null,null,null,null,null,null,{"$f":"SUM(B59:AF59)","v":0},"　公出",{"$f":"COUNTIF(B56:AF56,\"公\")","v":0},{"$f":"AI59*7.8","v":0},{"$f":"AG59","v":0},{"$f":"AJ59-AK59","v":0},{"$f":"ROUNDDOWN(AL59*請求書・納品書!$M$13,)","v":0}]
["連続",null,null,null,null,null,null,null,null,null,null,null,null,null,null,null,null,null,null,null,null,null,null,null,null,null,null,null,null,null,null,null,{"$f":"SUM(B60:AF60)","v":0},"　連続",null,null,null,{"$f":"AG60","v":0},{"$f":"AL60*請求書・納品書!$M$14","v":0}]
[null,null,null,null,null,null,null,null,null,null,null,null,null,null,null,null,null,null,null,null,null,null,null,null,null,null,null,null,null,null,null,null,null,null,null,null,null,"合　計",{"$f":"SUM(AM57:AM60)","v":0}]
[null,null,null,null,null,null,null,null,null,null,null,null,null,null,null,null,null,null,null,null,null,null,null,null,null,null,null,null,null,null,null,null,null,{"$f":"A62","v":0},"日数(日)","勤務時間(h)"," 早退（h）","合計(h)","金額(円)"]
["残業",null,null,null,null,null,null,null,null,null,null,null,null,null,null,null,null,null,null,null,null,null,null,null,null,null,null,null,null,null,null,null,{"$f":"SUM(B63:AF63)","v":0},"　出勤",{"$f":"COUNTIF(B62:AF62,\"出\")","v":0},{"$f":"AI63*7.8","v":0},{"$f":"AG64","v":0},{"$f":"AJ63-AK63","v":0},{"$f":"ROUNDDOWN(AL63*請求書・納品書!$M$11,)","v":0}]
["遅・早(出)",null,null,null,null,null,null,null,null,null,null,null,null,null,null,null,null,null,null,null,null,null,null,null,null,null,null,null,null,null,null,null,{"$f":"SUM(B64:AF64)","v":0},"　残業",null,null,null,{"$f":"AG63","v":0},{"$f":"ROUNDDOWN(AL64*請求書・納品書!$M$12,)","v":0}]
["遅・早(公)",null,null,null,null,null,null,null,null,null,null,null,null,null,null,null,null,null,null,null,null,null,null,null,null,null,null,null,null,null,null,null,{"$f":"SUM(B65:AF65)","v":0},"　公出",{"$f":"COUNTIF(B62:AF62,\"公\")","v":0},{"$f":"AI65*7.8","v":0},{"$f":"AG65","v":0},{"$f":"AJ65-AK65","v":0},{"$f":"ROUNDDOWN(AL65*請求書・納品書!$M$13,)","v":0}]
["連続",null,null,null,null,null,null,null,null,null,null,null,null,null,null,null,null,null,null,null,null,null,null,null,null,null,null,null,null,null,null,null,{"$f":"SUM(B66:AF66)","v":0},"　連続",null,null,null,{"$f":"AG66","v":0},{"$f":"AL66*請求書・納品書!$M$14","v":0}]
[null,null,null,null,null,null,null,null,null,null,null,null,null,null,null,null,null,null,null,null,null,null,null,null,null,null,null,null,null,null,null,null,null,null,null,null,null,"合　計",{"$f":"SUM(AM63:AM66)","v":0}]
[null,null,null,null,null,null,null,null,null,null,null,null,null,null,null,null,null,null,null,null,null,null,null,null,null,null,null,null,null,null,null,null,null,{"$f":"A68","v":0},"日数(日)","勤務時間(h)"," 早退（h）","合計(h)","金額(円)"]
["残業",null,null,null,null,null,null,null,null,null,null,null,null,null,null,null,null,null,null,null,null,null,null,null,null,null,null,null,null,null,null,null,{"$f":"SUM(B69:AF69)","v":0},"　出勤",{"$f":"COUNTIF(B68:AF68,\"出\")","v":0},{"$f":"AI69*7.8","v":0},{"$f":"AG70","v":0},{"$f":"AJ69-AK69","v":0},{"$f":"ROUNDDOWN(AL69*請求書・納品書!$M$11,)","v":0}]
["遅・早(出)",null,null,null,null,null,null,null,null,null,null,null,null,null,null,null,null,null,null,null,null,null,null,null,null,null,null,null,null,null,null,null,{"$f":"SUM(B70:AF70)","v":0},"　残業",null,null,null,{"$f":"AG69","v":0},{"$f":"ROUNDDOWN(AL70*請求書・納品書!$M$12,)","v":0}]
["遅・早(公)",null,null,null,null,null,null,null,null,null,null,null,null,null,null,null,null,null,null,null,null,null,null,null,null,null,null,null,null,null,null,null,{"$f":"SUM(B71:AF71)","v":0},"　公出",{"$f":"COUNTIF(B68:AF68,\"公\")","v":0},{"$f":"AI71*7.8","v":0},{"$f":"AG71","v":0},{"$f":"AJ71-AK71","v":0},{"$f":"ROUNDDOWN(AL71*請求書・納品書!$M$13,)","v":0}]
["連続",null,null,null,null,null,null,null,null,null,null,null,null,null,null,null,null,null,null,null,null,null,null,null,null,null,null,null,null,null,null,null,{"$f":"SUM(B72:AF72)","v":0},"　連続",null,null,null,{"$f":"AG72","v":0},{"$f":"AL72*請求書・納品書!$M$14","v":0}]
[null,null,null,null,null,null,null,null,null,null,null,null,null,null,null,null,null,null,null,null,null,null,null,null,null,null,null,null,null,null,null,null,null,null,null,null,null,"合　計",{"$f":"SUM(AM69:AM72)","v":0},null,{"$f":"AM55+AM61+AM67+AM73","v":0}]
[null,null,null,null,null,null,null,null,null,null,null,null,null,null,null,null,null,null,null,null,null,null,null,null,null,null,null,null,null,null,null,null,null,{"$f":"A74","v":0},"日数(日)","勤務時間(h)"," 早退（h）","合計(h)","金額(円)"]
["残業",null,null,null,null,null,null,null,null,null,null,null,null,null,null,null,null,null,null,null,null,null,null,null,null,null,null,null,null,null,null,null,{"$f":"SUM(B75:AF75)","v":0},"　出勤",{"$f":"COUNTIF(B74:AF74,\"出\")","v":0},{"$f":"AI75*7.8","v":0},{"$f":"AG76","v":0},{"$f":"AJ75-AK75","v":0},{"$f":"ROUNDDOWN(AL75*請求書・納品書!$M$11,)","v":0}]
["遅・早(出)",null,null,null,null,null,null,null,null,null,null,null,null,null,null,null,null,null,null,null,null,null,null,null,null,null,null,null,null,null,null,null,{"$f":"SUM(B76:AF76)","v":0},"　残業",null,null,null,{"$f":"AG75","v":0},{"$f":"ROUNDDOWN(AL76*請求書・納品書!$M$12,)","v":0}]
["遅・早(公)",null,null,null,null,null,null,null,null,null,null,null,null,null,null,null,null,null,null,null,null,null,null,null,null,null,null,null,null,null,null,null,{"$f":"SUM(B77:AF77)","v":0},"　公出",{"$f":"COUNTIF(B74:AF74,\"公\")","v":0},{"$f":"AI77*7.8","v":0},{"$f":"AG77","v":0},{"$f":"AJ77-AK77","v":0},{"$f":"ROUNDDOWN(AL77*請求書・納品書!$M$13,)","v":0}]
["連続",null,null,null,null,null,null,null,null,null,null,null,null,null,null,null,null,null,null,null,null,null,null,null,null,null,null,null,null,null,null,null,{"$f":"SUM(B78:AF78)","v":0},"　連続",null,null,null,{"$f":"AG78","v":0},{"$f":"AL78*請求書・納品書!$M$14","v":0}]
[null,null,null,null,null,null,null,null,null,null,null,null,null,null,null,null,null,null,null,null,null,null,null,null,null,null,null,null,null,null,null,null,null,null,null,null,null,"合　計",{"$f":"SUM(AM75:AM78)","v":0}]
[null,null,null,null,null,null,null,null,null,null,null,null,null,null,null,null,null,null,null,null,null,null,null,null,null,null,null,null,null,null,null,null,null,{"$f":"A80","v":0},"日数(日)","勤務時間(h)"," 早退（h）","合計(h)","金額(円)"]
["残業",null,null,null,null,null,null,null,null,null,null,null,null,null,null,null,null,null,null,null,null,null,null,null,null,null,null,null,null,null,null,null,{"$f":"SUM(B81:AF81)","v":0},"　出勤",{"$f":"COUNTIF(B80:AF80,\"出\")","v":0},{"$f":"AI81*7.8","v":0},{"$f":"AG82","v":0},{"$f":"AJ81-AK81","v":0},{"$f":"ROUNDDOWN(AL81*請求書・納品書!$M$11,)","v":0}]
["遅・早(出)",null,null,null,null,null,null,null,null,null,null,null,null,null,null,null,null,null,null,null,null,null,null,null,null,null,null,null,null,null,null,null,{"$f":"SUM(B82:AF82)","v":0},"　残業",null,null,null,{"$f":"AG81","v":0},{"$f":"ROUNDDOWN(AL82*請求書・納品書!$M$12,)","v":0}]
["遅・早(公)",null,null,null,null,null,null,null,null,null,null,null,null,null,null,null,null,null,null,null,null,null,null,null,null,null,null,null,null,null,null,null,{"$f":"SUM(B83:AF83)","v":0},"　公出",{"$f":"COUNTIF(B80:AF80,\"公\")","v":0},{"$f":"AI83*7.8","v":0},{"$f":"AG83","v":0},{"$f":"AJ83-AK83","v":0},{"$f":"ROUNDDOWN(AL83*請求書・納品書!$M$13,)","v":0}]
["連続",null,null,null,null,null,null,null,null,null,null,null,null,null,null,null,null,null,null,null,null,null,null,null,null,null,null,null,null,null,null,null,{"$f":"SUM(B84:AF84)","v":0},"　連続",null,null,null,{"$f":"AG84","v":0},{"$f":"AL84*請求書・納品書!$M$14","v":0}]
[null,null,null,null,null,null,null,null,null,null,null,null,null,null,null,null,null,null,null,null,null,null,null,null,null,null,null,null,null,null,null,null,null,null,null,null,null,"合　計",{"$f":"SUM(AM81:AM84)","v":0}]
[null,null,null,null,null,null,null,null,null,null,null,null,null,null,null,null,null,null,null,null,null,null,null,null,null,null,null,null,null,null,null,null,null,{"$f":"A86","v":0},"日数(日)","勤務時間(h)"," 早退（h）","合計(h)","金額(円)"]
["残業",null,null,null,null,null,null,null,null,null,null,null,null,null,null,null,null,null,null,null,null,null,null,null,null,null,null,null,null,null,null,null,{"$f":"SUM(B87:AF87)","v":0},"　出勤",{"$f":"COUNTIF(B86:AF86,\"出\")","v":0},{"$f":"AI87*7.8","v":0},{"$f":"AG88","v":0},{"$f":"AJ87-AK87","v":0},{"$f":"ROUNDDOWN(AL87*請求書・納品書!$M$11,)","v":0}]
["遅・早(出)",null,null,null,null,null,null,null,null,null,null,null,null,null,null,null,null,null,null,null,null,null,null,null,null,null,null,null,null,null,null,null,{"$f":"SUM(B88:AF88)","v":0},"　残業",null,null,null,{"$f":"AG87","v":0},{"$f":"ROUNDDOWN(AL88*請求書・納品書!$M$12,)","v":0}]
["遅・早(公)",null,null,null,null,null,null,null,null,null,null,null,null,null,null,null,null,null,null,null,null,null,null,null,null,null,null,null,null,null,null,null,{"$f":"SUM(B89:AF89)","v":0},"　公出",{"$f":"COUNTIF(B86:AF86,\"公\")","v":0},{"$f":"AI89*7.8","v":0},{"$f":"AG89","v":0},{"$f":"AJ89-AK89","v":0},{"$f":"ROUNDDOWN(AL89*請求書・納品書!$M$13,)","v":0}]
["連続",null,null,null,null,null,null,null,null,null,null,null,null,null,null,null,null,null,null,null,null,null,null,null,null,null,null,null,null,null,null,null,{"$f":"SUM(B90:AF90)","v":0},"　連続",null,null,null,{"$f":"AG90","v":0},{"$f":"AL90*請求書・納品書!$M$14","v":0}]
[null,null,null,null,null,null,null,null,null,null,null,null,null,null,null,null,null,null,null,null,null,null,null,null,null,null,null,null,null,null,null,null,null,null,null,null,null,"合　計",{"$f":"SUM(AM87:AM90)","v":0}]
[null,null,null,null,null,null,null,null,null,null,null,null,null,null,null,null,null,null,null,null,null,null,null,null,null,null,null,null,null,null,null,null,null,{"$f":"A92","v":0},"日数(日)","勤務時間(h)"," 早退（h）","合計(h)","金額(円)"]
["残業",null,null,null,null,null,null,null,null,null,null,null,null,null,null,null,null,null,null,null,null,null,null,null,null,null,null,null,null,null,null,null,{"$f":"SUM(B93:AF93)","v":0},"　出勤",{"$f":"COUNTIF(B92:AF92,\"出\")","v":0},{"$f":"AI93*7.8","v":0},{"$f":"AG94","v":0},{"$f":"AJ93-AK93","v":0},{"$f":"ROUNDDOWN(AL93*請求書・納品書!$M$11,)","v":0}]
["遅・早(出)",null,null,null,null,null,null,null,null,null,null,null,null,null,null,null,null,null,null,null,null,null,null,null,null,null,null,null,null,null,null,null,{"$f":"SUM(B94:AF94)","v":0},"　残業",null,null,null,{"$f":"AG93","v":0},{"$f":"ROUNDDOWN(AL94*請求書・納品書!$M$12,)","v":0}]
["遅・早(公)",null,null,null,null,null,null,null,null,null,null,null,null,null,null,null,null,null,null,null,null,null,null,null,null,null,null,null,null,null,null,null,{"$f":"SUM(B95:AF95)","v":0},"　公出",{"$f":"COUNTIF(B92:AF92,\"公\")","v":0},{"$f":"AI95*7.8","v":0},{"$f":"AG95","v":0},{"$f":"AJ95-AK95","v":0},{"$f":"ROUNDDOWN(AL95*請求書・納品書!$M$13,)","v":0}]
["連続",null,null,null,null,null,null,null,null,null,null,null,null,null,null,null,null,null,null,null,null,null,null,null,null,null,null,null,null,null,null,null,{"$f":"SUM(B96:AF96)","v":0},"　連続",null,null,null,{"$f":"AG96","v":0},{"$f":"AL96*請求書・納品書!$M$14","v":0}]
[null,null,null,null,null,null,null,null,null,null,null,null,null,null,null,null,null,null,null,null,null,null,null,null,null,null,null,null,null,null,null,null,null,null,null,null,null,"合　計",{"$f":"SUM(AM93:AM96)","v":0},null,{"$f":"AM79+AM85+AM91+AM97","v":0}]
[null,null,null,null,null,null,null,null,null,null,null,null,null,null,null,null,null,null,null,null,null,null,null,null,null,null,null,null,null,null,null,null,null,{"$f":"A98","v":0},"日数(日)","勤務時間(h)"," 早退（h）","合計(h)","金額(円)"]
["残業",null,null,null,null,null,null,null,null,null,null,null,null,null,null,null,null,null,null,null,null,null,null,null,null,null,null,null,null,null,null,null,{"$f":"SUM(B99:AF99)","v":0},"　出勤",{"$f":"COUNTIF(B98:AF98,\"出\")","v":0},{"$f":"AI99*7.8","v":0},{"$f":"AG100","v":0},{"$f":"AJ99-AK99","v":0},{"$f":"ROUNDDOWN(AL99*請求書・納品書!$M$11,)","v":0}]
["遅・早(出)",null,null,null,null,null,null,null,null,null,null,null,null,null,null,null,null,null,null,null,null,null,null,null,null,null,null,null,null,null,null,null,{"$f":"SUM(B100:AF100)","v":0},"　残業",null,null,null,{"$f":"AG99","v":0},{"$f":"ROUNDDOWN(AL100*請求書・納品書!$M$12,)","v":0}]
["遅・早(公)",null,null,null,null,null,null,null,null,null,null,null,null,null,null,null,null,null,null,null,null,null,null,null,null,null,null,null,null,null,null,null,{"$f":"SUM(B101:AF101)","v":0},"　公出",{"$f":"COUNTIF(B98:AF98,\"公\")","v":0},{"$f":"AI101*7.8","v":0},{"$f":"AG101","v":0},{"$f":"AJ101-AK101","v":0},{"$f":"ROUNDDOWN(AL101*請求書・納品書!$M$13,)","v":0}]
["連続",null,null,null,null,null,null,null,null,null,null,null,null,null,null,null,null,null,null,null,null,null,null,null,null,null,null,null,null,null,null,null,{"$f":"SUM(B102:AF102)","v":0},"　連続",null,null,null,{"$f":"AG102","v":0},{"$f":"AL102*請求書・納品書!$M$14","v":0}]
[null,null,null,null,null,null,null,null,null,null,null,null,null,null,null,null,null,null,null,null,null,null,null,null,null,null,null,null,null,null,null,null,null,null,null,null,null,"合　計",{"$f":"SUM(AM99:AM102)","v":0}]
[null,null,null,null,null,null,null,null,null,null,null,null,null,null,null,null,null,null,null,null,null,null,null,null,null,null,null,null,null,null,null,null,null,{"$f":"A104","v":0},"日数(日)","勤務時間(h)"," 早退（h）","合計(h)","金額(円)"]
["残業",null,null,null,null,null,null,null,null,null,null,null,null,null,null,null,null,null,null,null,null,null,null,null,null,null,null,null,null,null,null,null,{"$f":"SUM(B105:AF105)","v":0},"　出勤",{"$f":"COUNTIF(B104:AF104,\"出\")","v":0},{"$f":"AI105*7.8","v":0},{"$f":"AG106","v":0},{"$f":"AJ105-AK105","v":0},{"$f":"ROUNDDOWN(AL105*請求書・納品書!$M$11,)","v":0}]
["遅・早(出)",null,null,null,null,null,null,null,null,null,null,null,null,null,null,null,null,null,null,null,null,null,null,null,null,null,null,null,null,null,null,null,{"$f":"SUM(B106:AF106)","v":0},"　残業",null,null,null,{"$f":"AG105","v":0},{"$f":"ROUNDDOWN(AL106*請求書・納品書!$M$12,)","v":0}]
["遅・早(公)",null,null,null,null,null,null,null,null,null,null,null,null,null,null,null,null,null,null,null,null,null,null,null,null,null,null,null,null,null,null,null,{"$f":"SUM(B107:AF107)","v":0},"　公出",{"$f":"COUNTIF(B104:AF104,\"公\")","v":0},{"$f":"AI107*7.8","v":0},{"$f":"AG107","v":0},{"$f":"AJ107-AK107","v":0},{"$f":"ROUNDDOWN(AL107*請求書・納品書!$M$13,)","v":0}]
["連続",null,null,null,null,null,null,null,null,null,null,null,null,null,null,null,null,null,null,null,null,null,null,null,null,null,null,null,null,null,null,null,{"$f":"SUM(B108:AF108)","v":0},"　連続",null,null,null,{"$f":"AG108","v":0},{"$f":"AL108*請求書・納品書!$M$14","v":0}]
[null,null,null,null,null,null,null,null,null,null,null,null,null,null,null,null,null,null,null,null,null,null,null,null,null,null,null,null,null,null,null,null,null,null,null,null,null,"合　計",{"$f":"SUM(AM105:AM108)","v":0}]
[null,null,null,null,null,null,null,null,null,null,null,null,null,null,null,null,null,null,null,null,null,null,null,null,null,null,null,null,null,null,null,null,null,{"$f":"A110","v":0},"日数(日)","勤務時間(h)"," 早退（h）","合計(h)","金額(円)"]
["残業",null,null,null,null,null,null,null,null,null,null,null,null,null,null,null,null,null,null,null,null,null,null,null,null,null,null,null,null,null,null,null,{"$f":"SUM(B111:AF111)","v":0},"　出勤",{"$f":"COUNTIF(B110:AF110,\"出\")","v":0},{"$f":"AI111*7.8","v":0},{"$f":"AG112","v":0},{"$f":"AJ111-AK111","v":0},{"$f":"ROUNDDOWN(AL111*請求書・納品書!$M$11,)","v":0}]
["遅・早(出)",null,null,null,null,null,null,null,null,null,null,null,null,null,null,null,null,null,null,null,null,null,null,null,null,null,null,null,null,null,null,null,{"$f":"SUM(B112:AF112)","v":0},"　残業",null,null,null,{"$f":"AG111","v":0},{"$f":"ROUNDDOWN(AL112*請求書・納品書!$M$12,)","v":0}]
["遅・早(公)",null,null,null,null,null,null,null,null,null,null,null,null,null,null,null,null,null,null,null,null,null,null,null,null,null,null,null,null,null,null,null,{"$f":"SUM(B113:AF113)","v":0},"　公出",{"$f":"COUNTIF(B110:AF110,\"公\")","v":0},{"$f":"AI113*7.8","v":0},{"$f":"AG113","v":0},{"$f":"AJ113-AK113","v":0},{"$f":"ROUNDDOWN(AL113*請求書・納品書!$M$13,)","v":0}]
["連続",null,null,null,null,null,null,null,null,null,null,null,null,null,null,null,null,null,null,null,null,null,null,null,null,null,null,null,null,null,null,null,{"$f":"SUM(B114:AF114)","v":0},"　連続",null,null,null,{"$f":"AG114","v":0},{"$f":"AL114*請求書・納品書!$M$14","v":0}]
[null,null,null,null,null,null,null,null,null,null,null,null,null,null,null,null,null,null,null,null,null,null,null,null,null,null,null,null,null,null,null,null,null,null,null,null,null,"合　計",{"$f":"SUM(AM111:AM114)","v":0}]
[null,null,null,null,null,null,null,null,null,null,null,null,null,null,null,null,null,null,null,null,null,null,null,null,null,null,null,null,null,null,null,null,null,{"$f":"A116","v":0},"日数(日)","勤務時間(h)"," 早退（h）","合計(h)","金額(円)"]
["残業",null,null,null,null,null,null,null,null,null,null,null,null,null,null,null,null,null,null,null,null,null,null,null,null,null,null,null,null,null,null,null,{"$f":"SUM(B117:AF117)","v":0},"　出勤",{"$f":"COUNTIF(B116:AF116,\"出\")","v":0},{"$f":"AI117*7.8","v":0},{"$f":"AG118","v":0},{"$f":"AJ117-AK117","v":0},{"$f":"ROUNDDOWN(AL117*請求書・納品書!$M$11,)","v":0}]
["遅・早(出)",null,null,null,null,null,null,null,null,null,null,null,null,null,null,null,null,null,null,null,null,null,null,null,null,null,null,null,null,null,null,null,{"$f":"SUM(B118:AF118)","v":0},"　残業",null,null,null,{"$f":"AG117","v":0},{"$f":"ROUNDDOWN(AL118*請求書・納品書!$M$12,)","v":0}]
["遅・早(公)",null,null,null,null,null,null,null,null,null,null,null,null,null,null,null,null,null,null,null,null,null,null,null,null,null,null,null,null,null,null,null,{"$f":"SUM(B119:AF119)","v":0},"　公出",{"$f":"COUNTIF(B116:AF116,\"公\")","v":0},{"$f":"AI119*7.8","v":0},{"$f":"AG119","v":0},{"$f":"AJ119-AK119","v":0},{"$f":"ROUNDDOWN(AL119*請求書・納品書!$M$13,)","v":0}]
["連続",null,null,null,null,null,null,null,null,null,null,null,null,null,null,null,null,null,null,null,null,null,null,null,null,null,null,null,null,null,null,null,{"$f":"SUM(B120:AF120)","v":0},"　連続",null,null,null,{"$f":"AG120","v":0},{"$f":"AL120*請求書・納品書!$M$14","v":0}]
[null,null,null,null,null,null,null,null,null,null,null,null,null,null,null,null,null,null,null,null,null,null,null,null,null,null,null,null,null,null,null,null,null,null,null,null,null,"合　計",{"$f":"SUM(AM117:AM120)","v":0},null,{"$f":"AM103+AM109+AM115+AM121","v":0}]
[null,null,null,null,null,null,null,null,null,null,null,null,null,null,null,null,null,null,null,null,null,null,null,null,null,null,null,null,null,null,null,null,null,{"$f":"A122","v":0},"日数(日)","勤務時間(h)"," 早退（h）","合計(h)","金額(円)"]
["残業",null,null,null,null,null,null,null,null,null,null,null,null,null,null,null,null,null,null,null,null,null,null,null,null,null,null,null,null,null,null,null,{"$f":"SUM(B123:AF123)","v":0},"　出勤",{"$f":"COUNTIF(B122:AF122,\"出\")","v":0},{"$f":"AI123*7.8","v":0},{"$f":"AG124","v":0},{"$f":"AJ123-AK123","v":0},{"$f":"ROUNDDOWN(AL123*請求書・納品書!$M$11,)","v":0}]
["遅・早(出)",null,null,null,null,null,null,null,null,null,null,null,null,null,null,null,null,null,null,null,null,null,null,null,null,null,null,null,null,null,null,null,{"$f":"SUM(B124:AF124)","v":0},"　残業",null,null,null,{"$f":"AG123","v":0},{"$f":"ROUNDDOWN(AL124*請求書・納品書!$M$12,)","v":0}]
["遅・早(公)",null,null,null,null,null,null,null,null,null,null,null,null,null,null,null,null,null,null,null,null,null,null,null,null,null,null,null,null,null,null,null,{"$f":"SUM(B125:AF125)","v":0},"　公出",{"$f":"COUNTIF(B122:AF122,\"公\")","v":0},{"$f":"AI125*7.8","v":0},{"$f":"AG125","v":0},{"$f":"AJ125-AK125","v":0},{"$f":"ROUNDDOWN(AL125*請求書・納品書!$M$13,)","v":0}]
["連続",null,null,null,null,null,null,null,null,null,null,null,null,null,null,null,null,null,null,null,null,null,null,null,null,null,null,null,null,null,null,null,{"$f":"SUM(B126:AF126)","v":0},"　連続",null,null,null,{"$f":"AG126","v":0},{"$f":"AL126*請求書・納品書!$M$14","v":0}]
[null,null,null,null,null,null,null,null,null,null,null,null,null,null,null,null,null,null,null,null,null,null,null,null,null,null,null,null,null,null,null,null,null,null,null,null,null,"合　計",{"$f":"SUM(AM123:AM126)","v":0}]
[null,null,null,null,null,null,null,null,null,null,null,null,null,null,null,null,null,null,null,null,null,null,null,null,null,null,null,null,null,null,null,null,null,{"$f":"A128","v":0},"日数(日)","勤務時間(h)"," 早退（h）","合計(h)","金額(円)"]
["残業",null,null,null,null,null,null,null,null,null,null,null,null,null,null,null,null,null,null,null,null,null,null,null,null,null,null,null,null,null,null,null,{"$f":"SUM(B129:AF129)","v":0},"　出勤",{"$f":"COUNTIF(B128:AF128,\"出\")","v":0},{"$f":"AI129*7.8","v":0},{"$f":"AG130","v":0},{"$f":"AJ129-AK129","v":0},{"$f":"ROUNDDOWN(AL129*請求書・納品書!$M$11,)","v":0}]
["遅・早(出)",null,null,null,null,null,null,null,null,null,null,null,null,null,null,null,null,null,null,null,null,null,null,null,null,null,null,null,null,null,null,null,{"$f":"SUM(B130:AF130)","v":0},"　残業",null,null,null,{"$f":"AG129","v":0},{"$f":"ROUNDDOWN(AL130*請求書・納品書!$M$12,)","v":0}]
["遅・早(公)",null,null,null,null,null,null,null,null,null,null,null,null,null,null,null,null,null,null,null,null,null,null,null,null,null,null,null,null,null,null,null,{"$f":"SUM(B131:AF131)","v":0},"　公出",{"$f":"COUNTIF(B128:AF128,\"公\")","v":0},{"$f":"AI131*7.8","v":0},{"$f":"AG131","v":0},{"$f":"AJ131-AK131","v":0},{"$f":"ROUNDDOWN(AL131*請求書・納品書!$M$13,)","v":0}]
["連続",null,null,null,null,null,null,null,null,null,null,null,null,null,null,null,null,null,null,null,null,null,null,null,null,null,null,null,null,null,null,null,{"$f":"SUM(B132:AF132)","v":0},"　連続",null,null,null,{"$f":"AG132","v":0},{"$f":"AL132*請求書・納品書!$M$14","v":0}]
[null,null,null,null,null,null,null,null,null,null,null,null,null,null,null,null,null,null,null,null,null,null,null,null,null,null,null,null,null,null,null,null,null,null,null,null,null,"合　計",{"$f":"SUM(AM129:AM132)","v":0}]
[null,null,null,null,null,null,null,null,null,null,null,null,null,null,null,null,null,null,null,null,null,null,null,null,null,null,null,null,null,null,null,null,null,{"$f":"A134","v":0},"日数(日)","勤務時間(h)"," 早退（h）","合計(h)","金額(円)"]
["残業",null,null,null,null,null,null,null,null,null,null,null,null,null,null,null,null,null,null,null,null,null,null,null,null,null,null,null,null,null,null,null,{"$f":"SUM(B135:AF135)","v":0},"　出勤",{"$f":"COUNTIF(B134:AF134,\"出\")","v":0},{"$f":"AI135*7.8","v":0},{"$f":"AG136","v":0},{"$f":"AJ135-AK135","v":0},{"$f":"ROUNDDOWN(AL135*請求書・納品書!$M$11,)","v":0}]
["遅・早(出)",null,null,null,null,null,null,null,null,null,null,null,null,null,null,null,null,null,null,null,null,null,null,null,null,null,null,null,null,null,null,null,{"$f":"SUM(B136:AF136)","v":0},"　残業",null,null,null,{"$f":"AG135","v":0},{"$f":"ROUNDDOWN(AL136*請求書・納品書!$M$12,)","v":0}]
["遅・早(公)",null,null,null,null,null,null,null,null,null,null,null,null,null,null,null,null,null,null,null,null,null,null,null,null,null,null,null,null,null,null,null,{"$f":"SUM(B137:AF137)","v":0},"　公出",{"$f":"COUNTIF(B134:AF134,\"公\")","v":0},{"$f":"AI137*7.8","v":0},{"$f":"AG137","v":0},{"$f":"AJ137-AK137","v":0},{"$f":"ROUNDDOWN(AL137*請求書・納品書!$M$13,)","v":0}]
["連続",null,null,null,null,null,null,null,null,null,null,null,null,null,null,null,null,null,null,null,null,null,null,null,null,null,null,null,null,null,null,null,{"$f":"SUM(B138:AF138)","v":0},"　連続",null,null,null,{"$f":"AG138","v":0},{"$f":"AL138*請求書・納品書!$M$14","v":0}]
[null,null,null,null,null,null,null,null,null,null,null,null,null,null,null,null,null,null,null,null,null,null,null,null,null,null,null,null,null,null,null,null,null,null,null,null,null,"合　計",{"$f":"SUM(AM135:AM138)","v":0}]
[null,null,null,null,null,null,null,null,null,null,null,null,null,null,null,null,null,null,null,null,null,null,null,null,null,null,null,null,null,null,null,null,null,{"$f":"A140","v":0},"日数(日)","勤務時間(h)"," 早退（h）","合計(h)","金額(円)"]
["残業",null,null,null,null,null,null,null,null,null,null,null,null,null,null,null,null,null,null,null,null,null,null,null,null,null,null,null,null,null,null,null,{"$f":"SUM(B141:AF141)","v":0},"　出勤",{"$f":"COUNTIF(B140:AF140,\"出\")","v":0},{"$f":"AI141*7.8","v":0},{"$f":"AG142","v":0},{"$f":"AJ141-AK141","v":0},{"$f":"ROUNDDOWN(AL141*請求書・納品書!$M$11,)","v":0}]
["遅・早(出)",null,null,null,null,null,null,null,null,null,null,null,null,null,null,null,null,null,null,null,null,null,null,null,null,null,null,null,null,null,null,null,{"$f":"SUM(B142:AF142)","v":0},"　残業",null,null,null,{"$f":"AG141","v":0},{"$f":"ROUNDDOWN(AL142*請求書・納品書!$M$12,)","v":0}]
["遅・早(公)",null,null,null,null,null,null,null,null,null,null,null,null,null,null,null,null,null,null,null,null,null,null,null,null,null,null,null,null,null,null,null,{"$f":"SUM(B143:AF143)","v":0},"　公出",{"$f":"COUNTIF(B140:AF140,\"公\")","v":0},{"$f":"AI143*7.8","v":0},{"$f":"AG143","v":0},{"$f":"AJ143-AK143","v":0},{"$f":"ROUNDDOWN(AL143*請求書・納品書!$M$13,)","v":0}]
["連続",null,null,null,null,null,null,null,null,null,null,null,null,null,null,null,null,null,null,null,null,null,null,null,null,null,null,null,null,null,null,null,{"$f":"SUM(B144:AF144)","v":0},"　連続",null,null,null,{"$f":"AG144","v":0},{"$f":"AL144*請求書・納品書!$M$14","v":0}]
[null,null,null,null,null,null,null,null,null,null,null,null,null,null,null,null,null,null,null,null,null,null,null,null,null,null,null,null,null,null,null,null,null,null,null,null,null,"合　計",{"$f":"SUM(AM141:AM144)","v":0},null,{"$f":"AM127+AM133+AM139+AM145","v":0}]
[null,null,null,null,null,null,null,null,null,null,null,null,null,null,null,null,null,null,null,null,null,null,null,null,null,null,null,null,null,null,null,null,null,{"$f":"A146","v":0},"日数(日)","勤務時間(h)"," 早退（h）","合計(h)","金額(円)"]
["残業",null,null,null,null,null,null,null,null,null,null,null,null,null,null,null,null,null,null,null,null,null,null,null,null,null,null,null,null,null,null,null,{"$f":"SUM(B147:AF147)","v":0},"　出勤",{"$f":"COUNTIF(B146:AF146,\"出\")","v":0},{"$f":"AI147*7.8","v":0},{"$f":"AG148","v":0},{"$f":"AJ147-AK147","v":0},{"$f":"ROUNDDOWN(AL147*請求書・納品書!$M$11,)","v":0}]
["遅・早(出)",null,null,null,null,null,null,null,null,null,null,null,null,null,null,null,null,null,null,null,null,null,null,null,null,null,null,null,null,null,null,null,{"$f":"SUM(B148:AF148)","v":0},"　残業",null,null,null,{"$f":"AG147","v":0},{"$f":"ROUNDDOWN(AL148*請求書・納品書!$M$12,)","v":0}]
["遅・早(公)",null,null,null,null,null,null,null,null,null,null,null,null,null,null,null,null,null,null,null,null,null,null,null,null,null,null,null,null,null,null,null,{"$f":"SUM(B149:AF149)","v":0},"　公出",{"$f":"COUNTIF(B146:AF146,\"公\")","v":0},{"$f":"AI149*7.8","v":0},{"$f":"AG149","v":0},{"$f":"AJ149-AK149","v":0},{"$f":"ROUNDDOWN(AL149*請求書・納品書!$M$13,)","v":0}]
["連続",null,null,null,null,null,null,null,null,null,null,null,null,null,null,null,null,null,null,null,null,null,null,null,null,null,null,null,null,null,null,null,{"$f":"SUM(B150:AF150)","v":0},"　連続",null,null,null,{"$f":"AG150","v":0},{"$f":"AL150*請求書・納品書!$M$14","v":0}]
[null,null,null,null,null,null,null,null,null,null,null,null,null,null,null,null,null,null,null,null,null,null,null,null,null,null,null,null,null,null,null,null,null,null,null,null,null,"合　計",{"$f":"SUM(AM147:AM150)","v":0}]
[null,null,null,null,null,null,null,null,null,null,null,null,null,null,null,null,null,null,null,null,null,null,null,null,null,null,null,null,null,null,null,null,null,{"$f":"A152","v":0},"日数(日)","勤務時間(h)"," 早退（h）","合計(h)","金額(円)"]
["残業",null,null,null,null,null,null,null,null,null,null,null,null,null,null,null,null,null,null,null,null,null,null,null,null,null,null,null,null,null,null,null,{"$f":"SUM(B153:AF153)","v":0},"　出勤",{"$f":"COUNTIF(B152:AF152,\"出\")","v":0},{"$f":"AI153*7.8","v":0},{"$f":"AG154","v":0},{"$f":"AJ153-AK153","v":0},{"$f":"ROUNDDOWN(AL153*請求書・納品書!$M$11,)","v":0}]
["遅・早(出)",null,null,null,null,null,null,null,null,null,null,null,null,null,null,null,null,null,null,null,null,null,null,null,null,null,null,null,null,null,null,null,{"$f":"SUM(B154:AF154)","v":0},"　残業",null,null,null,{"$f":"AG153","v":0},{"$f":"ROUNDDOWN(AL154*請求書・納品書!$M$12,)","v":0}]
["遅・早(公)",null,null,null,null,null,null,null,null,null,null,null,null,null,null,null,null,null,null,null,null,null,null,null,null,null,null,null,null,null,null,null,{"$f":"SUM(B155:AF155)","v":0},"　公出",{"$f":"COUNTIF(B152:AF152,\"公\")","v":0},{"$f":"AI155*7.8","v":0},{"$f":"AG155","v":0},{"$f":"AJ155-AK155","v":0},{"$f":"ROUNDDOWN(AL155*請求書・納品書!$M$13,)","v":0}]
["連続",null,null,null,null,null,null,null,null,null,null,null,null,null,null,null,null,null,null,null,null,null,null,null,null,null,null,null,null,null,null,null,{"$f":"SUM(B156:AF156)","v":0},"　連続",null,null,null,{"$f":"AG156","v":0},{"$f":"AL156*請求書・納品書!$M$14","v":0}]
[null,null,null,null,null,null,null,null,null,null,null,null,null,null,null,null,null,null,null,null,null,null,null,null,null,null,null,null,null,null,null,null,null,null,null,null,null,"合　計",{"$f":"SUM(AM153:AM156)","v":0}]
[null,null,null,null,null,null,null,null,null,null,null,null,null,null,null,null,null,null,null,null,null,null,null,null,null,null,null,null,null,null,null,null,null,{"$f":"A158","v":0},"日数(日)","勤務時間(h)"," 早退（h）","合計(h)","金額(円)"]
["残業",null,null,null,null,null,null,null,null,null,null,null,null,null,null,null,null,null,null,null,null,null,null,null,null,null,null,null,null,null,null,null,{"$f":"SUM(B159:AF159)","v":0},"　出勤",{"$f":"COUNTIF(B158:AF158,\"出\")","v":0},{"$f":"AI159*7.8","v":0},{"$f":"AG160","v":0},{"$f":"AJ159-AK159","v":0},{"$f":"ROUNDDOWN(AL159*請求書・納品書!$M$11,)","v":0}]
["遅・早(出)",null,null,null,null,null,null,null,null,null,null,null,null,null,null,null,null,null,null,null,null,null,null,null,null,null,null,null,null,null,null,null,{"$f":"SUM(B160:AF160)","v":0},"　残業",null,null,null,{"$f":"AG159","v":0},{"$f":"ROUNDDOWN(AL160*請求書・納品書!$M$12,)","v":0}]
["遅・早(公)",null,null,null,null,null,null,null,null,null,null,null,null,null,null,null,null,null,null,null,null,null,null,null,null,null,null,null,null,null,null,null,{"$f":"SUM(B161:AF161)","v":0},"　公出",{"$f":"COUNTIF(B158:AF158,\"公\")","v":0},{"$f":"AI161*7.8","v":0},{"$f":"AG161","v":0},{"$f":"AJ161-AK161","v":0},{"$f":"ROUNDDOWN(AL161*請求書・納品書!$M$13,)","v":0}]
["連続",null,null,null,null,null,null,null,null,null,null,null,null,null,null,null,null,null,null,null,null,null,null,null,null,null,null,null,null,null,null,null,{"$f":"SUM(B162:AF162)","v":0},"　連続",null,null,null,{"$f":"AG162","v":0},{"$f":"AL162*請求書・納品書!$M$14","v":0}]
[null,null,null,null,null,null,null,null,null,null,null,null,null,null,null,null,null,null,null,null,null,null,null,null,null,null,null,null,null,null,null,null,null,null,null,null,null,"合　計",{"$f":"SUM(AM159:AM162)","v":0}]
[null,null,null,null,null,null,null,null,null,null,null,null,null,null,null,null,null,null,null,null,null,null,null,null,null,null,null,null,null,null,null,null,null,{"$f":"A164","v":0},"日数(日)","勤務時間(h)"," 早退（h）","合計(h)","金額(円)"]
["残業",null,null,null,null,null,null,null,null,null,null,null,null,null,null,null,null,null,null,null,null,null,null,null,null,null,null,null,null,null,null,null,{"$f":"SUM(B165:AF165)","v":0},"　出勤",{"$f":"COUNTIF(B164:AF164,\"出\")","v":0},{"$f":"AI165*7.8","v":0},{"$f":"AG166","v":0},{"$f":"AJ165-AK165","v":0},{"$f":"ROUNDDOWN(AL165*請求書・納品書!$M$11,)","v":0}]
["遅・早(出)",null,null,null,null,null,null,null,null,null,null,null,null,null,null,null,null,null,null,null,null,null,null,null,null,null,null,null,null,null,null,null,{"$f":"SUM(B166:AF166)","v":0},"　残業",null,null,null,{"$f":"AG165","v":0},{"$f":"ROUNDDOWN(AL166*請求書・納品書!$M$12,)","v":0}]
["遅・早(公)",null,null,null,null,null,null,null,null,null,null,null,null,null,null,null,null,null,null,null,null,null,null,null,null,null,null,null,null,null,null,null,{"$f":"SUM(B167:AF167)","v":0},"　公出",{"$f":"COUNTIF(B164:AF164,\"公\")","v":0},{"$f":"AI167*7.8","v":0},{"$f":"AG167","v":0},{"$f":"AJ167-AK167","v":0},{"$f":"ROUNDDOWN(AL167*請求書・納品書!$M$13,)","v":0}]
["連続",null,null,null,null,null,null,null,null,null,null,null,null,null,null,null,null,null,null,null,null,null,null,null,null,null,null,null,null,null,null,null,{"$f":"SUM(B168:AF168)","v":0},"　連続",null,null,null,{"$f":"AG168","v":0},{"$f":"AL168*請求書・納品書!$M$14","v":0}]
[null,null,null,null,null,null,null,null,null,null,null,null,null,null,null,null,null,null,null,null,null,null,null,null,null,null,null,null,null,null,null,null,null,null,null,null,null,"合　計",{"$f":"SUM(AM165:AM168)","v":0},null,{"$f":"AM151+AM157+AM163+AM169","v":0}]
[null,null,null,null,null,null,null,null,null,null,null,null,null,null,null,null,null,null,null,null,null,null,null,null,null,null,null,null,null,null,null,null,null,{"$f":"A170","v":0},"日数(日)","勤務時間(h)"," 早退（h）","合計(h)","金額(円)"]
["残業",null,null,null,null,null,null,null,null,null,null,null,null,null,null,null,null,null,null,null,null,null,null,null,null,null,null,null,null,null,null,null,{"$f":"SUM(B171:AF171)","v":0},"　出勤",{"$f":"COUNTIF(B170:AF170,\"出\")","v":0},{"$f":"AI171*7.8","v":0},{"$f":"AG172","v":0},{"$f":"AJ171-AK171","v":0},{"$f":"ROUNDDOWN(AL171*請求書・納品書!$M$11,)","v":0}]
["遅・早(出)",null,null,null,null,null,null,null,null,null,null,null,null,null,null,null,null,null,null,null,null,null,null,null,null,null,null,null,null,null,null,null,{"$f":"SUM(B172:AF172)","v":0},"　残業",null,null,null,{"$f":"AG171","v":0},{"$f":"ROUNDDOWN(AL172*請求書・納品書!$M$12,)","v":0}]
["遅・早(公)",null,null,null,null,null,null,null,null,null,null,null,null,null,null,null,null,null,null,null,null,null,null,null,null,null,null,null,null,null,null,null,{"$f":"SUM(B173:AF173)","v":0},"　公出",{"$f":"COUNTIF(B170:AF170,\"公\")","v":0},{"$f":"AI173*7.8","v":0},{"$f":"AG173","v":0},{"$f":"AJ173-AK173","v":0},{"$f":"ROUNDDOWN(AL173*請求書・納品書!$M$13,)","v":0}]
["連続",null,null,null,null,null,null,null,null,null,null,null,null,null,null,null,null,null,null,null,null,null,null,null,null,null,null,null,null,null,null,null,{"$f":"SUM(B174:AF174)","v":0},"　連続",null,null,null,{"$f":"AG174","v":0},{"$f":"AL174*請求書・納品書!$M$14","v":0}]
[null,null,null,null,null,null,null,null,null,null,null,null,null,null,null,null,null,null,null,null,null,null,null,null,null,null,null,null,null,null,null,null,null,null,null,null,null,"合　計",{"$f":"SUM(AM171:AM174)","v":0}]
[null,null,null,null,null,null,null,null,null,null,null,null,null,null,null,null,null,null,null,null,null,null,null,null,null,null,null,null,null,null,null,null,null,{"$f":"A176","v":0},"日数(日)","勤務時間(h)"," 早退（h）","合計(h)","金額(円)"]
["残業",null,null,null,null,null,null,null,null,null,null,null,null,null,null,null,null,null,null,null,null,null,null,null,null,null,null,null,null,null,null,null,{"$f":"SUM(B177:AF177)","v":0},"　出勤",{"$f":"COUNTIF(B176:AF176,\"出\")","v":0},{"$f":"AI177*7.8","v":0},{"$f":"AG178","v":0},{"$f":"AJ177-AK177","v":0},{"$f":"ROUNDDOWN(AL177*請求書・納品書!$M$11,)","v":0}]
["遅・早(出)",null,null,null,null,null,null,null,null,null,null,null,null,null,null,null,null,null,null,null,null,null,null,null,null,null,null,null,null,null,null,null,{"$f":"SUM(B178:AF178)","v":0},"　残業",null,null,null,{"$f":"AG177","v":0},{"$f":"ROUNDDOWN(AL178*請求書・納品書!$M$12,)","v":0}]
["遅・早(公)",null,null,null,null,null,null,null,null,null,null,null,null,null,null,null,null,null,null,null,null,null,null,null,null,null,null,null,null,null,null,null,{"$f":"SUM(B179:AF179)","v":0},"　公出",{"$f":"COUNTIF(B176:AF176,\"公\")","v":0},{"$f":"AI179*7.8","v":0},{"$f":"AG179","v":0},{"$f":"AJ179-AK179","v":0},{"$f":"ROUNDDOWN(AL179*請求書・納品書!$M$13,)","v":0}]
["連続",null,null,null,null,null,null,null,null,null,null,null,null,null,null,null,null,null,null,null,null,null,null,null,null,null,null,null,null,null,null,null,{"$f":"SUM(B180:AF180)","v":0},"　連続",null,null,null,{"$f":"AG180","v":0},{"$f":"AL180*請求書・納品書!$M$14","v":0}]
[null,null,null,null,null,null,null,null,null,null,null,null,null,null,null,null,null,null,null,null,null,null,null,null,null,null,null,null,null,null,null,null,null,null,null,null,null,"合　計",{"$f":"SUM(AM177:AM180)","v":0}]
[null,null,null,null,null,null,null,null,null,null,null,null,null,null,null,null,null,null,null,null,null,null,null,null,null,null,null,null,null,null,null,null,null,{"$f":"A182","v":0},"日数(日)","勤務時間(h)"," 早退（h）","合計(h)","金額(円)"]
["残業",null,null,null,null,null,null,null,null,null,null,null,null,null,null,null,null,null,null,null,null,null,null,null,null,null,null,null,null,null,null,null,{"$f":"SUM(B183:AF183)","v":0},"　出勤",{"$f":"COUNTIF(B182:AF182,\"出\")","v":0},{"$f":"AI183*7.8","v":0},{"$f":"AG184","v":0},{"$f":"AJ183-AK183","v":0},{"$f":"ROUNDDOWN(AL183*請求書・納品書!$M$11,)","v":0}]
["遅・早(出)",null,null,null,null,null,null,null,null,null,null,null,null,null,null,null,null,null,null,null,null,null,null,null,null,null,null,null,null,null,null,null,{"$f":"SUM(B184:AF184)","v":0},"　残業",null,null,null,{"$f":"AG183","v":0},{"$f":"ROUNDDOWN(AL184*請求書・納品書!$M$12,)","v":0}]
["遅・早(公)",null,null,null,null,null,null,null,null,null,null,null,null,null,null,null,null,null,null,null,null,null,null,null,null,null,null,null,null,null,null,null,{"$f":"SUM(B185:AF185)","v":0},"　公出",{"$f":"COUNTIF(B182:AF182,\"公\")","v":0},{"$f":"AI185*7.8","v":0},{"$f":"AG185","v":0},{"$f":"AJ185-AK185","v":0},{"$f":"ROUNDDOWN(AL185*請求書・納品書!$M$13,)","v":0}]
["連続",null,null,null,null,null,null,null,null,null,null,null,null,null,null,null,null,null,null,null,null,null,null,null,null,null,null,null,null,null,null,null,{"$f":"SUM(B186:AF186)","v":0},"　連続",null,null,null,{"$f":"AG186","v":0},{"$f":"AL186*請求書・納品書!$M$14","v":0}]
[null,null,null,null,null,null,null,null,null,null,null,null,null,null,null,null,null,null,null,null,null,null,null,null,null,null,null,null,null,null,null,null,null,null,null,null,null,"合　計",{"$f":"SUM(AM183:AM186)","v":0}]
[null,null,null,null,null,null,null,null,null,null,null,null,null,null,null,null,null,null,null,null,null,null,null,null,null,null,null,null,null,null,null,null,null,{"$f":"A188","v":0},"日数(日)","勤務時間(h)"," 早退（h）","合計(h)","金額(円)"]
["残業",null,null,null,null,null,null,null,null,null,null,null,null,null,null,null,null,null,null,null,null,null,null,null,null,null,null,null,null,null,null,null,{"$f":"SUM(B189:AF189)","v":0},"　出勤",{"$f":"COUNTIF(B188:AF188,\"出\")","v":0},{"$f":"AI189*7.8","v":0},{"$f":"AG190","v":0},{"$f":"AJ189-AK189","v":0},{"$f":"ROUNDDOWN(AL189*請求書・納品書!$M$11,)","v":0}]
["遅・早(出)",null,null,null,null,null,null,null,null,null,null,null,null,null,null,null,null,null,null,null,null,null,null,null,null,null,null,null,null,null,null,null,{"$f":"SUM(B190:AF190)","v":0},"　残業",null,null,null,{"$f":"AG189","v":0},{"$f":"ROUNDDOWN(AL190*請求書・納品書!$M$12,)","v":0}]
["遅・早(公)",null,null,null,null,null,null,null,null,null,null,null,null,null,null,null,null,null,null,null,null,null,null,null,null,null,null,null,null,null,null,null,{"$f":"SUM(B191:AF191)","v":0},"　公出",{"$f":"COUNTIF(B188:AF188,\"公\")","v":0},{"$f":"AI191*7.8","v":0},{"$f":"AG191","v":0},{"$f":"AJ191-AK191","v":0},{"$f":"ROUNDDOWN(AL191*請求書・納品書!$M$13,)","v":0}]
["連続",null,null,null,null,null,null,null,null,null,null,null,null,null,null,null,null,null,null,null,null,null,null,null,null,null,null,null,null,null,null,null,{"$f":"SUM(B192:AF192)","v":0},"　連続",null,null,null,{"$f":"AG192","v":0},{"$f":"AL192*請求書・納品書!$M$14","v":0}]
[null,null,null,null,null,null,null,null,null,null,null,null,null,null,null,null,null,null,null,null,null,null,null,null,null,null,null,null,null,null,null,null,null,null,null,null,null,"合　計",{"$f":"SUM(AM189:AM192)","v":0},null,{"$f":"AM175+AM181+AM187+AM193","v":0}]

{"sheet":"請求書・納品書","index":12,"n_rows":53,"n_cols":13,"rows_kept":53,"cut":false,"hidden":false,"merged":[[4,5,4,6],[5,5,6,6],[8,5,8,8],[0,7,0,8],[1,4,1,5],[2,4,2,5],[8,1,8,4],[5,1,6,4],[4,1,4,4]]}
[4,null,null,null,null,null,2013,{"$f":"IF(E3=\"\",\"\",G1&\"年\"&IF(E3=12,1,E3+1)&\"月1日\")","v":"2013年5月1日"}]
[5,null,null,"①納品書に変更すると色が変わります　>>"]
[6,null,null,null,4,null,null,null,null,null,"②クリックだけで作成できます　>>"]
[7]
[8,"平成自動車部品株式会社　御中"]
[9,{"$f":"I53","v":0}]
[10]
[11,{"$f":"IF(B6-INDIRECT(E3&\"!\"&\"I6\")=0,,\"指定月シートの人数を入力し直してください。\")","v":0}]
[12,"備考：社内作業手伝い"]
[1]
[2,"品　名","数 量","単 価","合　計","品　名","数 量","単 価","合　計",null,null,"出勤",2200]
[3,null,null,{"$f":"IF(B12=\"\",0,IF(B12=\"　残業\",$M$12,IF(B12=\"　公出\",$M$13,IF(B12=\"　連続\",$M$14,$M$11))))","v":0},{"$f":"IF($E$2=\"請求書\",ROUNDDOWN(C12*D12,),INDIRECT($E$3&\"!F\"&(ROW()-11)*6))","v":0},null,null,{"$f":"IF(F12=\"\",0,IF(F12=\"　残業\",$M$12,IF(F12=\"　公出\",$M$13,IF(F12=\"　連続\",$M$14,$M$11))))","v":0},{"$f":"ROUNDDOWN(G12*H12,)","v":0},null,null,"残業",2468]
["請求書",null,null,{"$f":"IF(B13=\"\",0,IF(B13=\"　残業\",$M$12,IF(B13=\"　公出\",$M$13,IF(B13=\"　連続\",$M$14,$M$11))))","v":0},{"$f":"IF($E$2=\"請求書\",ROUNDDOWN(C13*D13,),INDIRECT($E$3&\"!F\"&(ROW()-11)*6))","v":0},null,null,{"$f":"IF(F13=\"\",0,IF(F13=\"　残業\",$M$12,IF(F13=\"　公出\",$M$13,IF(F13=\"　連続\",$M$14,$M$11))))","v":0},0,null,null,"公出",2937]
["納品書",null,null,{"$f":"IF(B14=\"\",0,IF(B14=\"　残業\",$M$12,IF(B14=\"　公出\",$M$13,IF(B14=\"　連続\",$M$14,$M$11))))","v":0},{"$f":"IF($E$2=\"請求書\",ROUNDDOWN(C14*D14,),INDIRECT($E$3&\"!F\"&(ROW()-11)*6))","v":0},null,null,{"$f":"IF(F14=\"\",0,IF(F14=\"　残業\",$M$12,IF(F14=\"　公出\",$M$13,IF(F14=\"　連続\",$M$14,$M$11))))","v":0},0,null,null,"連続",430]
[null,null,null,0,0,null,null,{"$f":"IF(F15=\"\",0,IF(F15=\"　残業\",$M$12,IF(F15=\"　公出\",$M$13,IF(F15=\"　連続\",$M$14,$M$11))))","v":0},0]
[null,null,null,0,0,null,null,{"$f":"IF(F16=\"\",0,IF(F16=\"　残業\",$M$12,IF(F16=\"　公出\",$M$13,IF(F16=\"　連続\",$M$14,$M$11))))","v":0},0]
[null,null,null,0,0,null,null,0,0]
[null,null,null,0,0,null,null,0,0]
[null,null,null,0,0,null,null,0,0]
[null,null,null,0,0,null,null,0,0]
[null,null,null,0,0,null,null,0,0]
[null,null,null,0,0,null,null,0,0]
[null,null,null,0,0,null,null,0,0]
[null,null,null,0,0,null,null,0,0]
[null,null,null,0,0,null,null,0,0]
[null,null,null,0,0,null,null,0,0]
[null,null,null,0,0,null,null,0,0]
[null,null,null,0,0,null,null,0,0]
[null,null,null,0,0,null,null,0,0]
[null,null,null,0,0,null,null,0,0]
[null,null,null,0,0,null,null,0,0]
[null,null,null,0,0,null,null,0,0]
[null,null,null,0,0,null,null,0,0]
[null,null,null,0,0,null,null,0,0]
[null,null,null,0,0,null,null,0,0]
[null,null,null,0,0,null,null,0,0]
[null,null,null,0,0,null,null,0,0]
[null,null,null,0,0,null,null,0,0]
[null,null,null,0,0,null,null,0,0]
[null,null,null,0,0,null,null,0,0]
[null,null,null,0,0,null,null,0,0]
[null,null,null,0,0,null,null,0,0]
[null,null,null,0,0,null,null,0,0]
[null,null,null,0,0,null,null,0,0]
[null,null,null,0,0,null,null,0,0]
[null,null,null,0,0,null,null,0,0]
[null,null,null,0,0,null,null,0,0]
[null,null,null,0,0,null,null,0,0]
[null,"　合計",null,null,null,null,null,null,{"$f":"SUM(E12:E48)+SUM(I12:I48)","v":0}]
[null,"　管理費",null,null,null,null,null,19400,{"$f":"G50*H50","v":0}]
[null,"　小計",null,null,null,null,null,null,{"$f":"I49+I50","v":0}]
[null,"　消費税",null,null,null,null,null,null,{"$f":"ROUNDDOWN(I51*0.05,)","v":0}]
[null,"　総合計",null,null,null,null,null,null,{"$f":"I51+I52","v":0}]

{"sheet":"査定資料","index":13,"n_rows":33,"n_cols":20,"rows_kept":33,"cut":false,"hidden":false,"merged":[]}
["従業員氏名",4,5,6,"合計","順位",7,8,9,10,11,"合計","順位",12,1,2,3,"合計","順位","総合計"]
[null,{"$f":"IF(ISERROR(INDIRECT(B$1&\"!AM\"&MATCH($A2,INDIRECT(B$1&\"!AH:AH\"),0)+5)),\"\",INDIRECT(B$1&\"!AM\"&MATCH($A2,INDIRECT(B$1&\"!AH:AH\"),0)+5))","v":0},{"$f":"IF(ISERROR(INDIRECT(C$1&\"!AM\"&MATCH($A2,INDIRECT(C$1&\"!AH:AH\"),0)+5)),\"\",INDIRECT(C$1&\"!AM\"&MATCH($A2,INDIRECT(C$1&\"!AH:AH\"),0)+5))","v":0},0,{"$f":"SUM(B2:D2)","v":0},{"$f":"RANK(E2,E$2:E$31,)","v":11},{"$f":"IF(ISERROR(INDIRECT(G$1&\"!AM\"&MATCH($A2,INDIRECT(G$1&\"!AH:AH\"),0)+5)),\"\",INDIRECT(G$1&\"!AM\"&MATCH($A2,INDIRECT(G$1&\"!AH:AH\"),0)+5))","v":0},{"$f":"IF(ISERROR(INDIRECT(H$1&\"!AM\"&MATCH($A2,INDIRECT(H$1&\"!AH:AH\"),0)+5)),\"\",INDIRECT(H$1&\"!AM\"&MATCH($A2,INDIRECT(H$1&\"!AH:AH\"),0)+5))","v":0},{"$f":"IF(ISERROR(INDIRECT(I$1&\"!AM\"&MATCH($A2,INDIRECT(I$1&\"!AH:AH\"),0)+5)),\"\",INDIRECT(I$1&\"!AM\"&MATCH($A2,INDIRECT(I$1&\"!AH:AH\"),0)+5))","v":0},{"$f":"IF(ISERROR(INDIRECT(J$1&\"!AM\"&MATCH($A2,INDIRECT(J$1&\"!AH:AH\"),0)+5)),\"\",INDIRECT(J$1&\"!AM\"&MATCH($A2,INDIRECT(J$1&\"!AH:AH\"),0)+5))","v":0},{"$f":"IF(ISERROR(INDIRECT(K$1&\"!AM\"&MATCH($A2,INDIRECT(K$1&\"!AH:AH\"),0)+5)),\"\",INDIRECT(K$1&\"!AM\"&MATCH($A2,INDIRECT(K$1&\"!AH:AH\"),0)+5))","v":0},{"$f":"SUM(G2:K2)","v":0},{"$f":"RANK(L2,L$2:L$31,)","v":1},{"$f":"IF(ISERROR(INDIRECT(N$1&\"!AM\"&MATCH($A2,INDIRECT(N$1&\"!AH:AH\"),0)+5)),\"\",INDIRECT(N$1&\"!AM\"&MATCH($A2,INDIRECT(N$1&\"!AH:AH\"),0)+5))","v":0},{"$f":"IF(ISERROR(INDIRECT(O$1&\"!AM\"&MATCH($A2,INDIRECT(O$1&\"!AH:AH\"),0)+5)),\"\",INDIRECT(O$1&\"!AM\"&MATCH($A2,INDIRECT(O$1&\"!AH:AH\"),0)+5))","v":0},{"$f":"IF(ISERROR(INDIRECT(P$1&\"!AM\"&MATCH($A2,INDIRECT(P$1&\"!AH:AH\"),0)+5)),\"\",INDIRECT(P$1&\"!AM\"&MATCH($A2,INDIRECT(P$1&\"!AH:AH\"),0)+5))","v":0},{"$f":"IF(ISERROR(INDIRECT(Q$1&\"!AM\"&MATCH($A2,INDIRECT(Q$1&\"!AH:AH\"),0)+5)),\"\",INDIRECT(Q$1&\"!AM\"&MATCH($A2,INDIRECT(Q$1&\"!AH:AH\"),0)+5))","v":0},{"$f":"SUM(N2:Q2)","v":0},{"$f":"RANK(R2,R$2:R$31,)","v":1},{"$f":"E2+L2+R2","v":0}]
[null,0,0,0,0,11,null,null,null,null,null,{"$f":"SUM(G3:K3)","v":0},1,null,null,null,null,0,1,{"$f":"E3+L3+R3","v":0}]
[null,{"$f":"IF(ISERROR(INDIRECT(B$1&\"!AM\"&MATCH($A4,INDIRECT(B$1&\"!AH:AH\"),0)+5)),\"\",INDIRECT(B$1&\"!AM\"&MATCH($A4,INDIRECT(B$1&\"!AH:AH\"),0)+5))","v":0},0,0,0,11,null,null,null,null,null,0,1,null,null,null,null,0,1,0]
[null,0,0,0,0,11,null,null,null,null,null,0,1,null,null,null,null,0,1,0]
["今原太一",437522,"","",437522,3,null,null,null,null,null,0,1,null,null,null,null,0,1,437522]
["金井雄太",406483,"","",406483,9,null,null,null,null,null,0,1,null,null,null,null,0,1,406483]
["広瀬　誠",402024,"","",402024,10,null,null,null,null,null,0,1,null,null,null,null,0,1,402024]
["田口勝也",422945,"","",422945,7,null,null,null,null,null,0,1,null,null,null,null,0,1,422945]
["相沢優斗",458231,"","",458231,1,null,null,null,null,null,0,1,null,null,null,null,0,1,458231]
["宇野雄介",446160,"","",446160,2,null,null,null,null,null,0,1,null,null,null,null,0,1,446160]
["遠藤　博",428890,"","",428890,6,null,null,null,null,null,0,1,null,null,null,null,0,1,428890]
["大山健史",430375,"","",430375,5,null,null,null,null,null,0,1,null,null,null,null,0,1,430375]
["木村智彦",421854,"","",421854,8,null,null,null,null,null,0,1,null,null,null,null,0,1,421854]
["久米博一",433854,"","",433854,4,null,null,null,null,null,0,1,null,null,null,null,0,1,433854]
[null,0,0,0,0,11,null,null,null,null,null,0,1,null,null,null,null,0,1,0]
[null,0,0,0,0,11,null,null,null,null,null,0,1,null,null,null,null,0,1,0]
[null,0,0,0,0,11,null,null,null,null,null,0,1,null,null,null,null,0,1,0]
[null,0,0,0,0,11,null,null,null,null,null,0,1,null,null,null,null,0,1,0]
[null,0,0,0,0,{"$f":"RANK(E20,E$2:E$31,)","v":11},null,null,null,null,null,0,{"$f":"RANK(L20,L$2:L$31,)","v":1},null,null,null,null,0,{"$f":"RANK(R20,R$2:R$31,)","v":1},0]
[null,0,0,0,0,{"$f":"RANK(E21,E$2:E$31,)","v":11},null,null,null,null,null,0,{"$f":"RANK(L21,L$2:L$31,)","v":1},null,null,null,null,0,{"$f":"RANK(R21,R$2:R$31,)","v":1},0]
[null,0,0,0,0,11,null,null,null,null,null,0,1,null,null,null,null,0,1,0]
[null,0,0,0,0,11,null,null,null,null,null,0,1,null,null,null,null,0,1,0]
[null,0,0,0,0,11,null,null,null,null,null,0,1,null,null,null,null,0,1,0]
[null,0,0,0,0,11,null,null,null,null,null,0,1,null,null,null,null,0,1,0]
[null,0,0,0,0,11,null,null,null,null,null,0,1,null,null,null,null,0,1,0]
[null,0,0,0,0,11,null,null,null,null,null,0,1,null,null,null,null,0,1,0]
[null,0,0,0,0,11,null,null,null,null,null,0,1,null,null,null,null,0,1,0]
[null,0,0,0,0,11,null,null,null,null,null,0,1,null,null,null,null,0,1,0]
[null,0,0,0,0,11,null,null,null,null,null,0,1,null,null,null,null,0,1,0]
[null,0,0,0,0,{"$f":"RANK(E31,E$2:E$33,)","v":11},null,null,null,null,null,0,{"$f":"RANK(L31,L$2:L$33,)","v":1},null,null,null,null,0,{"$f":"RANK(R31,R$2:R$33,)","v":1},0]
[null,0,0,0,0,{"$f":"RANK(E32,E$2:E$33,)","v":11},null,null,null,null,null,0,{"$f":"RANK(L32,L$2:L$33,)","v":1},null,null,null,null,0,{"$f":"RANK(R32,R$2:R$33,)","v":1},0]
[null,0,0,0,0,{"$f":"RANK(E33,E$2:E$33,)","v":11},null,null,null,null,null,0,{"$f":"RANK(L33,L$2:L$33,)","v":1},null,null,null,null,0,{"$f":"RANK(R33,R$2:R$33,)","v":1},0]